BEGIN:VCALENDAR
VERSION:2.0
PRODID:-//Holyoke Media - ECPv6.15.14//NONSGML v1.0//EN
CALSCALE:GREGORIAN
METHOD:PUBLISH
X-ORIGINAL-URL:https://holyokemedia.org
X-WR-CALDESC:Events for Holyoke Media
REFRESH-INTERVAL;VALUE=DURATION:PT1H
X-Robots-Tag:noindex
X-PUBLISHED-TTL:PT1H
BEGIN:VTIMEZONE
TZID:America/Halifax
BEGIN:DAYLIGHT
TZOFFSETFROM:-0400
TZOFFSETTO:-0300
TZNAME:ADT
DTSTART:20230312T060000
END:DAYLIGHT
BEGIN:STANDARD
TZOFFSETFROM:-0300
TZOFFSETTO:-0400
TZNAME:AST
DTSTART:20231105T050000
END:STANDARD
BEGIN:DAYLIGHT
TZOFFSETFROM:-0400
TZOFFSETTO:-0300
TZNAME:ADT
DTSTART:20240310T060000
END:DAYLIGHT
BEGIN:STANDARD
TZOFFSETFROM:-0300
TZOFFSETTO:-0400
TZNAME:AST
DTSTART:20241103T050000
END:STANDARD
BEGIN:DAYLIGHT
TZOFFSETFROM:-0400
TZOFFSETTO:-0300
TZNAME:ADT
DTSTART:20250309T060000
END:DAYLIGHT
BEGIN:STANDARD
TZOFFSETFROM:-0300
TZOFFSETTO:-0400
TZNAME:AST
DTSTART:20251102T050000
END:STANDARD
END:VTIMEZONE
BEGIN:VEVENT
DTSTART;TZID=America/Halifax:20240502T190000
DTEND;TZID=America/Halifax:20240502T220000
DTSTAMP:20260424T165058
CREATED:20240423T155559Z
LAST-MODIFIED:20240502T005435Z
UID:7045-1714676400-1714687200@holyokemedia.org
SUMMARY:Open Stage Showcase
DESCRIPTION:Discover Exciting New & Established Western New England Artists \nApril 9th 7:00 pm @Holyoke Media 1 Court Plaza Holyoke\, MA Free Admission \nSolo artists\, duos\, and trios performing their own original music.The New Music Alliance (501c(3) and Holyoke Media have partnered to present this monthly Showcase in the Brand New State-of-the-Art Holyoke Media Facility!Enjoy a great show in a superb acoustically-optimized listening room environment- Unique to this area! \nWho’s Appearing? (in order of appearance)* Norma Dream (Norma Jean Haynes)\, Northampton\, MA* Mantis Clay\, Easthampton\, MA* Austin James\, Hartford\, CT* The Bargain\, New Haven\, CT* 77 Apes\, New Haven\, CT* Jesse Brody (aka Jesse Lepkoff)\, Marlboro\, VT* Glenn Petit\, Easthampton\, MA–Your Host: Mark SherrySponsored by Downtown Sounds
URL:https://holyokemedia.org/event/new-music-alliance/
LOCATION:Holyoke Media\, 1 Court Plaza\, Holyoke\, MA\, 01040\, United States
CATEGORIES:music
END:VEVENT
END:VCALENDAR