BEGIN:VCALENDAR
VERSION:2.0
PRODID:-//Holyoke Media - ECPv6.15.14//NONSGML v1.0//EN
CALSCALE:GREGORIAN
METHOD:PUBLISH
X-WR-CALNAME:Holyoke Media
X-ORIGINAL-URL:https://holyokemedia.org
X-WR-CALDESC:Events for Holyoke Media
REFRESH-INTERVAL;VALUE=DURATION:PT1H
X-Robots-Tag:noindex
X-PUBLISHED-TTL:PT1H
BEGIN:VTIMEZONE
TZID:America/Halifax
BEGIN:DAYLIGHT
TZOFFSETFROM:-0400
TZOFFSETTO:-0300
TZNAME:ADT
DTSTART:20230312T060000
END:DAYLIGHT
BEGIN:STANDARD
TZOFFSETFROM:-0300
TZOFFSETTO:-0400
TZNAME:AST
DTSTART:20231105T050000
END:STANDARD
BEGIN:DAYLIGHT
TZOFFSETFROM:-0400
TZOFFSETTO:-0300
TZNAME:ADT
DTSTART:20240310T060000
END:DAYLIGHT
BEGIN:STANDARD
TZOFFSETFROM:-0300
TZOFFSETTO:-0400
TZNAME:AST
DTSTART:20241103T050000
END:STANDARD
BEGIN:DAYLIGHT
TZOFFSETFROM:-0400
TZOFFSETTO:-0300
TZNAME:ADT
DTSTART:20250309T060000
END:DAYLIGHT
BEGIN:STANDARD
TZOFFSETFROM:-0300
TZOFFSETTO:-0400
TZNAME:AST
DTSTART:20251102T050000
END:STANDARD
END:VTIMEZONE
BEGIN:VEVENT
DTSTART;TZID=America/Halifax:20240624T180000
DTEND;TZID=America/Halifax:20240624T190000
DTSTAMP:20260424T152943
CREATED:20240624T161250Z
LAST-MODIFIED:20240624T165043Z
UID:7695-1719252000-1719255600@holyokemedia.org
SUMMARY:Board of Public Works Special Meeting
DESCRIPTION:The special meeting of the Board of Public Works\, Sewer Commission and the Stormwater \nCommission will be held on Monday\, June 24\, 2024 at 6:00pm at Holyoke Media\, 23 Suffolk Street\, Holyoke MA. \nMeeting ID: 830 8429 5831\nPasscode: 715816 \nJoin Zoom meeting \nAgenda: \nCall to Order \n1. Consent Agenda \na. Consideration of Minutes of the Past Meeting \n2. 6:15 pm – 7:30 pm Presentation from Veolia \n3. Consent Agenda continued a. DPW Director Report \nb. City Engineer Report \nc. Commissioner’s Liaison Reports \nd. Abatements (second meeting of the month unless otherwise noted) \ni. Kayla Rodriguez – 14 Laurel Street (SR003181) \n4. Review and Affirm Chapter 214 MGL\, Acts 2002 5. Board of Public Works Summer Meeting Schedule
URL:https://holyokemedia.org/event/board-of-public-works-special-meeting/
LOCATION:Holyoke Media\, 1 Court Plaza\, Holyoke\, MA\, 01040\, United States
END:VEVENT
END:VCALENDAR