BEGIN:VCALENDAR
VERSION:2.0
PRODID:-//Holyoke Media - ECPv6.15.14//NONSGML v1.0//EN
CALSCALE:GREGORIAN
METHOD:PUBLISH
X-ORIGINAL-URL:https://holyokemedia.org
X-WR-CALDESC:Events for Holyoke Media
REFRESH-INTERVAL;VALUE=DURATION:PT1H
X-Robots-Tag:noindex
X-PUBLISHED-TTL:PT1H
BEGIN:VTIMEZONE
TZID:America/Halifax
BEGIN:DAYLIGHT
TZOFFSETFROM:-0400
TZOFFSETTO:-0300
TZNAME:ADT
DTSTART:20230312T060000
END:DAYLIGHT
BEGIN:STANDARD
TZOFFSETFROM:-0300
TZOFFSETTO:-0400
TZNAME:AST
DTSTART:20231105T050000
END:STANDARD
BEGIN:DAYLIGHT
TZOFFSETFROM:-0400
TZOFFSETTO:-0300
TZNAME:ADT
DTSTART:20240310T060000
END:DAYLIGHT
BEGIN:STANDARD
TZOFFSETFROM:-0300
TZOFFSETTO:-0400
TZNAME:AST
DTSTART:20241103T050000
END:STANDARD
BEGIN:DAYLIGHT
TZOFFSETFROM:-0400
TZOFFSETTO:-0300
TZNAME:ADT
DTSTART:20250309T060000
END:DAYLIGHT
BEGIN:STANDARD
TZOFFSETFROM:-0300
TZOFFSETTO:-0400
TZNAME:AST
DTSTART:20251102T050000
END:STANDARD
END:VTIMEZONE
BEGIN:VEVENT
DTSTART;TZID=America/Halifax:20240723T180000
DTEND;TZID=America/Halifax:20240723T193000
DTSTAMP:20260424T140550
CREATED:20240719T221305Z
LAST-MODIFIED:20240719T221305Z
UID:7778-1721757600-1721763000@holyokemedia.org
SUMMARY:Theater of the Mind
DESCRIPTION:Come hear a collection of podcasts a group of teens created drawing from their experiences and imaginations\, they have put together a collection of scenes that explore relationships\, bullying\, boundaries and more. Recommended for ages 13+ \nReserve tickets for free at PTCO.org/VPM \nEngage your community with the stories that matter to you! \nValley Playwright Mentoring (VPM) is an afterschool theatre program for teens ages 13 and up. No previous theatre experience is required! \nParticipants create a performance or podcasts based on stories from their lives that is shared with the community. Teens who complete the program receive a stipend. Space is limited to 12 participants per group.
URL:https://holyokemedia.org/event/theater-of-the-mind/
LOCATION:Holyoke Media\, 1 Court Plaza\, Holyoke\, MA\, 01040\, United States
ATTACH;FMTTYPE=image/jpeg:https://holyokemedia.org/wp-content/uploads/2024/07/theater-of-the-mind.jpg
ORGANIZER;CN="Piti Theater Company":MAILTO:Admin@artsmentors.org
END:VEVENT
END:VCALENDAR