BEGIN:VCALENDAR
VERSION:2.0
PRODID:-//Holyoke Media - ECPv6.15.14//NONSGML v1.0//EN
CALSCALE:GREGORIAN
METHOD:PUBLISH
X-WR-CALNAME:Holyoke Media
X-ORIGINAL-URL:https://holyokemedia.org
X-WR-CALDESC:Events for Holyoke Media
REFRESH-INTERVAL;VALUE=DURATION:PT1H
X-Robots-Tag:noindex
X-PUBLISHED-TTL:PT1H
BEGIN:VTIMEZONE
TZID:America/Halifax
BEGIN:DAYLIGHT
TZOFFSETFROM:-0400
TZOFFSETTO:-0300
TZNAME:ADT
DTSTART:20230312T060000
END:DAYLIGHT
BEGIN:STANDARD
TZOFFSETFROM:-0300
TZOFFSETTO:-0400
TZNAME:AST
DTSTART:20231105T050000
END:STANDARD
BEGIN:DAYLIGHT
TZOFFSETFROM:-0400
TZOFFSETTO:-0300
TZNAME:ADT
DTSTART:20240310T060000
END:DAYLIGHT
BEGIN:STANDARD
TZOFFSETFROM:-0300
TZOFFSETTO:-0400
TZNAME:AST
DTSTART:20241103T050000
END:STANDARD
BEGIN:DAYLIGHT
TZOFFSETFROM:-0400
TZOFFSETTO:-0300
TZNAME:ADT
DTSTART:20250309T060000
END:DAYLIGHT
BEGIN:STANDARD
TZOFFSETFROM:-0300
TZOFFSETTO:-0400
TZNAME:AST
DTSTART:20251102T050000
END:STANDARD
END:VTIMEZONE
BEGIN:VEVENT
DTSTART;TZID=America/Halifax:20240808T190000
DTEND;TZID=America/Halifax:20240808T210000
DTSTAMP:20260424T124133
CREATED:20240718T175856Z
LAST-MODIFIED:20240719T220215Z
UID:7762-1723143600-1723150800@holyokemedia.org
SUMMARY:Open Stage Showcase
DESCRIPTION:Discover Exciting New & Established Western New England ArtistsAugust 8th 7:00 pm @Holyoke Media 1 Court Plaza Holyoke\, MA Free AdmissionSolo artists\, duos\, and trios performing their own original music.The New Music Alliance (501c(3) and Holyoke Media have partnered to present this monthly Showcase in the Brand New State-of-the-Art Holyoke Media Facility!Enjoy a great show in a superb acoustically-optimized listening room environment- Unique to this area!\nWho’s Appearing? (in order of appearance)* Jesse Brody Marlboro\, VT* Uncle Stash Pittsfield\, MA* Steve Rodgers Hamden\, CT (Featured)* Still Rivers Wethersfield\, CT* Bekka Dowland Westfield\, MA* Dave Wiedenfeld & The Unexpected Easthampton\, MA* Ian Galipeau Keene\, NH–Your Host: Mark SherrySponsored by Downtown Sounds
URL:https://holyokemedia.org/event/open-stage-with-new-music-alliance/
LOCATION:Holyoke Media\, 1 Court Plaza\, Holyoke\, MA\, 01040\, United States
CATEGORIES:music
ATTACH;FMTTYPE=image/png:https://holyokemedia.org/wp-content/uploads/2024/02/open-stage.png
END:VEVENT
END:VCALENDAR