BEGIN:VCALENDAR
VERSION:2.0
PRODID:-//Holyoke Media - ECPv6.15.14//NONSGML v1.0//EN
CALSCALE:GREGORIAN
METHOD:PUBLISH
X-WR-CALNAME:Holyoke Media
X-ORIGINAL-URL:https://holyokemedia.org
X-WR-CALDESC:Events for Holyoke Media
REFRESH-INTERVAL;VALUE=DURATION:PT1H
X-Robots-Tag:noindex
X-PUBLISHED-TTL:PT1H
BEGIN:VTIMEZONE
TZID:America/Halifax
BEGIN:DAYLIGHT
TZOFFSETFROM:-0400
TZOFFSETTO:-0300
TZNAME:ADT
DTSTART:20230312T060000
END:DAYLIGHT
BEGIN:STANDARD
TZOFFSETFROM:-0300
TZOFFSETTO:-0400
TZNAME:AST
DTSTART:20231105T050000
END:STANDARD
BEGIN:DAYLIGHT
TZOFFSETFROM:-0400
TZOFFSETTO:-0300
TZNAME:ADT
DTSTART:20240310T060000
END:DAYLIGHT
BEGIN:STANDARD
TZOFFSETFROM:-0300
TZOFFSETTO:-0400
TZNAME:AST
DTSTART:20241103T050000
END:STANDARD
BEGIN:DAYLIGHT
TZOFFSETFROM:-0400
TZOFFSETTO:-0300
TZNAME:ADT
DTSTART:20250309T060000
END:DAYLIGHT
BEGIN:STANDARD
TZOFFSETFROM:-0300
TZOFFSETTO:-0400
TZNAME:AST
DTSTART:20251102T050000
END:STANDARD
END:VTIMEZONE
BEGIN:VEVENT
DTSTART;TZID=America/Halifax:20241120T193000
DTEND;TZID=America/Halifax:20241120T210000
DTSTAMP:20260424T082953
CREATED:20240822T160346Z
LAST-MODIFIED:20241029T215148Z
UID:8037-1732131000-1732136400@holyokemedia.org
SUMMARY:Valley Jazz Shares - Brandon Seabrook
DESCRIPTION:Brandon Seabrook is a guitarist\, banjoist\, and composer living in New York City where he has established himself as one of the most forward-thinking and versatile and guitarists of his generation. He has also made a name for himself as an influential banjo innovator\, described by the New York Times as “a man apparently hellbent on earning the title of World’s Least Rustic Banjo Player.” His work focuses on the juxtaposition of  hallucinatory soundscapes\, angular composition\, and a massive dynamic range that can change in a nanosecond. He has released seven albums as a leader covering everything from pulverizing art-metal to chamber music bridging the realms of extreme rock and the classical avant-garde. Rolling Stone Magazine noted\, “The fiercely dexterous musician has lunched a number of bands combining serious chops with manic intensity and a left- field compositional vision.”\n\nSeabrook honed his guitar skills at the New England Conservatory in Boston. He has since performed extensively in North and South America\, Mexico and Europe\, as a solo artist\, bandleader\, and collaborator. He has been called upon by titans such as Anthony Braxton\, Nels Cline\, Cecile McLorin Salvant\, So Percussion\, and Joey Arias for his idiosyncratic physical performance style \, hyperreal technique and impeccable articulation . He has been profiled in the New York Times\, The Wall Street Journal\, Premiere Guitar\, Downbeat Magazine\, Rolling Stone\, NPR\, The Chicago Reader\, and The Wire. \nSeabrook Power Plant\, the nuclear trio donned “a manic clusterfuck of merciless banjo torture” by the Village Voice\, is Brandon’s brainchild\, blending the brutal energy of punk-rock with the intricate execution of through-composed avant jazz. The band has released two albums to much critical acclaim. Time Out New York praised the band’s eponymous debut as “not only one of the most baffling experimental releases of the year it’s also one of the best.” \nBrandon is an accomplished solo artist\, named Best Guitarist in New York City by the Village Voice 2012. In 2014\, New Atlantis Records released his first solo album titled “Sylphid Vitalizers.” Noisey called the album a “dissonant guitar army…(with) mind-blowing prog-rock complexities – all at mind-numbing breakneck speed.” Brandon has presented his solo work at Pioneer Works\, Sonic Transmissions Festival\, Secret Project Robot\, NK Berlin\, Lima Jazz Festival\, Dither Extravaganza\, The Smell\, Lawrence University\, and the Ruidismos Festival in Lima\, Peru. \nHis most recent recording\, “BrutalLoveChamp” was released last year on Pyroclastic Records. On October 18\, “Object of Unknown Function”\, his second solo album will be released on Pyroclastic.
URL:https://holyokemedia.org/event/locolous/
LOCATION:Holyoke Media\, 1 Court Plaza\, Holyoke\, MA\, 01040\, United States
CATEGORIES:music
ATTACH;FMTTYPE=image/jpeg:https://holyokemedia.org/wp-content/uploads/2024/08/vjs-brandon.jpg
END:VEVENT
END:VCALENDAR