BEGIN:VCALENDAR
VERSION:2.0
PRODID:-//Holyoke Media - ECPv6.15.14//NONSGML v1.0//EN
CALSCALE:GREGORIAN
METHOD:PUBLISH
X-ORIGINAL-URL:https://holyokemedia.org
X-WR-CALDESC:Events for Holyoke Media
REFRESH-INTERVAL;VALUE=DURATION:PT1H
X-Robots-Tag:noindex
X-PUBLISHED-TTL:PT1H
BEGIN:VTIMEZONE
TZID:America/Halifax
BEGIN:DAYLIGHT
TZOFFSETFROM:-0400
TZOFFSETTO:-0300
TZNAME:ADT
DTSTART:20240310T060000
END:DAYLIGHT
BEGIN:STANDARD
TZOFFSETFROM:-0300
TZOFFSETTO:-0400
TZNAME:AST
DTSTART:20241103T050000
END:STANDARD
BEGIN:DAYLIGHT
TZOFFSETFROM:-0400
TZOFFSETTO:-0300
TZNAME:ADT
DTSTART:20250309T060000
END:DAYLIGHT
BEGIN:STANDARD
TZOFFSETFROM:-0300
TZOFFSETTO:-0400
TZNAME:AST
DTSTART:20251102T050000
END:STANDARD
BEGIN:DAYLIGHT
TZOFFSETFROM:-0400
TZOFFSETTO:-0300
TZNAME:ADT
DTSTART:20260308T060000
END:DAYLIGHT
BEGIN:STANDARD
TZOFFSETFROM:-0300
TZOFFSETTO:-0400
TZNAME:AST
DTSTART:20261101T050000
END:STANDARD
END:VTIMEZONE
BEGIN:VEVENT
DTSTART;TZID=America/Halifax:20250321T200000
DTEND;TZID=America/Halifax:20250321T220000
DTSTAMP:20260424T032843
CREATED:20250221T213558Z
LAST-MODIFIED:20250221T213558Z
UID:8891-1742587200-1742594400@holyokemedia.org
SUMMARY:Marian Pabón ¡Más fuerte que nunca!
DESCRIPTION:Marian Pabón is what is known as an “all-arounder.” She sings\, dances\, acts\, and writes drama and comedy for both theater and television. Her talent and charismatic personality have made her one of the most beloved artists by Puerto Ricans inside and outside the archipelago. After a 45-year career\, the last 10 writing dramatic monologues and comedy\, Marian faced a cancer diagnosis. During her recovery\, “Más fuerte que nunca” was born\, the stand-up with which she successfully returned to the stage and which she will take to the diaspora with the BoriCorridor Tour. In this powerful piece\, Marian uses humor to share her recent experiences as a patient and survivor. It is an invitation to laugh and reflect.
URL:https://holyokemedia.org/event/marian-pabon-mas-fuerte-que-nunca/
LOCATION:Holyoke Media\, 1 Court Plaza\, Holyoke\, MA\, 01040\, United States
ATTACH;FMTTYPE=image/jpeg:https://holyokemedia.org/wp-content/uploads/2025/02/marian-pabon-1000.jpg
END:VEVENT
END:VCALENDAR