BEGIN:VCALENDAR
VERSION:2.0
PRODID:-//Holyoke Media - ECPv6.15.14//NONSGML v1.0//EN
CALSCALE:GREGORIAN
METHOD:PUBLISH
X-ORIGINAL-URL:https://holyokemedia.org
X-WR-CALDESC:Events for Holyoke Media
REFRESH-INTERVAL;VALUE=DURATION:PT1H
X-Robots-Tag:noindex
X-PUBLISHED-TTL:PT1H
BEGIN:VTIMEZONE
TZID:America/Halifax
BEGIN:DAYLIGHT
TZOFFSETFROM:-0400
TZOFFSETTO:-0300
TZNAME:ADT
DTSTART:20240310T060000
END:DAYLIGHT
BEGIN:STANDARD
TZOFFSETFROM:-0300
TZOFFSETTO:-0400
TZNAME:AST
DTSTART:20241103T050000
END:STANDARD
BEGIN:DAYLIGHT
TZOFFSETFROM:-0400
TZOFFSETTO:-0300
TZNAME:ADT
DTSTART:20250309T060000
END:DAYLIGHT
BEGIN:STANDARD
TZOFFSETFROM:-0300
TZOFFSETTO:-0400
TZNAME:AST
DTSTART:20251102T050000
END:STANDARD
BEGIN:DAYLIGHT
TZOFFSETFROM:-0400
TZOFFSETTO:-0300
TZNAME:ADT
DTSTART:20260308T060000
END:DAYLIGHT
BEGIN:STANDARD
TZOFFSETFROM:-0300
TZOFFSETTO:-0400
TZNAME:AST
DTSTART:20261101T050000
END:STANDARD
END:VTIMEZONE
BEGIN:VEVENT
DTSTART;TZID=America/Halifax:20250509T190000
DTEND;TZID=America/Halifax:20250509T220000
DTSTAMP:20260424T010315
CREATED:20250418T112233Z
LAST-MODIFIED:20250418T112348Z
UID:9212-1746817200-1746828000@holyokemedia.org
SUMMARY:Flywheel and Sour City Present - Perennial - Miracle Blood - Videodome - Velveteenfl
DESCRIPTION:PERENNIAL https://perennialtheband.bandcamp.com/\nModernist punk from New England \nMIRACLE BLOOD https://miracleblood.bandcamp.com\nGnarly noise-punk for the weird at heart Boston\, MA. \nVIDEODOME https://videodome.bandcamp.com/\nNoise rock/post-hardcore from New Haven\, CT. Est. 2017. \nVELVETEEN https://velveteen1.bandcamp.com/\nIndie bedroom pop from Pittsfield\, MA \nA Flywheel/Sour City Co-Production
URL:https://holyokemedia.org/event/flywheel-and-sour-city-present-perennial-miracle-blood-videodome-velveteenfl/
LOCATION:Holyoke Media\, 1 Court Plaza\, Holyoke\, MA\, 01040\, United States
ATTACH;FMTTYPE=image/jpeg:https://holyokemedia.org/wp-content/uploads/2025/04/flywheel-250508.jpg
END:VEVENT
END:VCALENDAR