BEGIN:VCALENDAR
VERSION:2.0
PRODID:-//Holyoke Media - ECPv6.15.14//NONSGML v1.0//EN
CALSCALE:GREGORIAN
METHOD:PUBLISH
X-ORIGINAL-URL:https://holyokemedia.org
X-WR-CALDESC:Events for Holyoke Media
REFRESH-INTERVAL;VALUE=DURATION:PT1H
X-Robots-Tag:noindex
X-PUBLISHED-TTL:PT1H
BEGIN:VTIMEZONE
TZID:America/Halifax
BEGIN:DAYLIGHT
TZOFFSETFROM:-0400
TZOFFSETTO:-0300
TZNAME:ADT
DTSTART:20240310T060000
END:DAYLIGHT
BEGIN:STANDARD
TZOFFSETFROM:-0300
TZOFFSETTO:-0400
TZNAME:AST
DTSTART:20241103T050000
END:STANDARD
BEGIN:DAYLIGHT
TZOFFSETFROM:-0400
TZOFFSETTO:-0300
TZNAME:ADT
DTSTART:20250309T060000
END:DAYLIGHT
BEGIN:STANDARD
TZOFFSETFROM:-0300
TZOFFSETTO:-0400
TZNAME:AST
DTSTART:20251102T050000
END:STANDARD
BEGIN:DAYLIGHT
TZOFFSETFROM:-0400
TZOFFSETTO:-0300
TZNAME:ADT
DTSTART:20260308T060000
END:DAYLIGHT
BEGIN:STANDARD
TZOFFSETFROM:-0300
TZOFFSETTO:-0400
TZNAME:AST
DTSTART:20261101T050000
END:STANDARD
END:VTIMEZONE
BEGIN:VEVENT
DTSTART;TZID=America/Halifax:20250711T180000
DTEND;TZID=America/Halifax:20250711T213000
DTSTAMP:20260423T223612
CREATED:20250703T112227Z
LAST-MODIFIED:20250703T112227Z
UID:9702-1752256800-1752269400@holyokemedia.org
SUMMARY:BORDERLAND|The Line Within
DESCRIPTION:Film screening and fundraiser for the Performance Project and Skylight Productions with a post film conversation with Director Pamela Yates and Director Paco de Onis. Music by Tony Silva and light refreshments. \nThe United States border is not just a geographic location. The border is everywhere. It lies within every undocumented immigrant family with the threat that at any moment they can be captured\, incarcerated\, deported; their lives destroyed. BORDERLAND | The Line Within not only exposes the profitable business of immigration and its human cost\, but weaves together the stories of immigrant heroines and heroes resisting and showing a way forward\, intent on building a movement in the shadow of the border industrial complex\, recognizing the human rights of all. \nLink to trailer: https://vimeo.com/898357006 \nJoin us on Friday July 11th at 6pm at Holyoke Media (1 Court Plaza Holyoke\, MA). The evening will begin with light refreshments and Latin American and Spanish music by Tony Silva\, followed by an introduction to the work of the Performance Project and Skylight\, and the screening of BORDERLAND|The Line Within. After the film\, the director Pamela Yates and producer Paco de Onís will host a conversation/Q&A with the audience and share their insights about the making of the film and the important work being done at the border and across the US. \nTickets $10-$25 \nVirtual attendance available. \nFor information call 937-681-8719
URL:https://holyokemedia.org/event/borderlandthe-line-within/
LOCATION:Holyoke Media\, 1 Court Plaza\, Holyoke\, MA\, 01040\, United States
ATTACH;FMTTYPE=image/jpeg:https://holyokemedia.org/wp-content/uploads/2025/07/borderlands.jpg
ORGANIZER;CN="The Performance Project":MAILTO:info@performanceproject.org
END:VEVENT
END:VCALENDAR