BEGIN:VCALENDAR
VERSION:2.0
PRODID:-//Holyoke Media - ECPv6.15.14//NONSGML v1.0//EN
CALSCALE:GREGORIAN
METHOD:PUBLISH
X-WR-CALNAME:Holyoke Media
X-ORIGINAL-URL:https://holyokemedia.org
X-WR-CALDESC:Events for Holyoke Media
REFRESH-INTERVAL;VALUE=DURATION:PT1H
X-Robots-Tag:noindex
X-PUBLISHED-TTL:PT1H
BEGIN:VTIMEZONE
TZID:America/Halifax
BEGIN:DAYLIGHT
TZOFFSETFROM:-0400
TZOFFSETTO:-0300
TZNAME:ADT
DTSTART:20240310T060000
END:DAYLIGHT
BEGIN:STANDARD
TZOFFSETFROM:-0300
TZOFFSETTO:-0400
TZNAME:AST
DTSTART:20241103T050000
END:STANDARD
BEGIN:DAYLIGHT
TZOFFSETFROM:-0400
TZOFFSETTO:-0300
TZNAME:ADT
DTSTART:20250309T060000
END:DAYLIGHT
BEGIN:STANDARD
TZOFFSETFROM:-0300
TZOFFSETTO:-0400
TZNAME:AST
DTSTART:20251102T050000
END:STANDARD
BEGIN:DAYLIGHT
TZOFFSETFROM:-0400
TZOFFSETTO:-0300
TZNAME:ADT
DTSTART:20260308T060000
END:DAYLIGHT
BEGIN:STANDARD
TZOFFSETFROM:-0300
TZOFFSETTO:-0400
TZNAME:AST
DTSTART:20261101T050000
END:STANDARD
END:VTIMEZONE
BEGIN:VEVENT
DTSTART;TZID=America/Halifax:20251023T170000
DTEND;TZID=America/Halifax:20251023T183000
DTSTAMP:20260423T185908
CREATED:20251009T220132Z
LAST-MODIFIED:20251015T191745Z
UID:10041-1761238800-1761244200@holyokemedia.org
SUMMARY:Herramientas de Google para la Vida Diaria
DESCRIPTION:Este curso básico está diseñado para adultos de 18 años en adelante que quieran ganar confianza y aprender las habilidades esenciales para usar computadoras y el internet. Ya sea que estés regresando a estudiar\, preparándote para el mundo laboral o simplemente quieras mejorar tu alfabetización digital\, esta clase te ofrece un ambiente de apoyo donde puedes aprender a tu propio ritmo. \nLo que vas a aprender:\nEncender y Apagar una Computadora o DispositivoAprende los pasos correctos para prender y apagar computadoras\, laptops y otros dispositivos comunes. \nUsar el Ratón (Mouse) o el Panel Táctil (Trackpad)Practica funciones básicas como hacer clic\, doble clic\, mover el cursor y arrastrar objetos usando el ratón o el panel táctil. \nAtajos del TecladoConoce combinaciones de teclas que te ayudan a hacer tareas más rápido y fácil. \nUsar Navegadores de InternetFamiliarízate con cómo abrir y moverte dentro de navegadores como Google Chrome o Microsoft Edge. \nBuscar Información y Navegar Páginas WebAprende a buscar cosas en internet\, moverte entre páginas web y entender direcciones web (URLs). \nCrear\, Enviar y Contestar Correos ElectrónicosAbre una cuenta de email\, redacta mensajes\, adjunta archivos y organiza tu bandeja de entrada. \nSubir y Descargar ArchivosAprende a mover archivos desde y hacia tu dispositivo de manera segura\, incluyendo fotos\, documentos y otros adjuntos. \nUsar Funciones Básicas de Google DocsCrea\, edita y comparte documentos con Google Docs — un procesador de texto gratis y muy popular en línea. \nCrear y Manejar Contraseñas SegurasAprende cómo crear contraseñas fuertes y cómo proteger tus cuentas. \nUsar Plataformas como Google MeetFamiliarízate con cómo unirte a reuniones virtuales\, usar la cámara y el micrófono\, y moverte dentro de las funciones de videollamadas.
URL:https://holyokemedia.org/event/navigating-the-web/
LOCATION:Holyoke Media\, 1 Court Plaza\, Holyoke\, MA\, 01040\, United States
ATTACH;FMTTYPE=image/jpeg:https://holyokemedia.org/wp-content/uploads/2025/09/dn-classes-esp.jpg
END:VEVENT
BEGIN:VEVENT
DTSTART;TZID=America/Halifax:20251023T183000
DTEND;TZID=America/Halifax:20251023T193000
DTSTAMP:20260423T185908
CREATED:20251015T194249Z
LAST-MODIFIED:20251015T194249Z
UID:10093-1761244200-1761247800@holyokemedia.org
SUMMARY:Bilingual Candidate Forum - School Committee
DESCRIPTION:Join us for 4 Bilingual Candidate Forums over 3 nights. \nThursday\, October 23\, 2025 – School Committee Candidates \nOrganized by One Holyoke CDC
URL:https://holyokemedia.org/event/bilingual-candidate-forum-school-committee/
LOCATION:Holyoke Media\, 1 Court Plaza\, Holyoke\, MA\, 01040\, United States
ATTACH;FMTTYPE=image/jpeg:https://holyokemedia.org/wp-content/uploads/2025/10/251021-sc.jpg
END:VEVENT
END:VCALENDAR