BEGIN:VCALENDAR
VERSION:2.0
PRODID:-//Holyoke Media - ECPv6.15.14//NONSGML v1.0//EN
CALSCALE:GREGORIAN
METHOD:PUBLISH
X-WR-CALNAME:Holyoke Media
X-ORIGINAL-URL:https://holyokemedia.org
X-WR-CALDESC:Events for Holyoke Media
REFRESH-INTERVAL;VALUE=DURATION:PT1H
X-Robots-Tag:noindex
X-PUBLISHED-TTL:PT1H
BEGIN:VTIMEZONE
TZID:America/Halifax
BEGIN:DAYLIGHT
TZOFFSETFROM:-0400
TZOFFSETTO:-0300
TZNAME:ADT
DTSTART:20240310T060000
END:DAYLIGHT
BEGIN:STANDARD
TZOFFSETFROM:-0300
TZOFFSETTO:-0400
TZNAME:AST
DTSTART:20241103T050000
END:STANDARD
BEGIN:DAYLIGHT
TZOFFSETFROM:-0400
TZOFFSETTO:-0300
TZNAME:ADT
DTSTART:20250309T060000
END:DAYLIGHT
BEGIN:STANDARD
TZOFFSETFROM:-0300
TZOFFSETTO:-0400
TZNAME:AST
DTSTART:20251102T050000
END:STANDARD
BEGIN:DAYLIGHT
TZOFFSETFROM:-0400
TZOFFSETTO:-0300
TZNAME:ADT
DTSTART:20260308T060000
END:DAYLIGHT
BEGIN:STANDARD
TZOFFSETFROM:-0300
TZOFFSETTO:-0400
TZNAME:AST
DTSTART:20261101T050000
END:STANDARD
END:VTIMEZONE
BEGIN:VEVENT
DTSTART;TZID=America/Halifax:20251024T173000
DTEND;TZID=America/Halifax:20251024T190000
DTSTAMP:20260423T185908
CREATED:20251015T194800Z
LAST-MODIFIED:20251016T233304Z
UID:10097-1761327000-1761332400@holyokemedia.org
SUMMARY:Bilingual Candidate Forum - City Council at Large
DESCRIPTION:Join us for 4 Bilingual Candidate Forums over 3 nights. \nFriday\, October 24\, 2025 – City Council Candidates at Large \nOrganized by One Holyoke CDC
URL:https://holyokemedia.org/event/bilingual-candidate-forum-city-council-at-large/
LOCATION:Holyoke Media\, 1 Court Plaza\, Holyoke\, MA\, 01040\, United States
ATTACH;FMTTYPE=image/jpeg:https://holyokemedia.org/wp-content/uploads/2025/10/251024-cal.jpg
END:VEVENT
END:VCALENDAR