BEGIN:VCALENDAR
VERSION:2.0
PRODID:-//Holyoke Media - ECPv6.15.14//NONSGML v1.0//EN
CALSCALE:GREGORIAN
METHOD:PUBLISH
X-ORIGINAL-URL:https://holyokemedia.org
X-WR-CALDESC:Events for Holyoke Media
REFRESH-INTERVAL;VALUE=DURATION:PT1H
X-Robots-Tag:noindex
X-PUBLISHED-TTL:PT1H
BEGIN:VTIMEZONE
TZID:America/Halifax
BEGIN:DAYLIGHT
TZOFFSETFROM:-0400
TZOFFSETTO:-0300
TZNAME:ADT
DTSTART:20240310T060000
END:DAYLIGHT
BEGIN:STANDARD
TZOFFSETFROM:-0300
TZOFFSETTO:-0400
TZNAME:AST
DTSTART:20241103T050000
END:STANDARD
BEGIN:DAYLIGHT
TZOFFSETFROM:-0400
TZOFFSETTO:-0300
TZNAME:ADT
DTSTART:20250309T060000
END:DAYLIGHT
BEGIN:STANDARD
TZOFFSETFROM:-0300
TZOFFSETTO:-0400
TZNAME:AST
DTSTART:20251102T050000
END:STANDARD
BEGIN:DAYLIGHT
TZOFFSETFROM:-0400
TZOFFSETTO:-0300
TZNAME:ADT
DTSTART:20260308T060000
END:DAYLIGHT
BEGIN:STANDARD
TZOFFSETFROM:-0300
TZOFFSETTO:-0400
TZNAME:AST
DTSTART:20261101T050000
END:STANDARD
END:VTIMEZONE
BEGIN:VEVENT
DTSTART;TZID=America/Halifax:20251208T170000
DTEND;TZID=America/Halifax:20251208T190000
DTSTAMP:20260423T162237
CREATED:20251127T124154Z
LAST-MODIFIED:20251205T001711Z
UID:10295-1765213200-1765220400@holyokemedia.org
SUMMARY:Citizens Opioid Advisory Committee
DESCRIPTION:Agenda: \n\nIntroductions\nRole of Advisory Committee\nVote of Chair Person and Vice Chair Person\nReview of Opioid Calendar\nReview of Opioid Grant Application Timeline\nPresentation of Holyoke Opioid Community Needs Assessment\nAdvisory Committee Discussion
URL:https://holyokemedia.org/event/citizens-opioid-advisory-committee/
LOCATION:Holyoke Media\, 1 Court Plaza\, Holyoke\, MA\, 01040\, United States
ATTACH;FMTTYPE=image/jpeg:https://holyokemedia.org/wp-content/uploads/2025/11/hoho-logo-1.jpg
ORGANIZER;CN="The City of Holyoke":MAILTO:fays@holyoke.org
END:VEVENT
END:VCALENDAR