BEGIN:VCALENDAR
VERSION:2.0
PRODID:-//Holyoke Media - ECPv6.15.14//NONSGML v1.0//EN
CALSCALE:GREGORIAN
METHOD:PUBLISH
X-ORIGINAL-URL:https://holyokemedia.org
X-WR-CALDESC:Events for Holyoke Media
REFRESH-INTERVAL;VALUE=DURATION:PT1H
X-Robots-Tag:noindex
X-PUBLISHED-TTL:PT1H
BEGIN:VTIMEZONE
TZID:America/Halifax
BEGIN:DAYLIGHT
TZOFFSETFROM:-0400
TZOFFSETTO:-0300
TZNAME:ADT
DTSTART:20240310T060000
END:DAYLIGHT
BEGIN:STANDARD
TZOFFSETFROM:-0300
TZOFFSETTO:-0400
TZNAME:AST
DTSTART:20241103T050000
END:STANDARD
BEGIN:DAYLIGHT
TZOFFSETFROM:-0400
TZOFFSETTO:-0300
TZNAME:ADT
DTSTART:20250309T060000
END:DAYLIGHT
BEGIN:STANDARD
TZOFFSETFROM:-0300
TZOFFSETTO:-0400
TZNAME:AST
DTSTART:20251102T050000
END:STANDARD
BEGIN:DAYLIGHT
TZOFFSETFROM:-0400
TZOFFSETTO:-0300
TZNAME:ADT
DTSTART:20260308T060000
END:DAYLIGHT
BEGIN:STANDARD
TZOFFSETFROM:-0300
TZOFFSETTO:-0400
TZNAME:AST
DTSTART:20261101T050000
END:STANDARD
END:VTIMEZONE
BEGIN:VEVENT
DTSTART;TZID=America/Halifax:20251213T193000
DTEND;TZID=America/Halifax:20251213T213000
DTSTAMP:20260423T162234
CREATED:20251126T142917Z
LAST-MODIFIED:20251126T142917Z
UID:10282-1765654200-1765661400@holyokemedia.org
SUMMARY:Pioneer Valley Jazz Shares - sinonó
DESCRIPTION:From the Pioneer Valley Jazz Shares website: Explosive and wistful\, sinonó draws on Latin American folk and free improvisation to create a space of crackling aliveness. Described as “middle-of-the-night music” (Dada Strain)\, the trio features vocalist and composer isabel crespo pardo\, cellist Lester St. Louis\, and bassist Henry Fraser. Together\, they perform crespo’s “poemsongs” – pieces built around metaphor and improvisation that shift in performance\, but always remain tied to poetry and breath. sinonó has performed at venues such as Roulette Intermedium\, The DiMenna Center\, and Lincoln Center Atrium\, and their debut album la espalda y su punto radiante (Subtext Recordings) released in Spring 2024. They will record their sophomore album this Fall at Pioneer Works (Brooklyn\, NY). \nMore about this performance can be found at https://www.jazzshares.org/events/sinono-1
URL:https://holyokemedia.org/event/pioneer-valley-jazz-shares-sinono/
LOCATION:Holyoke Media\, 1 Court Plaza\, Holyoke\, MA\, 01040\, United States
ATTACH;FMTTYPE=image/jpeg:https://holyokemedia.org/wp-content/uploads/2025/11/vjs-sinono_1.jpg
END:VEVENT
END:VCALENDAR