BEGIN:VCALENDAR
VERSION:2.0
PRODID:-//Holyoke Media - ECPv6.15.14//NONSGML v1.0//EN
CALSCALE:GREGORIAN
METHOD:PUBLISH
X-ORIGINAL-URL:https://holyokemedia.org
X-WR-CALDESC:Events for Holyoke Media
REFRESH-INTERVAL;VALUE=DURATION:PT1H
X-Robots-Tag:noindex
X-PUBLISHED-TTL:PT1H
BEGIN:VTIMEZONE
TZID:America/Halifax
BEGIN:DAYLIGHT
TZOFFSETFROM:-0400
TZOFFSETTO:-0300
TZNAME:ADT
DTSTART:20240310T060000
END:DAYLIGHT
BEGIN:STANDARD
TZOFFSETFROM:-0300
TZOFFSETTO:-0400
TZNAME:AST
DTSTART:20241103T050000
END:STANDARD
BEGIN:DAYLIGHT
TZOFFSETFROM:-0400
TZOFFSETTO:-0300
TZNAME:ADT
DTSTART:20250309T060000
END:DAYLIGHT
BEGIN:STANDARD
TZOFFSETFROM:-0300
TZOFFSETTO:-0400
TZNAME:AST
DTSTART:20251102T050000
END:STANDARD
BEGIN:DAYLIGHT
TZOFFSETFROM:-0400
TZOFFSETTO:-0300
TZNAME:ADT
DTSTART:20260308T060000
END:DAYLIGHT
BEGIN:STANDARD
TZOFFSETFROM:-0300
TZOFFSETTO:-0400
TZNAME:AST
DTSTART:20261101T050000
END:STANDARD
END:VTIMEZONE
BEGIN:VEVENT
DTSTART;TZID=America/Halifax:20251218T180000
DTEND;TZID=America/Halifax:20251218T210000
DTSTAMP:20260423T162234
CREATED:20251205T001621Z
LAST-MODIFIED:20251205T001621Z
UID:10321-1766080800-1766091600@holyokemedia.org
SUMMARY:“LOSER” – Debut Album Concert by Darius Kayden Baez (d4rius)
DESCRIPTION:Get ready to vibe as d4rius drops his debut album “LOSER” live – it’s gonna be epic!\n\n\n\n“LOSER” – Debut Album Concert by Darius Kayden Baez (d4rius) \nAt just 17 years old\, rapper\, producer\, and singer d4rius is taking the stage for the first time to celebrate the release of his debut album LOSER — a raw\, self-produced project written\, mixed\, and created entirely by d4rius himself. \nCome experience his sound live on Thursday\, December 18th at Holyoke Media in Holyoke. \nDoors open at 6 PM\, show starts at 7 PM. \nFree tickets available starting November 5th — don’t miss this chance to see a rising artist’s first full-length performance!
URL:https://holyokemedia.org/event/loser-debut-album-concert-by-darius-kayden-baez-d4rius/
LOCATION:Holyoke Media\, 1 Court Plaza\, Holyoke\, MA\, 01040\, United States
ATTACH;FMTTYPE=image/jpeg:https://holyokemedia.org/wp-content/uploads/2025/12/loser.jpg
END:VEVENT
END:VCALENDAR