BEGIN:VCALENDAR
VERSION:2.0
PRODID:-//Holyoke Media - ECPv6.15.14//NONSGML v1.0//EN
CALSCALE:GREGORIAN
METHOD:PUBLISH
X-ORIGINAL-URL:https://holyokemedia.org
X-WR-CALDESC:Events for Holyoke Media
REFRESH-INTERVAL;VALUE=DURATION:PT1H
X-Robots-Tag:noindex
X-PUBLISHED-TTL:PT1H
BEGIN:VTIMEZONE
TZID:America/Halifax
BEGIN:DAYLIGHT
TZOFFSETFROM:-0400
TZOFFSETTO:-0300
TZNAME:ADT
DTSTART:20250309T060000
END:DAYLIGHT
BEGIN:STANDARD
TZOFFSETFROM:-0300
TZOFFSETTO:-0400
TZNAME:AST
DTSTART:20251102T050000
END:STANDARD
BEGIN:DAYLIGHT
TZOFFSETFROM:-0400
TZOFFSETTO:-0300
TZNAME:ADT
DTSTART:20260308T060000
END:DAYLIGHT
BEGIN:STANDARD
TZOFFSETFROM:-0300
TZOFFSETTO:-0400
TZNAME:AST
DTSTART:20261101T050000
END:STANDARD
BEGIN:DAYLIGHT
TZOFFSETFROM:-0400
TZOFFSETTO:-0300
TZNAME:ADT
DTSTART:20270314T060000
END:DAYLIGHT
BEGIN:STANDARD
TZOFFSETFROM:-0300
TZOFFSETTO:-0400
TZNAME:AST
DTSTART:20271107T050000
END:STANDARD
END:VTIMEZONE
BEGIN:VEVENT
DTSTART;TZID=America/Halifax:20260226T173000
DTEND;TZID=America/Halifax:20260226T190000
DTSTAMP:20260423T115244
CREATED:20260204T211309Z
LAST-MODIFIED:20260204T214209Z
UID:10578-1772127000-1772132400@holyokemedia.org
SUMMARY:Keyboard Shortcuts for Everyday Use
DESCRIPTION:This easy\, beginner-friendly course is for adults age 18 and older who want to feel more comfortable using computers and the internet. If you’re getting back into school\, preparing for a job\, or just want to understand technology better\, this class is designed for you. We move at a relaxed pace in a supportive\, no-pressure environment. \nWhat You’ll Learn:\nTurning a Computer or Device On and OffLearn how to safely start and shut down computers\, laptops\, and other everyday devices. \nUsing a Mouse or TouchpadPractice simple skills like clicking\, double-clicking\, scrolling\, and moving items on the screen. \nBasic Keyboard ShortcutsLearn easy keyboard tips that help you get things done faster without extra steps. \nUsing Internet BrowsersLearn how to open and use internet programs like Google Chrome or Microsoft Edge. \nSearching the Internet & Visiting WebsitesFind information online\, move through websites\, and understand website addresses. \nSending and Receiving EmailsCreate an email account\, write and reply to messages\, send attachments\, and organize your inbox. \nDownloading and Uploading FilesLearn how to save files to your computer and send photos or documents safely. \nUsing Google Docs (Basic Skills)Create simple documents\, type text\, and save or share your work using Google Docs — a free online tool. \nCreating and Remembering Strong PasswordsLearn how to make safe passwords and protect your personal information. \nJoining Online Meetings (Google Meet)Practice joining video calls\, turning your camera and microphone on and off\, and following along in virtual meetings. \n\nBy the end of this course\, you’ll have the basic computer skills needed for everyday tasks\, school\, and work. No computer experience is needed — just curiosity and a willingness to learn!
URL:https://holyokemedia.org/event/keyboard-shortcuts-for-everyday-use-3/
LOCATION:Holyoke Media\, 1 Court Plaza\, Holyoke\, MA\, 01040\, United States
ATTACH;FMTTYPE=image/jpeg:https://holyokemedia.org/wp-content/uploads/2026/02/digital-nav-class-eng.jpg
END:VEVENT
BEGIN:VEVENT
DTSTART;TZID=America/Halifax:20260226T193000
DTEND;TZID=America/Halifax:20260226T220000
DTSTAMP:20260423T115244
CREATED:20260203T232107Z
LAST-MODIFIED:20260203T232107Z
UID:10568-1772134200-1772143200@holyokemedia.org
SUMMARY:Masters of Sonic Liberation
DESCRIPTION:Masters of Sonic Liberation is a groundbreaking monthly music series aiming to captivate your senses and push the boundaries of sonic creation. Presented by Bonnie Kane and John Loggia of the KaneLoggiaHYPOTHESIS\, the series is a gateway to a universe of limitless musical exploration\, fueled by the expansive imagination of master musicians who have left the norms and abandoned the pop\, easy listening and pre-fab culture\, to continually investigate and create music of the greatest depth and personal expression that reaches directly into the algebra of the mind\, heart\, and soul. You are invited to witness wildly expressive improvisations\, scintillating in their immediacy\, an expression of the intersection of time and place known as the NOW. \nFrom improvisation and free jazz to noise\, avant-garde\, electronic manipulations\, and modern composition\, our lineup encompasses a wide spectrum of sonic expressions that defy conventional categorization. The unifying principle of these artists is their dedication to exploratory\, hypothetical\, investigational\, probing\, observational\, theoretical\, innovative\, inventive\, radical\, avant-garde\, anti-normative\, alternative\, fringe\, unfamiliar\, unorthodox\, unconventional\, unusual\, eccentric\, avant-garde\, avant-core\, free thinking\, way-out music. \nWhether it’s a solo performance that pushes the boundaries of traditional instruments\, or a dynamic ensemble blending a symphony of unconventional sounds\, we present encounters with the avant-garde that will leave you mesmerized. From hauntingly exquisite melodies to ear-bending dissonance\, Masters of Sonic Liberation offers an unique live experience with virtuoso artists\, where every note is a testament to audacious creativity. \nThe live shows are streamed at:\nhttps://bit.ly/SonicLiberation_facebook\nhttps://bit.ly/SonicLiberation_youtube \nPast performances can be found on Youtube. http://youtube.com/@mastersofsonicliberation \nMasters of Sonic Liberation: Where the intangible becomes tangible; where sound becomes magic.
URL:https://holyokemedia.org/event/masters-of-sonic-liberation-17/
LOCATION:Holyoke Media\, 1 Court Plaza\, Holyoke\, MA\, 01040\, United States
ATTACH;FMTTYPE=image/jpeg:https://holyokemedia.org/wp-content/uploads/2024/09/mosl-generic-v2.jpg
END:VEVENT
END:VCALENDAR