BEGIN:VCALENDAR
VERSION:2.0
PRODID:-//Holyoke Media - ECPv6.15.14//NONSGML v1.0//EN
CALSCALE:GREGORIAN
METHOD:PUBLISH
X-WR-CALNAME:Holyoke Media
X-ORIGINAL-URL:https://holyokemedia.org
X-WR-CALDESC:Events for Holyoke Media
REFRESH-INTERVAL;VALUE=DURATION:PT1H
X-Robots-Tag:noindex
X-PUBLISHED-TTL:PT1H
BEGIN:VTIMEZONE
TZID:America/Halifax
BEGIN:DAYLIGHT
TZOFFSETFROM:-0400
TZOFFSETTO:-0300
TZNAME:ADT
DTSTART:20250309T060000
END:DAYLIGHT
BEGIN:STANDARD
TZOFFSETFROM:-0300
TZOFFSETTO:-0400
TZNAME:AST
DTSTART:20251102T050000
END:STANDARD
BEGIN:DAYLIGHT
TZOFFSETFROM:-0400
TZOFFSETTO:-0300
TZNAME:ADT
DTSTART:20260308T060000
END:DAYLIGHT
BEGIN:STANDARD
TZOFFSETFROM:-0300
TZOFFSETTO:-0400
TZNAME:AST
DTSTART:20261101T050000
END:STANDARD
BEGIN:DAYLIGHT
TZOFFSETFROM:-0400
TZOFFSETTO:-0300
TZNAME:ADT
DTSTART:20270314T060000
END:DAYLIGHT
BEGIN:STANDARD
TZOFFSETFROM:-0300
TZOFFSETTO:-0400
TZNAME:AST
DTSTART:20271107T050000
END:STANDARD
END:VTIMEZONE
BEGIN:VEVENT
DTSTART;TZID=America/Halifax:20260228T140000
DTEND;TZID=America/Halifax:20260228T160000
DTSTAMP:20260423T115003
CREATED:20260226T000357Z
LAST-MODIFIED:20260226T000357Z
UID:10662-1772287200-1772294400@holyokemedia.org
SUMMARY:Youth Performance Festival
DESCRIPTION:FREE ADMISSION!\n\nThe Youth Performance Festival is a collaborative program of Play Incubation Collective and the Northampton Center for the Arts at 33 Hawley\, in partnership with Holyoke Media. Now in its 7th year\, YPF is a FREE opportunity for youth artists ages 8-18 to create original performance pieces with the guidance of mentor artists in the fields of music\, dance\, theater\, poetry/spoken word\, video/animation\, and more. YPF centers the creative agency of young artists\, and is committed to supporting them as they discover their own creative processes. For YPF 2026\, we are partnering with Holyoke Media to offer a Holyoke-based youth cohort in addition to the Northampton cohort as part of our ongoing commitment to expanding YPF in Western Mass. YPF is an outstanding festival experience that warms hearts and inspires creativity in audience members of all ages!\n\nThe 2026 Youth Performance Festival is sponsored in part by the Northampton\, Hadley\, and Holyoke Cultural Councils\, local agencies that are a part of the Mass Cultural Council\, a state agency\, as well as the City of Northampton ARPA Funds.
URL:https://holyokemedia.org/event/youth-performance-festival/
LOCATION:Holyoke Media\, 1 Court Plaza\, Holyoke\, MA\, 01040\, United States
ATTACH;FMTTYPE=image/jpeg:https://holyokemedia.org/wp-content/uploads/2026/02/ypp.jpg
END:VEVENT
END:VCALENDAR