BEGIN:VCALENDAR
VERSION:2.0
PRODID:-//Holyoke Media - ECPv6.15.14//NONSGML v1.0//EN
CALSCALE:GREGORIAN
METHOD:PUBLISH
X-ORIGINAL-URL:https://holyokemedia.org
X-WR-CALDESC:Events for Holyoke Media
REFRESH-INTERVAL;VALUE=DURATION:PT1H
X-Robots-Tag:noindex
X-PUBLISHED-TTL:PT1H
BEGIN:VTIMEZONE
TZID:America/Halifax
BEGIN:DAYLIGHT
TZOFFSETFROM:-0400
TZOFFSETTO:-0300
TZNAME:ADT
DTSTART:20250309T060000
END:DAYLIGHT
BEGIN:STANDARD
TZOFFSETFROM:-0300
TZOFFSETTO:-0400
TZNAME:AST
DTSTART:20251102T050000
END:STANDARD
BEGIN:DAYLIGHT
TZOFFSETFROM:-0400
TZOFFSETTO:-0300
TZNAME:ADT
DTSTART:20260308T060000
END:DAYLIGHT
BEGIN:STANDARD
TZOFFSETFROM:-0300
TZOFFSETTO:-0400
TZNAME:AST
DTSTART:20261101T050000
END:STANDARD
BEGIN:DAYLIGHT
TZOFFSETFROM:-0400
TZOFFSETTO:-0300
TZNAME:ADT
DTSTART:20270314T060000
END:DAYLIGHT
BEGIN:STANDARD
TZOFFSETFROM:-0300
TZOFFSETTO:-0400
TZNAME:AST
DTSTART:20271107T050000
END:STANDARD
END:VTIMEZONE
BEGIN:VEVENT
DTSTART;TZID=America/Halifax:20260321T190000
DTEND;TZID=America/Halifax:20260321T230000
DTSTAMP:20260423T115313
CREATED:20260226T001329Z
LAST-MODIFIED:20260226T001329Z
UID:10670-1774119600-1774134000@holyokemedia.org
SUMMARY:Flywheel and Timefest Present
DESCRIPTION:EIGHTEEN HUNDRED AND FROZE TO DEATH\nHigh energy post-punk featuring members of Chimes of Bayonets (Peterwalkee Records) and the former lead singer of why+the+wires (Rorschach Records). Previous album\, Thirds\, produced by J. Robbins (Ithaca\, NY) \nLANE\nTightly wound\, precise\, art rock that Hump Day News says “takes a surgeon’s scalpel to rock n roll cliches” and ranked their last album\, Receiver\, among its top albums of 2024. Or “Aesop Rock meets the Beatles” (Boston MA) \nLUCKY TO BE ME\nPop rock for the sick and twisted (Western MA) \nTHE NUTSING CHARLIES\nWigged out spazz-core (Western MA) \ndoors  at 7pm\, with $10 PWYC admission
URL:https://holyokemedia.org/event/flywheel-and-timefest-present/
LOCATION:Holyoke Media\, 1 Court Plaza\, Holyoke\, MA\, 01040\, United States
ATTACH;FMTTYPE=image/jpeg:https://holyokemedia.org/wp-content/uploads/2026/02/flywheel-260321-v2.jpg
END:VEVENT
END:VCALENDAR