BEGIN:VCALENDAR
VERSION:2.0
PRODID:-//Holyoke Media - ECPv6.15.14//NONSGML v1.0//EN
CALSCALE:GREGORIAN
METHOD:PUBLISH
X-ORIGINAL-URL:https://holyokemedia.org
X-WR-CALDESC:Events for Holyoke Media
REFRESH-INTERVAL;VALUE=DURATION:PT1H
X-Robots-Tag:noindex
X-PUBLISHED-TTL:PT1H
BEGIN:VTIMEZONE
TZID:America/Halifax
BEGIN:DAYLIGHT
TZOFFSETFROM:-0400
TZOFFSETTO:-0300
TZNAME:ADT
DTSTART:20250309T060000
END:DAYLIGHT
BEGIN:STANDARD
TZOFFSETFROM:-0300
TZOFFSETTO:-0400
TZNAME:AST
DTSTART:20251102T050000
END:STANDARD
BEGIN:DAYLIGHT
TZOFFSETFROM:-0400
TZOFFSETTO:-0300
TZNAME:ADT
DTSTART:20260308T060000
END:DAYLIGHT
BEGIN:STANDARD
TZOFFSETFROM:-0300
TZOFFSETTO:-0400
TZNAME:AST
DTSTART:20261101T050000
END:STANDARD
BEGIN:DAYLIGHT
TZOFFSETFROM:-0400
TZOFFSETTO:-0300
TZNAME:ADT
DTSTART:20270314T060000
END:DAYLIGHT
BEGIN:STANDARD
TZOFFSETFROM:-0300
TZOFFSETTO:-0400
TZNAME:AST
DTSTART:20271107T050000
END:STANDARD
END:VTIMEZONE
BEGIN:VEVENT
DTSTART;TZID=America/Halifax:20260327T190000
DTEND;TZID=America/Halifax:20260327T203000
DTSTAMP:20260423T115245
CREATED:20260313T103528Z
LAST-MODIFIED:20260313T103528Z
UID:10737-1774638000-1774643400@holyokemedia.org
SUMMARY:Hear Us Roar: Women's History Month Celebration
DESCRIPTION:Celebrate International Women’s Week With The Writing Sisters\n\nWriting Sisters\, a local collective of LBTQIA+ and BIPOC women identified writers\, are hosting Hear Us Roar: A Celebration of Women’s Poetry @ Holyoke Media on Friday\, March 27th from 7-8:30. Join us in a spirited celebration of womanhood\, resilience and equality\, through powerful feminist verse. Our reading will highlight diverse experiences\, fostering reflection and action.As we fight for the rights of women across the globe\, inspiration from women in our community ignites our flames of fierceness!
URL:https://holyokemedia.org/event/hear-us-roar-womens-history-month-celebration/
LOCATION:Holyoke Media\, 1 Court Plaza\, Holyoke\, MA\, 01040\, United States
ATTACH;FMTTYPE=image/jpeg:https://holyokemedia.org/wp-content/uploads/2026/03/writing-sisters.jpg
END:VEVENT
END:VCALENDAR