BEGIN:VCALENDAR
VERSION:2.0
PRODID:-//Holyoke Media - ECPv6.15.14//NONSGML v1.0//EN
CALSCALE:GREGORIAN
METHOD:PUBLISH
X-WR-CALNAME:Holyoke Media
X-ORIGINAL-URL:https://holyokemedia.org
X-WR-CALDESC:Events for Holyoke Media
REFRESH-INTERVAL;VALUE=DURATION:PT1H
X-Robots-Tag:noindex
X-PUBLISHED-TTL:PT1H
BEGIN:VTIMEZONE
TZID:America/Halifax
BEGIN:DAYLIGHT
TZOFFSETFROM:-0400
TZOFFSETTO:-0300
TZNAME:ADT
DTSTART:20250309T060000
END:DAYLIGHT
BEGIN:STANDARD
TZOFFSETFROM:-0300
TZOFFSETTO:-0400
TZNAME:AST
DTSTART:20251102T050000
END:STANDARD
BEGIN:DAYLIGHT
TZOFFSETFROM:-0400
TZOFFSETTO:-0300
TZNAME:ADT
DTSTART:20260308T060000
END:DAYLIGHT
BEGIN:STANDARD
TZOFFSETFROM:-0300
TZOFFSETTO:-0400
TZNAME:AST
DTSTART:20261101T050000
END:STANDARD
BEGIN:DAYLIGHT
TZOFFSETFROM:-0400
TZOFFSETTO:-0300
TZNAME:ADT
DTSTART:20270314T060000
END:DAYLIGHT
BEGIN:STANDARD
TZOFFSETFROM:-0300
TZOFFSETTO:-0400
TZNAME:AST
DTSTART:20271107T050000
END:STANDARD
END:VTIMEZONE
BEGIN:VEVENT
DTSTART;TZID=America/Halifax:20260331T190000
DTEND;TZID=America/Halifax:20260331T230000
DTSTAMP:20260423T102541
CREATED:20260226T002119Z
LAST-MODIFIED:20260307T220411Z
UID:10675-1774983600-1774998000@holyokemedia.org
SUMMARY:The Flywheel Arts Collective Presents
DESCRIPTION:LES DéRAILLEURS\nWestern MA mod rockers! \nTHE WIND-UPS\nAmazing indie rock on tour from Northern CA! \nCORSICA\nWestern MA post-hardcore/ Heavygaze! \nJETTIES\nShelburne Falls bedroom indie pop. \nDoors at 7 admission $10
URL:https://holyokemedia.org/event/the-flywheel-arts-collective-presents/
LOCATION:Holyoke Media\, 1 Court Plaza\, Holyoke\, MA\, 01040\, United States
ATTACH;FMTTYPE=image/jpeg:https://holyokemedia.org/wp-content/uploads/2026/02/flywheel-copy-v2.jpg
END:VEVENT
END:VCALENDAR