BEGIN:VCALENDAR
VERSION:2.0
PRODID:-//Holyoke Media - ECPv6.15.14//NONSGML v1.0//EN
CALSCALE:GREGORIAN
METHOD:PUBLISH
X-WR-CALNAME:Holyoke Media
X-ORIGINAL-URL:https://holyokemedia.org
X-WR-CALDESC:Events for Holyoke Media
REFRESH-INTERVAL;VALUE=DURATION:PT1H
X-Robots-Tag:noindex
X-PUBLISHED-TTL:PT1H
BEGIN:VTIMEZONE
TZID:America/Halifax
BEGIN:DAYLIGHT
TZOFFSETFROM:-0400
TZOFFSETTO:-0300
TZNAME:ADT
DTSTART:20250309T060000
END:DAYLIGHT
BEGIN:STANDARD
TZOFFSETFROM:-0300
TZOFFSETTO:-0400
TZNAME:AST
DTSTART:20251102T050000
END:STANDARD
BEGIN:DAYLIGHT
TZOFFSETFROM:-0400
TZOFFSETTO:-0300
TZNAME:ADT
DTSTART:20260308T060000
END:DAYLIGHT
BEGIN:STANDARD
TZOFFSETFROM:-0300
TZOFFSETTO:-0400
TZNAME:AST
DTSTART:20261101T050000
END:STANDARD
BEGIN:DAYLIGHT
TZOFFSETFROM:-0400
TZOFFSETTO:-0300
TZNAME:ADT
DTSTART:20270314T060000
END:DAYLIGHT
BEGIN:STANDARD
TZOFFSETFROM:-0300
TZOFFSETTO:-0400
TZNAME:AST
DTSTART:20271107T050000
END:STANDARD
END:VTIMEZONE
BEGIN:VEVENT
DTSTART;TZID=America/Halifax:20260402T173000
DTEND;TZID=America/Halifax:20260402T190000
DTSTAMP:20260423T102623
CREATED:20260204T211641Z
LAST-MODIFIED:20260226T002305Z
UID:10582-1775151000-1775156400@holyokemedia.org
SUMMARY:Primeros pasos con el correo electrónico
DESCRIPTION:Este curso fácil y para principiantes está diseñado para adultos de 18 años en adelante que desean sentirse más cómodos usando computadoras y el internet. Si estás regresando a la escuela\, preparándote para un trabajo\, o simplemente quieres aprender más sobre la tecnología\, esta clase es para ti. Aprenderás a tu propio ritmo en un ambiente amigable y sin presión. \nLo Que Aprenderás:\nEncender y Apagar una Computadora o DispositivoAprende cómo encender y apagar correctamente computadoras\, laptops y otros dispositivos de uso diario. \nUso del Mouse o Panel Táctil (Touchpad)Practica habilidades básicas como hacer clic\, doble clic\, desplazarte por la pantalla y mover elementos. \nAtajos Básicos del TecladoAprende trucos sencillos del teclado que te ayudarán a ahorrar tiempo y facilitar tareas. \nUso de Navegadores de InternetAprende a abrir y usar navegadores de internet como Google Chrome o Microsoft Edge. \nBúsqueda en Internet y Navegación de Sitios WebAprende a buscar información\, recorrer páginas web y entender direcciones web. \nCrear\, Enviar y Responder Correos ElectrónicosConfigura una cuenta de correo electrónico\, escribe mensajes\, envía archivos adjuntos y organiza tu bandeja de entrada. \nSubir y Descargar ArchivosAprende a guardar archivos en tu computadora y enviar documentos o fotos de forma segura. \nUso Básico de Google DocsCrea documentos sencillos\, escribe texto y guarda o comparte tu trabajo usando Google Docs\, una herramienta gratuita en línea. \nCrear y Recordar Contraseñas SegurasAprende a crear contraseñas fuertes y mantener tu información personal protegida. \nUnirse a Reuniones en Línea (Google Meet)Practica cómo unirte a videollamadas\, usar la cámara y el micrófono\, y participar en reuniones virtuales. \n\nAl finalizar este curso\, tendrás las habilidades básicas de computación necesarias para la vida diaria\, la escuela y el trabajo. No se requiere experiencia previa — ¡solo ganas de aprender!
URL:https://holyokemedia.org/event/primeros-pasos-con-el-correo-electronico/
LOCATION:Holyoke Media\, 1 Court Plaza\, Holyoke\, MA\, 01040\, United States
ATTACH;FMTTYPE=image/jpeg:https://holyokemedia.org/wp-content/uploads/2026/02/digital-nav-class-eng.jpg
END:VEVENT
BEGIN:VEVENT
DTSTART;TZID=America/Halifax:20260402T190000
DTEND;TZID=America/Halifax:20260402T210000
DTSTAMP:20260423T102623
CREATED:20260320T215522Z
LAST-MODIFIED:20260320T215522Z
UID:10755-1775156400-1775163600@holyokemedia.org
SUMMARY:The Employee Dharma Handbook
DESCRIPTION:Join us for our first Theater Thursday reading of the 2026 season: Geetha Reddy’s new play\, The Employee Dharma Handbook. The Employee Dharma Handbook takes us into the fast-paced world of rocket scientists – and explores how the centuries-old caste system reverberates in unexpected places. This play is a thrilling\, funny\, gripping journey – and Geetha is traveling from the Bay Area to be in residence with us here in Western Massachusetts as she continues to develop the play.\n\nDirected by Hia Ghosh and Rose Schwietz Malla\, and starring Meena Cunniffe\, Hia Ghosh\, Sabine Denise Jacques\, Suraj Malla\, and Saikiran Mullaguri\, with stage directions read by Urgyen Joshi\, the reading will take place at 7:00pm on Thursday\, April 2nd\, 2026 at Holyoke Media.\n\nTickets are free\, but space is limited\, so reserve your tickets now. Silverthorne welcomes donations for this event so that we can continue making our work accessible to all.\nThis reading is made possible by the generous support of the Holyoke Cultural Council\, a local agency which is supported by the Mass Cultural Council\, a state agency
URL:https://holyokemedia.org/event/the-employee-dharma-handbook/
LOCATION:Holyoke Media\, 1 Court Plaza\, Holyoke\, MA\, 01040\, United States
ATTACH;FMTTYPE=image/jpeg:https://holyokemedia.org/wp-content/uploads/2026/03/silverthorne-260402-1.jpg
ORGANIZER;CN="Silverthorne Theater Company":MAILTO:silverthornetheater@gmail.com
END:VEVENT
END:VCALENDAR