BEGIN:VCALENDAR
VERSION:2.0
PRODID:-//Holyoke Media - ECPv6.15.14//NONSGML v1.0//EN
CALSCALE:GREGORIAN
METHOD:PUBLISH
X-WR-CALNAME:Holyoke Media
X-ORIGINAL-URL:https://holyokemedia.org
X-WR-CALDESC:Events for Holyoke Media
REFRESH-INTERVAL;VALUE=DURATION:PT1H
X-Robots-Tag:noindex
X-PUBLISHED-TTL:PT1H
BEGIN:VTIMEZONE
TZID:America/Halifax
BEGIN:DAYLIGHT
TZOFFSETFROM:-0400
TZOFFSETTO:-0300
TZNAME:ADT
DTSTART:20250309T060000
END:DAYLIGHT
BEGIN:STANDARD
TZOFFSETFROM:-0300
TZOFFSETTO:-0400
TZNAME:AST
DTSTART:20251102T050000
END:STANDARD
BEGIN:DAYLIGHT
TZOFFSETFROM:-0400
TZOFFSETTO:-0300
TZNAME:ADT
DTSTART:20260308T060000
END:DAYLIGHT
BEGIN:STANDARD
TZOFFSETFROM:-0300
TZOFFSETTO:-0400
TZNAME:AST
DTSTART:20261101T050000
END:STANDARD
BEGIN:DAYLIGHT
TZOFFSETFROM:-0400
TZOFFSETTO:-0300
TZNAME:ADT
DTSTART:20270314T060000
END:DAYLIGHT
BEGIN:STANDARD
TZOFFSETFROM:-0300
TZOFFSETTO:-0400
TZNAME:AST
DTSTART:20271107T050000
END:STANDARD
END:VTIMEZONE
BEGIN:VEVENT
DTSTART;TZID=America/Halifax:20260409T173000
DTEND;TZID=America/Halifax:20260422T190000
DTSTAMP:20260423T102520
CREATED:20260203T185622Z
LAST-MODIFIED:20260204T222006Z
UID:10558-1775755800-1776884400@holyokemedia.org
SUMMARY:Getting Started with Email
DESCRIPTION:This beginner-level course is designed for adults aged 18 and older who want to build confidence and essential skills in using computers and the internet. Whether you’re returning to school\, preparing for the workforce\, or simply looking to improve your digital literacy\, this class offers a supportive environment to learn at your own pace. \nWhat You’ll Learn: \n\n\nTurning On/Off a Computer or DeviceLearn the proper steps to start up and shut down computers\, laptops\, and other common devices. \n\n\nUsing a Mouse or TrackpadPractice basic functions like clicking\, double-clicking\, scrolling\, and dragging using a mouse or touchpad. \n\n\nKeyboard ShortcutsDiscover helpful shortcuts that can save time and make tasks easier. \n\n\nUsing Web BrowsersGet comfortable opening and navigating internet browsers like Google Chrome or Microsoft Edge. \n\n\nConducting Searches & Navigating WebsitesLearn how to search for information\, explore websites\, and understand web addresses (URLs). \n\n\nCreating\, Sending & Replying to EmailsSet up an email account\, write messages\, attach files\, and manage your inbox effectively. \n\n\nUploading and Downloading FilesLearn how to move files to and from your device safely\, including attachments\, images\, and documents. \n\n\nUsing Basic Features in Google DocsCreate\, edit\, and share documents using Google Docs — a free and widely used online word processor. \n\n\nCreating and Managing Strong PasswordsUnderstand how to create secure passwords and keep your accounts safe. \n\n\nUsing Platforms Like Google MeetGet familiar with joining virtual meetings\, using your camera and microphone\, and navigating video call features. \n\n\nBy the end of this course\, you’ll be equipped with the digital skills needed for school\, work\, and everyday life. No prior computer experience is required — just a willingness to learn!
URL:https://holyokemedia.org/event/getting-started-with-email/
LOCATION:Holyoke Media\, 1 Court Plaza\, Holyoke\, MA\, 01040\, United States
ATTACH;FMTTYPE=image/jpeg:https://holyokemedia.org/wp-content/uploads/2026/02/digital-nav-class-eng.jpg
END:VEVENT
BEGIN:VEVENT
DTSTART;TZID=America/Halifax:20260416T173000
DTEND;TZID=America/Halifax:20260429T190000
DTSTAMP:20260423T102520
CREATED:20260204T211745Z
LAST-MODIFIED:20260204T222119Z
UID:10584-1776360600-1777489200@holyokemedia.org
SUMMARY:Cómo mover archivos en línea
DESCRIPTION:Este curso fácil y para principiantes está diseñado para adultos de 18 años en adelante que desean sentirse más cómodos usando computadoras y el internet. Si estás regresando a la escuela\, preparándote para un trabajo\, o simplemente quieres aprender más sobre la tecnología\, esta clase es para ti. Aprenderás a tu propio ritmo en un ambiente amigable y sin presión. \nLo Que Aprenderás:\nEncender y Apagar una Computadora o DispositivoAprende cómo encender y apagar correctamente computadoras\, laptops y otros dispositivos de uso diario. \nUso del Mouse o Panel Táctil (Touchpad)Practica habilidades básicas como hacer clic\, doble clic\, desplazarte por la pantalla y mover elementos. \nAtajos Básicos del TecladoAprende trucos sencillos del teclado que te ayudarán a ahorrar tiempo y facilitar tareas. \nUso de Navegadores de InternetAprende a abrir y usar navegadores de internet como Google Chrome o Microsoft Edge. \nBúsqueda en Internet y Navegación de Sitios WebAprende a buscar información\, recorrer páginas web y entender direcciones web. \nCrear\, Enviar y Responder Correos ElectrónicosConfigura una cuenta de correo electrónico\, escribe mensajes\, envía archivos adjuntos y organiza tu bandeja de entrada. \nSubir y Descargar ArchivosAprende a guardar archivos en tu computadora y enviar documentos o fotos de forma segura. \nUso Básico de Google DocsCrea documentos sencillos\, escribe texto y guarda o comparte tu trabajo usando Google Docs\, una herramienta gratuita en línea. \nCrear y Recordar Contraseñas SegurasAprende a crear contraseñas fuertes y mantener tu información personal protegida. \nUnirse a Reuniones en Línea (Google Meet)Practica cómo unirte a videollamadas\, usar la cámara y el micrófono\, y participar en reuniones virtuales. \n\nAl finalizar este curso\, tendrás las habilidades básicas de computación necesarias para la vida diaria\, la escuela y el trabajo. No se requiere experiencia previa — ¡solo ganas de aprender!
URL:https://holyokemedia.org/event/como-mover-archivos-en-linea/
LOCATION:Holyoke Media\, 1 Court Plaza\, Holyoke\, MA\, 01040\, United States
ATTACH;FMTTYPE=image/jpeg:https://holyokemedia.org/wp-content/uploads/2026/02/digital-nav-class-eng.jpg
END:VEVENT
BEGIN:VEVENT
DTSTART;TZID=America/Halifax:20260416T180000
DTEND;TZID=America/Halifax:20260416T193000
DTSTAMP:20260423T102520
CREATED:20260408T190603Z
LAST-MODIFIED:20260408T190603Z
UID:10808-1776362400-1776367800@holyokemedia.org
SUMMARY:Shifting the Narrative: Why Won't They Listen?
DESCRIPTION:Do you have a young athlete who shuts down\, acts out\, refuses to listen\, skips homework\, or struggles to get to school or practice? \nJoin Holyoke School Committee Member Patty Norris Lubold as she moderates a discussion with Courtney Edman\, Founder\, CEO\, and Coach of 2tametheshamE\, and a panel of Holyoke Coaches for a one-hour session for parents and coaches on understanding and helping children who think and feel differently \nFREE TO THE PUBLICSpanish translation available \nExpert Segment – Courtney Edman – Founder\, CEO\, 2tametheshamELearn about why challenging behavior is never the whole story and what you can do to help kids succeed! \nModerated Panel Discussion – Patty Norris LuboldCoach Rafael Santos Jr.\, Coach David Guzman\, Coach Joel Torres\, Coach Finn Lubold\, and Parent Dorquis Santos Rios \nHear real stories about how changing coaching and parenting approaches strengthens relationships and improves outcomes in school\, at home\, and on the field. \nFor more information…Contact Patty Norris Lubold
URL:https://holyokemedia.org/event/shifting-the-narrative-why-wont-they-listen/
LOCATION:Holyoke Media\, 1 Court Plaza\, Holyoke\, MA\, 01040\, United States
ATTACH;FMTTYPE=image/jpeg:https://holyokemedia.org/wp-content/uploads/2026/04/shifting-260416.jpg
ORGANIZER;CN="Patty Norris Lubold":MAILTO:pluboldward6@gmail.com
END:VEVENT
END:VCALENDAR