BEGIN:VCALENDAR
VERSION:2.0
PRODID:-//Holyoke Media - ECPv6.15.14//NONSGML v1.0//EN
CALSCALE:GREGORIAN
METHOD:PUBLISH
X-WR-CALNAME:Holyoke Media
X-ORIGINAL-URL:https://holyokemedia.org
X-WR-CALDESC:Events for Holyoke Media
REFRESH-INTERVAL;VALUE=DURATION:PT1H
X-Robots-Tag:noindex
X-PUBLISHED-TTL:PT1H
BEGIN:VTIMEZONE
TZID:America/Halifax
BEGIN:DAYLIGHT
TZOFFSETFROM:-0400
TZOFFSETTO:-0300
TZNAME:ADT
DTSTART:20230312T060000
END:DAYLIGHT
BEGIN:STANDARD
TZOFFSETFROM:-0300
TZOFFSETTO:-0400
TZNAME:AST
DTSTART:20231105T050000
END:STANDARD
BEGIN:DAYLIGHT
TZOFFSETFROM:-0400
TZOFFSETTO:-0300
TZNAME:ADT
DTSTART:20240310T060000
END:DAYLIGHT
BEGIN:STANDARD
TZOFFSETFROM:-0300
TZOFFSETTO:-0400
TZNAME:AST
DTSTART:20241103T050000
END:STANDARD
BEGIN:DAYLIGHT
TZOFFSETFROM:-0400
TZOFFSETTO:-0300
TZNAME:ADT
DTSTART:20250309T060000
END:DAYLIGHT
BEGIN:STANDARD
TZOFFSETFROM:-0300
TZOFFSETTO:-0400
TZNAME:AST
DTSTART:20251102T050000
END:STANDARD
END:VTIMEZONE
BEGIN:VEVENT
DTSTART;TZID=America/Halifax:20241117T190000
DTEND;TZID=America/Halifax:20241117T210000
DTSTAMP:20260423T161646
CREATED:20240521T140327Z
LAST-MODIFIED:20241029T213518Z
UID:7463-1731870000-1731877200@holyokemedia.org
SUMMARY:Open Mic'd
DESCRIPTION:A monthly open mic for poets organized by Attack Bear Press. \nOpen Mic’d is free and open to the public. \nShare your poems before an audience that welcomes everyone.
URL:https://holyokemedia.org/event/open-micd-2/
LOCATION:Holyoke Media\, 1 Court Plaza\, Holyoke\, MA\, 01040\, United States
CATEGORIES:poetry
ATTACH;FMTTYPE=image/jpeg:https://holyokemedia.org/wp-content/uploads/2024/05/open-micd-resize.jpg
END:VEVENT
BEGIN:VEVENT
DTSTART;TZID=America/Halifax:20240906T170000
DTEND;TZID=America/Halifax:20240906T183000
DTSTAMP:20260423T161646
CREATED:20240830T181002Z
LAST-MODIFIED:20240830T181002Z
UID:8123-1725642000-1725647400@holyokemedia.org
SUMMARY:Building Community Through The Arts
DESCRIPTION:We hope you’re as well as can be during these Times. As the days get shorter and we move further into the election season\, we understand the importance of gathering community to remind each other that “we are each other’s magnitude…we are each other’s harvest” (Gwendolyn Brooks). We are offering two workshops and an open mic on Sept. 5 and 6.\n\nWe invite you to show up as you are and bring your grief\, your rage\, your joy and whatever you might be holding. These offerings are QTBIPOC centered and are all welcome! ✨💜\n\nFri. Sept. 6\n5-6:30 pm workshop\n7-8 pm open mic and reading with Ebbie + Julissa\nSlots are 5 min. for the open mic.\n\nHolyoke Media\n1 Court Plaza\nHolyoke\, MA\n\nAs a practice of community care\, we are requiring well-fitted\, high filtration masks (KN-95 or higher). Extra masks provided at the door. We will have at least one air filter running in the space.\n\nSpace is limited so please RSVP by Tues. Sept. 3 if you can! Very limited spots available for walk-ins. Please share with your networks widely. Thank you!
URL:https://holyokemedia.org/event/building-community-through-the-arts/
LOCATION:Holyoke Media\, 1 Court Plaza\, Holyoke\, MA\, 01040\, United States
CATEGORIES:open mic,poetry,visual arts
ORGANIZER;CN="Building Community Through The Arts":MAILTO:blkgilltermagic@proton.me
END:VEVENT
BEGIN:VEVENT
DTSTART;TZID=America/Halifax:20240905T180000
DTEND;TZID=America/Halifax:20240905T200000
DTSTAMP:20260423T161646
CREATED:20240830T180506Z
LAST-MODIFIED:20240830T181508Z
UID:8116-1725559200-1725566400@holyokemedia.org
SUMMARY:Building Community Through The Arts
DESCRIPTION:visual arts + poetry workshop \nWe hope you’re as well as can be during these Times. As the days get shorter and we move further into the election season\, we understand the importance of gathering community to remind each other that “we are each other’s magnitude…we are each other’s harvest” (Gwendolyn Brooks). We are offering two workshops and an open mic on Sept. 5 and 6.\n\nWe invite you to show up as you are and bring your grief\, your rage\, your joy and whatever you might be holding. These offerings are QTBIPOC centered and are all welcome! ✨💜\n\nThurs. Sept. 5\n6-8 pm visual arts + poetry workshop\n\nFri. Sept. 6\n5-6:30 pm workshop\n7-8 pm open mic and reading with Ebbie + Julissa\nSlots are 5 min. for the open mic.\n\nHolyoke Media\n1 Court Plaza\nHolyoke\, MA\n\nAs a practice of community care\, we are requiring well-fitted\, high filtration masks (KN-95 or higher). Extra masks provided at the door. We will have at least one air filter running in the space.\n\nSpace is limited so please RSVP by Tues. Sept. 3 if you can! Very limited spots available for walk-ins. Please share with your networks widely. Thank you!
URL:https://holyokemedia.org/event/8116/
LOCATION:Holyoke Media\, 1 Court Plaza\, Holyoke\, MA\, 01040\, United States
CATEGORIES:poetry,visual arts
ORGANIZER;CN="Building Community Through The Arts":MAILTO:blkgilltermagic@proton.me
END:VEVENT
END:VCALENDAR