BEGIN:VCALENDAR
VERSION:2.0
PRODID:-//Holyoke Media - ECPv6.15.14//NONSGML v1.0//EN
CALSCALE:GREGORIAN
METHOD:PUBLISH
X-ORIGINAL-URL:https://holyokemedia.org
X-WR-CALDESC:Events for Holyoke Media
REFRESH-INTERVAL;VALUE=DURATION:PT1H
X-Robots-Tag:noindex
X-PUBLISHED-TTL:PT1H
BEGIN:VTIMEZONE
TZID:America/Halifax
BEGIN:DAYLIGHT
TZOFFSETFROM:-0400
TZOFFSETTO:-0300
TZNAME:ADT
DTSTART:20230312T060000
END:DAYLIGHT
BEGIN:STANDARD
TZOFFSETFROM:-0300
TZOFFSETTO:-0400
TZNAME:AST
DTSTART:20231105T050000
END:STANDARD
BEGIN:DAYLIGHT
TZOFFSETFROM:-0400
TZOFFSETTO:-0300
TZNAME:ADT
DTSTART:20240310T060000
END:DAYLIGHT
BEGIN:STANDARD
TZOFFSETFROM:-0300
TZOFFSETTO:-0400
TZNAME:AST
DTSTART:20241103T050000
END:STANDARD
BEGIN:DAYLIGHT
TZOFFSETFROM:-0400
TZOFFSETTO:-0300
TZNAME:ADT
DTSTART:20250309T060000
END:DAYLIGHT
BEGIN:STANDARD
TZOFFSETFROM:-0300
TZOFFSETTO:-0400
TZNAME:AST
DTSTART:20251102T050000
END:STANDARD
END:VTIMEZONE
BEGIN:VEVENT
DTSTART;TZID=America/Halifax:20240523T180000
DTEND;TZID=America/Halifax:20240523T200000
DTSTAMP:20260423T151010
CREATED:20240521T163004Z
LAST-MODIFIED:20240521T163105Z
UID:7469-1716487200-1716494400@holyokemedia.org
SUMMARY:Certificate of inspection Meeting
DESCRIPTION:HOLYOKE — The City’s Building Department on Thursday\, May 23\, at 6 p.m. will give a presentation on the steps required to obtain a Certificate of Inspection. The presentation — a short tutorial followed by Q&A — will be held at Holyoke Media on Suffolk Street. \nThough open to the public\, the one-hour session is designed for owners\, property managers\, and landlords of all multi-unit buildings with 3 or more units. \nOver the past several months\, the Holyoke Building Department has sent out over 500 letters to property owners who do not possess a current Certificate of Inspection\, as required in the state building code. Most recently\, letters have gone out to hundreds of owners of 3-family buildings. For most of these owners\, that notification was the first they had heard of such a requirement. \nThe code stipulates that it is up to the property owner to apply for and obtain this certificate. The letter advises that there is a fine for non-compliance. The letters were sent as a courtesy to the property owners to remind them oft he requirement. The May 23 presentation is intended to guide as many property owners as possible of the necessary steps to come into compliance and avoid penalties. \nInformation: Holyoke Building Department\,413-322-5600.
URL:https://holyokemedia.org/event/certificate-of-inspection-meeting/
LOCATION:Holyoke Media\, 1 Court Plaza\, Holyoke\, MA\, 01040\, United States
CATEGORIES:talk
END:VEVENT
BEGIN:VEVENT
DTSTART;TZID=America/Halifax:20240503T190000
DTEND;TZID=America/Halifax:20240503T223000
DTSTAMP:20260423T151010
CREATED:20240423T160148Z
LAST-MODIFIED:20240501T233239Z
UID:7047-1714762800-1714775400@holyokemedia.org
SUMMARY:Voices of Working People
DESCRIPTION:A free program of dramatic readings and lots of songs\, with emphasis on Western Mass. voices\, telling the origin story of May Day as International Workers’ Day in Chicago with an inspiring introduction to US labor history up to present-day voices of workers rising up ~ inspired by Howard Zinn
URL:https://holyokemedia.org/event/voices-of-working-people/
LOCATION:Holyoke Media\, 1 Court Plaza\, Holyoke\, MA\, 01040\, United States
CATEGORIES:talk
END:VEVENT
BEGIN:VEVENT
DTSTART;TZID=America/Halifax:20240503T110000
DTEND;TZID=America/Halifax:20240503T120000
DTSTAMP:20260423T151010
CREATED:20240501T195627Z
LAST-MODIFIED:20240501T232935Z
UID:7255-1714734000-1714737600@holyokemedia.org
SUMMARY:Mayoral Press Conference
DESCRIPTION:Mayor Joshua García presents his plan for public safety with the Holyoke Police Department. \nWatch live
URL:https://holyokemedia.org/event/public-safety/
LOCATION:Holyoke Media\, 1 Court Plaza\, Holyoke\, MA\, 01040\, United States
CATEGORIES:talk
END:VEVENT
END:VCALENDAR