BEGIN:VCALENDAR
VERSION:2.0
PRODID:-//Holyoke Media - ECPv6.15.14//NONSGML v1.0//EN
CALSCALE:GREGORIAN
METHOD:PUBLISH
X-ORIGINAL-URL:https://holyokemedia.org
X-WR-CALDESC:Events for Holyoke Media
REFRESH-INTERVAL;VALUE=DURATION:PT1H
X-Robots-Tag:noindex
X-PUBLISHED-TTL:PT1H
BEGIN:VTIMEZONE
TZID:America/Halifax
BEGIN:DAYLIGHT
TZOFFSETFROM:-0400
TZOFFSETTO:-0300
TZNAME:ADT
DTSTART:20230312T060000
END:DAYLIGHT
BEGIN:STANDARD
TZOFFSETFROM:-0300
TZOFFSETTO:-0400
TZNAME:AST
DTSTART:20231105T050000
END:STANDARD
BEGIN:DAYLIGHT
TZOFFSETFROM:-0400
TZOFFSETTO:-0300
TZNAME:ADT
DTSTART:20240310T060000
END:DAYLIGHT
BEGIN:STANDARD
TZOFFSETFROM:-0300
TZOFFSETTO:-0400
TZNAME:AST
DTSTART:20241103T050000
END:STANDARD
BEGIN:DAYLIGHT
TZOFFSETFROM:-0400
TZOFFSETTO:-0300
TZNAME:ADT
DTSTART:20250309T060000
END:DAYLIGHT
BEGIN:STANDARD
TZOFFSETFROM:-0300
TZOFFSETTO:-0400
TZNAME:AST
DTSTART:20251102T050000
END:STANDARD
END:VTIMEZONE
BEGIN:VEVENT
DTSTART;TZID=America/Halifax:20241102T190000
DTEND;TZID=America/Halifax:20241102T210000
DTSTAMP:20260423T162522
CREATED:20241017T185120Z
LAST-MODIFIED:20241029T215333Z
UID:8363-1730574000-1730581200@holyokemedia.org
SUMMARY:The Obituary
DESCRIPTION:“The Obituary\,” the latest creation from playwright Benjamin D. Smith\, delves into the poignant tale of a father and son grappling with issues of identity\, love\, and acceptance in a contemporary world\, ultimately leading them to a fateful crossroads. \nIn a narrative where one lifetime proves insufficient\, a son is granted a second chance to communicate the unspoken to the departed\, unravelling fifty years of enigmatic family history in the process. \nBenjamin Smith\, an up-and-coming playwright and student enrolled in Harvard’s esteemed Dramatic Studies Program\, weaves an enthralling theatrical narrative that peels back the layers of a family’s hidden triumphs and tribulations.
URL:https://holyokemedia.org/event/the-obituary-3/
LOCATION:Holyoke Media\, 1 Court Plaza\, Holyoke\, MA\, 01040\, United States
CATEGORIES:theater
ATTACH;FMTTYPE=image/jpeg:https://holyokemedia.org/wp-content/uploads/2024/10/the-obit.jpg
END:VEVENT
BEGIN:VEVENT
DTSTART;TZID=America/Halifax:20241102T150000
DTEND;TZID=America/Halifax:20241102T160000
DTSTAMP:20260423T162522
CREATED:20241017T185027Z
LAST-MODIFIED:20241029T213224Z
UID:8361-1730559600-1730563200@holyokemedia.org
SUMMARY:The Obituary
DESCRIPTION:“The Obituary\,” the latest creation from playwright Benjamin D. Smith\, delves into the poignant tale of a father and son grappling with issues of identity\, love\, and acceptance in a contemporary world\, ultimately leading them to a fateful crossroads. \nIn a narrative where one lifetime proves insufficient\, a son is granted a second chance to communicate the unspoken to the departed\, unravelling fifty years of enigmatic family history in the process. \nBenjamin Smith\, an up-and-coming playwright and student enrolled in Harvard’s esteemed Dramatic Studies Program\, weaves an enthralling theatrical narrative that peels back the layers of a family’s hidden triumphs and tribulations. \nCatch this compelling production on October 9th\, 11th\, & 13th at The Latea Theater. Keep an eye out for ticket availability!
URL:https://holyokemedia.org/event/the-obituary-2/
LOCATION:Holyoke Media\, 1 Court Plaza\, Holyoke\, MA\, 01040\, United States
CATEGORIES:theater
ATTACH;FMTTYPE=image/jpeg:https://holyokemedia.org/wp-content/uploads/2024/10/the-obit.jpg
END:VEVENT
BEGIN:VEVENT
DTSTART;TZID=America/Halifax:20241101T190000
DTEND;TZID=America/Halifax:20241101T213000
DTSTAMP:20260423T162522
CREATED:20241017T184845Z
LAST-MODIFIED:20241029T215348Z
UID:8021-1730487600-1730496600@holyokemedia.org
SUMMARY:The Obituary
DESCRIPTION:“The Obituary\,” the latest creation from playwright Benjamin D. Smith\, delves into the poignant tale of a father and son grappling with issues of identity\, love\, and acceptance in a contemporary world\, ultimately leading them to a fateful crossroads. \nIn a narrative where one lifetime proves insufficient\, a son is granted a second chance to communicate the unspoken to the departed\, unravelling fifty years of enigmatic family history in the process. \nBenjamin Smith\, an up-and-coming playwright and student enrolled in Harvard’s esteemed Dramatic Studies Program\, weaves an enthralling theatrical narrative that peels back the layers of a family’s hidden triumphs and tribulations.
URL:https://holyokemedia.org/event/the-obituary-4/
LOCATION:Holyoke Media\, 1 Court Plaza\, Holyoke\, MA\, 01040\, United States
CATEGORIES:theater
ATTACH;FMTTYPE=image/jpeg:https://holyokemedia.org/wp-content/uploads/2024/10/the-obit.jpg
END:VEVENT
BEGIN:VEVENT
DTSTART;TZID=America/Halifax:20240824T180000
DTEND;TZID=America/Halifax:20240824T200000
DTSTAMP:20260423T162522
CREATED:20240718T181908Z
LAST-MODIFIED:20240719T214718Z
UID:7767-1724522400-1724529600@holyokemedia.org
SUMMARY:Foes of a Minimum Wage Guard
DESCRIPTION:SHOPLIFTING! INTERNAL AND EXTERNAL SHRINK! EMPLOYEE DISHONESTY! ORGANIZED RETAIL CRIME! RISING COSTS! \nTickets are now available for my upcoming solo play\, “Foes of a Minimum Wage Guard”! \nFor this semi-autobiographical tale\, I included some of my experience working in loss prevention and retail security. I always imagined what life would’ve been for me if I stayed in the field. \nIn this comedy story\, Steve Smelly\, an old complacent retail guard for a struggling department store in a dead mall\, is reassigned as a loss prevention officer. If he fails to stop rampant thefts\, he will be terminated by a grumpy district manager. \nThis 90-minute story of self discovery is a tribute to the forgotten department stores and malls that closed in recent years. I will be portraying 10 different characters and the conclusion to this ride will knock you out of your seats!
URL:https://holyokemedia.org/event/ken-harris-foes-of-a-minimum-wage-guard/
LOCATION:Holyoke Media\, 1 Court Plaza\, Holyoke\, MA\, 01040\, United States
CATEGORIES:theater
ATTACH;FMTTYPE=image/jpeg:https://holyokemedia.org/wp-content/uploads/2024/07/foes.jpg
END:VEVENT
BEGIN:VEVENT
DTSTART;TZID=America/Halifax:20240608T101500
DTEND;TZID=America/Halifax:20240608T170000
DTSTAMP:20260423T162522
CREATED:20240521T135707Z
LAST-MODIFIED:20240521T135802Z
UID:7457-1717841700-1717866000@holyokemedia.org
SUMMARY:Youthful Expressions
DESCRIPTION:
URL:https://holyokemedia.org/event/youthful-expressions/
LOCATION:Holyoke Media\, 1 Court Plaza\, Holyoke\, MA\, 01040\, United States
CATEGORIES:theater
END:VEVENT
BEGIN:VEVENT
DTSTART;TZID=America/Halifax:20240515T173000
DTEND;TZID=America/Halifax:20240515T200000
DTSTAMP:20260423T162522
CREATED:20240423T160405Z
LAST-MODIFIED:20240423T160951Z
UID:7049-1715794200-1715803200@holyokemedia.org
SUMMARY:Broadway Brings Joy! Sing\, Dance\, Act with Debra Vega
DESCRIPTION:Spring Musical Theater Showing in Holyoke!\nIt’s FREE!\n\n\nSave the date!\nWednesday May 15th at 5:30pm @broadway_brings_joy presents our Spring Trimester Musical Theater Showing of our Youth/Teen and Adult Programs.\n\n\nPrepare to be entertained with excerpts from the musicals SOMETHING ROTTEN and YOU’RE A GOOD MAN CHARLIE BROWN\, as well as a tribute to the iconic pop song\, “These Boots are Made for Walkin’.”\n\n\nWhere: @holyoke_media 1 Court Plaza (bottom of Suffolk St)\, Holyoke\nWhen: Wed\, May 15th\nDoors open: 5pm\nShowing starts: 5:30pm (30-40 mins)\n*This event is FREE and open to the public!\n\n\nA huge thank you to our sponsors:\nHolyoke Local Cultural Council\n@masscultural\n@holyoke_media\n\n\nCome see what our BBJ Programs are all about. We hope to see you there!
URL:https://holyokemedia.org/event/broadway-brings-joy-sing-dance-act-with-debra-vega/
LOCATION:Holyoke Media\, 1 Court Plaza\, Holyoke\, MA\, 01040\, United States
CATEGORIES:dance,theater
END:VEVENT
END:VCALENDAR