BEGIN:VCALENDAR
VERSION:2.0
PRODID:-//Holyoke Media - ECPv6.15.14//NONSGML v1.0//EN
CALSCALE:GREGORIAN
METHOD:PUBLISH
X-ORIGINAL-URL:https://holyokemedia.org
X-WR-CALDESC:Events for Holyoke Media
REFRESH-INTERVAL;VALUE=DURATION:PT1H
X-Robots-Tag:noindex
X-PUBLISHED-TTL:PT1H
BEGIN:VTIMEZONE
TZID:America/Halifax
BEGIN:DAYLIGHT
TZOFFSETFROM:-0400
TZOFFSETTO:-0300
TZNAME:ADT
DTSTART:20250309T060000
END:DAYLIGHT
BEGIN:STANDARD
TZOFFSETFROM:-0300
TZOFFSETTO:-0400
TZNAME:AST
DTSTART:20251102T050000
END:STANDARD
BEGIN:DAYLIGHT
TZOFFSETFROM:-0400
TZOFFSETTO:-0300
TZNAME:ADT
DTSTART:20260308T060000
END:DAYLIGHT
BEGIN:STANDARD
TZOFFSETFROM:-0300
TZOFFSETTO:-0400
TZNAME:AST
DTSTART:20261101T050000
END:STANDARD
BEGIN:DAYLIGHT
TZOFFSETFROM:-0400
TZOFFSETTO:-0300
TZNAME:ADT
DTSTART:20270314T060000
END:DAYLIGHT
BEGIN:STANDARD
TZOFFSETFROM:-0300
TZOFFSETTO:-0400
TZNAME:AST
DTSTART:20271107T050000
END:STANDARD
END:VTIMEZONE
BEGIN:VEVENT
DTSTART;TZID=America/Halifax:20260416T173000
DTEND;TZID=America/Halifax:20260429T190000
DTSTAMP:20260423T073100
CREATED:20260204T211745Z
LAST-MODIFIED:20260204T222119Z
UID:10584-1776360600-1777489200@holyokemedia.org
SUMMARY:Cómo mover archivos en línea
DESCRIPTION:Este curso fácil y para principiantes está diseñado para adultos de 18 años en adelante que desean sentirse más cómodos usando computadoras y el internet. Si estás regresando a la escuela\, preparándote para un trabajo\, o simplemente quieres aprender más sobre la tecnología\, esta clase es para ti. Aprenderás a tu propio ritmo en un ambiente amigable y sin presión. \nLo Que Aprenderás:\nEncender y Apagar una Computadora o DispositivoAprende cómo encender y apagar correctamente computadoras\, laptops y otros dispositivos de uso diario. \nUso del Mouse o Panel Táctil (Touchpad)Practica habilidades básicas como hacer clic\, doble clic\, desplazarte por la pantalla y mover elementos. \nAtajos Básicos del TecladoAprende trucos sencillos del teclado que te ayudarán a ahorrar tiempo y facilitar tareas. \nUso de Navegadores de InternetAprende a abrir y usar navegadores de internet como Google Chrome o Microsoft Edge. \nBúsqueda en Internet y Navegación de Sitios WebAprende a buscar información\, recorrer páginas web y entender direcciones web. \nCrear\, Enviar y Responder Correos ElectrónicosConfigura una cuenta de correo electrónico\, escribe mensajes\, envía archivos adjuntos y organiza tu bandeja de entrada. \nSubir y Descargar ArchivosAprende a guardar archivos en tu computadora y enviar documentos o fotos de forma segura. \nUso Básico de Google DocsCrea documentos sencillos\, escribe texto y guarda o comparte tu trabajo usando Google Docs\, una herramienta gratuita en línea. \nCrear y Recordar Contraseñas SegurasAprende a crear contraseñas fuertes y mantener tu información personal protegida. \nUnirse a Reuniones en Línea (Google Meet)Practica cómo unirte a videollamadas\, usar la cámara y el micrófono\, y participar en reuniones virtuales. \n\nAl finalizar este curso\, tendrás las habilidades básicas de computación necesarias para la vida diaria\, la escuela y el trabajo. No se requiere experiencia previa — ¡solo ganas de aprender!
URL:https://holyokemedia.org/event/como-mover-archivos-en-linea/
LOCATION:Holyoke Media\, 1 Court Plaza\, Holyoke\, MA\, 01040\, United States
ATTACH;FMTTYPE=image/jpeg:https://holyokemedia.org/wp-content/uploads/2026/02/digital-nav-class-eng.jpg
END:VEVENT
BEGIN:VEVENT
DTSTART;TZID=America/Halifax:20260423T173000
DTEND;TZID=America/Halifax:20260506T190000
DTSTAMP:20260423T073100
CREATED:20260203T185953Z
LAST-MODIFIED:20260204T222059Z
UID:10560-1776965400-1778094000@holyokemedia.org
SUMMARY:Moving Files Online
DESCRIPTION:This beginner-level course is designed for adults aged 18 and older who want to build confidence and essential skills in using computers and the internet. Whether you’re returning to school\, preparing for the workforce\, or simply looking to improve your digital literacy\, this class offers a supportive environment to learn at your own pace. \nWhat You’ll Learn: \n\n\nTurning On/Off a Computer or DeviceLearn the proper steps to start up and shut down computers\, laptops\, and other common devices. \n\n\nUsing a Mouse or TrackpadPractice basic functions like clicking\, double-clicking\, scrolling\, and dragging using a mouse or touchpad. \n\n\nKeyboard ShortcutsDiscover helpful shortcuts that can save time and make tasks easier. \n\n\nUsing Web BrowsersGet comfortable opening and navigating internet browsers like Google Chrome or Microsoft Edge. \n\n\nConducting Searches & Navigating WebsitesLearn how to search for information\, explore websites\, and understand web addresses (URLs). \n\n\nCreating\, Sending & Replying to EmailsSet up an email account\, write messages\, attach files\, and manage your inbox effectively. \n\n\nUploading and Downloading FilesLearn how to move files to and from your device safely\, including attachments\, images\, and documents. \n\n\nUsing Basic Features in Google DocsCreate\, edit\, and share documents using Google Docs — a free and widely used online word processor. \n\n\nCreating and Managing Strong PasswordsUnderstand how to create secure passwords and keep your accounts safe. \n\n\nUsing Platforms Like Google MeetGet familiar with joining virtual meetings\, using your camera and microphone\, and navigating video call features. \n\n\nBy the end of this course\, you’ll be equipped with the digital skills needed for school\, work\, and everyday life. No prior computer experience is required — just a willingness to learn!
URL:https://holyokemedia.org/event/moving-files-online/
LOCATION:Holyoke Media\, 1 Court Plaza\, Holyoke\, MA\, 01040\, United States
ATTACH;FMTTYPE=image/jpeg:https://holyokemedia.org/wp-content/uploads/2026/02/digital-nav-class-eng.jpg
END:VEVENT
BEGIN:VEVENT
DTSTART;TZID=America/Halifax:20260423T193000
DTEND;TZID=America/Halifax:20260423T220000
DTSTAMP:20260423T073100
CREATED:20260307T221837Z
LAST-MODIFIED:20260307T221837Z
UID:10729-1776972600-1776981600@holyokemedia.org
SUMMARY:Masters of Sonic Liberation
DESCRIPTION:Masters of Sonic Liberation is a groundbreaking monthly music series aiming to captivate your senses and push the boundaries of sonic creation. Presented by Bonnie Kane and John Loggia of the KaneLoggiaHYPOTHESIS\, the series is a gateway to a universe of limitless musical exploration\, fueled by the expansive imagination of master musicians who have left the norms and abandoned the pop\, easy listening and pre-fab culture\, to continually investigate and create music of the greatest depth and personal expression that reaches directly into the algebra of the mind\, heart\, and soul. You are invited to witness wildly expressive improvisations\, scintillating in their immediacy\, an expression of the intersection of time and place known as the NOW. \nFrom improvisation and free jazz to noise\, avant-garde\, electronic manipulations\, and modern composition\, our lineup encompasses a wide spectrum of sonic expressions that defy conventional categorization. The unifying principle of these artists is their dedication to exploratory\, hypothetical\, investigational\, probing\, observational\, theoretical\, innovative\, inventive\, radical\, avant-garde\, anti-normative\, alternative\, fringe\, unfamiliar\, unorthodox\, unconventional\, unusual\, eccentric\, avant-garde\, avant-core\, free thinking\, way-out music. \nWhether it’s a solo performance that pushes the boundaries of traditional instruments\, or a dynamic ensemble blending a symphony of unconventional sounds\, we present encounters with the avant-garde that will leave you mesmerized. From hauntingly exquisite melodies to ear-bending dissonance\, Masters of Sonic Liberation offers an unique live experience with virtuoso artists\, where every note is a testament to audacious creativity. \nThe live shows are streamed at:\nhttps://bit.ly/SonicLiberation_facebook\nhttps://bit.ly/SonicLiberation_youtube \nPast performances can be found on Youtube. http://youtube.com/@mastersofsonicliberation \nMasters of Sonic Liberation: Where the intangible becomes tangible; where sound becomes magic.
URL:https://holyokemedia.org/event/masters-of-sonic-liberation-19/
LOCATION:Holyoke Media\, 1 Court Plaza\, Holyoke\, MA\, 01040\, United States
ATTACH;FMTTYPE=image/jpeg:https://holyokemedia.org/wp-content/uploads/2024/09/mosl-generic-v2.jpg
END:VEVENT
BEGIN:VEVENT
DTSTART;TZID=America/Halifax:20260430T173000
DTEND;TZID=America/Halifax:20260430T190000
DTSTAMP:20260423T073100
CREATED:20260204T211854Z
LAST-MODIFIED:20260204T222144Z
UID:10586-1777570200-1777575600@holyokemedia.org
SUMMARY:Herramientas de Google para el día a día
DESCRIPTION:Este curso fácil y para principiantes está diseñado para adultos de 18 años en adelante que desean sentirse más cómodos usando computadoras y el internet. Si estás regresando a la escuela\, preparándote para un trabajo\, o simplemente quieres aprender más sobre la tecnología\, esta clase es para ti. Aprenderás a tu propio ritmo en un ambiente amigable y sin presión. \nLo Que Aprenderás:\nEncender y Apagar una Computadora o DispositivoAprende cómo encender y apagar correctamente computadoras\, laptops y otros dispositivos de uso diario. \nUso del Mouse o Panel Táctil (Touchpad)Practica habilidades básicas como hacer clic\, doble clic\, desplazarte por la pantalla y mover elementos. \nAtajos Básicos del TecladoAprende trucos sencillos del teclado que te ayudarán a ahorrar tiempo y facilitar tareas. \nUso de Navegadores de InternetAprende a abrir y usar navegadores de internet como Google Chrome o Microsoft Edge. \nBúsqueda en Internet y Navegación de Sitios WebAprende a buscar información\, recorrer páginas web y entender direcciones web. \nCrear\, Enviar y Responder Correos ElectrónicosConfigura una cuenta de correo electrónico\, escribe mensajes\, envía archivos adjuntos y organiza tu bandeja de entrada. \nSubir y Descargar ArchivosAprende a guardar archivos en tu computadora y enviar documentos o fotos de forma segura. \nUso Básico de Google DocsCrea documentos sencillos\, escribe texto y guarda o comparte tu trabajo usando Google Docs\, una herramienta gratuita en línea. \nCrear y Recordar Contraseñas SegurasAprende a crear contraseñas fuertes y mantener tu información personal protegida. \nUnirse a Reuniones en Línea (Google Meet)Practica cómo unirte a videollamadas\, usar la cámara y el micrófono\, y participar en reuniones virtuales. \n\nAl finalizar este curso\, tendrás las habilidades básicas de computación necesarias para la vida diaria\, la escuela y el trabajo. No se requiere experiencia previa — ¡solo ganas de aprender!
URL:https://holyokemedia.org/event/herramientas-de-google-para-el-dia-a-dia/
LOCATION:Holyoke Media\, 1 Court Plaza\, Holyoke\, MA\, 01040\, United States
ATTACH;FMTTYPE=image/jpeg:https://holyokemedia.org/wp-content/uploads/2026/02/digital-nav-class-eng.jpg
END:VEVENT
BEGIN:VEVENT
DTSTART;TZID=America/Halifax:20260507T173000
DTEND;TZID=America/Halifax:20260507T190000
DTSTAMP:20260423T073100
CREATED:20260203T190400Z
LAST-MODIFIED:20260204T222210Z
UID:10562-1778175000-1778180400@holyokemedia.org
SUMMARY:Google Tools for Everyday Life
DESCRIPTION:This beginner-level course is designed for adults aged 18 and older who want to build confidence and essential skills in using computers and the internet. Whether you’re returning to school\, preparing for the workforce\, or simply looking to improve your digital literacy\, this class offers a supportive environment to learn at your own pace. \nWhat You’ll Learn: \n\n\nTurning On/Off a Computer or DeviceLearn the proper steps to start up and shut down computers\, laptops\, and other common devices. \n\n\nUsing a Mouse or TrackpadPractice basic functions like clicking\, double-clicking\, scrolling\, and dragging using a mouse or touchpad. \n\n\nKeyboard ShortcutsDiscover helpful shortcuts that can save time and make tasks easier. \n\n\nUsing Web BrowsersGet comfortable opening and navigating internet browsers like Google Chrome or Microsoft Edge. \n\n\nConducting Searches & Navigating WebsitesLearn how to search for information\, explore websites\, and understand web addresses (URLs). \n\n\nCreating\, Sending & Replying to EmailsSet up an email account\, write messages\, attach files\, and manage your inbox effectively. \n\n\nUploading and Downloading FilesLearn how to move files to and from your device safely\, including attachments\, images\, and documents. \n\n\nUsing Basic Features in Google DocsCreate\, edit\, and share documents using Google Docs — a free and widely used online word processor. \n\n\nCreating and Managing Strong PasswordsUnderstand how to create secure passwords and keep your accounts safe. \n\n\nUsing Platforms Like Google MeetGet familiar with joining virtual meetings\, using your camera and microphone\, and navigating video call features. \n\n\nBy the end of this course\, you’ll be equipped with the digital skills needed for school\, work\, and everyday life. No prior computer experience is required — just a willingness to learn!
URL:https://holyokemedia.org/event/google-tools-for-everyday-life-2/
LOCATION:Holyoke Media\, 1 Court Plaza\, Holyoke\, MA\, 01040\, United States
ATTACH;FMTTYPE=image/jpeg:https://holyokemedia.org/wp-content/uploads/2026/02/digital-nav-class-eng.jpg
END:VEVENT
BEGIN:VEVENT
DTSTART;TZID=America/Halifax:20260514T173000
DTEND;TZID=America/Halifax:20260514T190000
DTSTAMP:20260423T073100
CREATED:20260204T222506Z
LAST-MODIFIED:20260204T222506Z
UID:10594-1778779800-1778785200@holyokemedia.org
SUMMARY:Cómo mantenerse seguro en internet
DESCRIPTION:Este curso fácil y para principiantes está diseñado para adultos de 18 años en adelante que desean sentirse más cómodos usando computadoras y el internet. Si estás regresando a la escuela\, preparándote para un trabajo\, o simplemente quieres aprender más sobre la tecnología\, esta clase es para ti. Aprenderás a tu propio ritmo en un ambiente amigable y sin presión. \nLo Que Aprenderás:\nEncender y Apagar una Computadora o DispositivoAprende cómo encender y apagar correctamente computadoras\, laptops y otros dispositivos de uso diario. \nUso del Mouse o Panel Táctil (Touchpad)Practica habilidades básicas como hacer clic\, doble clic\, desplazarte por la pantalla y mover elementos. \nAtajos Básicos del TecladoAprende trucos sencillos del teclado que te ayudarán a ahorrar tiempo y facilitar tareas. \nUso de Navegadores de InternetAprende a abrir y usar navegadores de internet como Google Chrome o Microsoft Edge. \nBúsqueda en Internet y Navegación de Sitios WebAprende a buscar información\, recorrer páginas web y entender direcciones web. \nCrear\, Enviar y Responder Correos ElectrónicosConfigura una cuenta de correo electrónico\, escribe mensajes\, envía archivos adjuntos y organiza tu bandeja de entrada. \nSubir y Descargar ArchivosAprende a guardar archivos en tu computadora y enviar documentos o fotos de forma segura. \nUso Básico de Google DocsCrea documentos sencillos\, escribe texto y guarda o comparte tu trabajo usando Google Docs\, una herramienta gratuita en línea. \nCrear y Recordar Contraseñas SegurasAprende a crear contraseñas fuertes y mantener tu información personal protegida. \nUnirse a Reuniones en Línea (Google Meet)Practica cómo unirte a videollamadas\, usar la cámara y el micrófono\, y participar en reuniones virtuales. \n\nAl finalizar este curso\, tendrás las habilidades básicas de computación necesarias para la vida diaria\, la escuela y el trabajo. No se requiere experiencia previa — ¡solo ganas de aprender!
URL:https://holyokemedia.org/event/como-mantenerse-seguro-en-internet/
LOCATION:Holyoke Media\, 1 Court Plaza\, Holyoke\, MA\, 01040\, United States
ATTACH;FMTTYPE=image/jpeg:https://holyokemedia.org/wp-content/uploads/2026/02/digital-nav-class-eng.jpg
END:VEVENT
BEGIN:VEVENT
DTSTART;TZID=America/Halifax:20260521T173000
DTEND;TZID=America/Halifax:20260521T190000
DTSTAMP:20260423T073100
CREATED:20260204T222414Z
LAST-MODIFIED:20260204T222414Z
UID:10592-1779384600-1779390000@holyokemedia.org
SUMMARY:Staying Safe Online
DESCRIPTION:This beginner-level course is designed for adults aged 18 and older who want to build confidence and essential skills in using computers and the internet. Whether you’re returning to school\, preparing for the workforce\, or simply looking to improve your digital literacy\, this class offers a supportive environment to learn at your own pace. \nWhat You’ll Learn: \n\n\nTurning On/Off a Computer or DeviceLearn the proper steps to start up and shut down computers\, laptops\, and other common devices. \n\n\nUsing a Mouse or TrackpadPractice basic functions like clicking\, double-clicking\, scrolling\, and dragging using a mouse or touchpad. \n\n\nKeyboard ShortcutsDiscover helpful shortcuts that can save time and make tasks easier. \n\n\nUsing Web BrowsersGet comfortable opening and navigating internet browsers like Google Chrome or Microsoft Edge. \n\n\nConducting Searches & Navigating WebsitesLearn how to search for information\, explore websites\, and understand web addresses (URLs). \n\n\nCreating\, Sending & Replying to EmailsSet up an email account\, write messages\, attach files\, and manage your inbox effectively. \n\n\nUploading and Downloading FilesLearn how to move files to and from your device safely\, including attachments\, images\, and documents. \n\n\nUsing Basic Features in Google DocsCreate\, edit\, and share documents using Google Docs — a free and widely used online word processor. \n\n\nCreating and Managing Strong PasswordsUnderstand how to create secure passwords and keep your accounts safe. \n\n\nUsing Platforms Like Google MeetGet familiar with joining virtual meetings\, using your camera and microphone\, and navigating video call features. \n\n\nBy the end of this course\, you’ll be equipped with the digital skills needed for school\, work\, and everyday life. No prior computer experience is required — just a willingness to learn!
URL:https://holyokemedia.org/event/staying-safe-online/
LOCATION:Holyoke Media\, 1 Court Plaza\, Holyoke\, MA\, 01040\, United States
ATTACH;FMTTYPE=image/jpeg:https://holyokemedia.org/wp-content/uploads/2026/02/digital-nav-class-eng.jpg
END:VEVENT
BEGIN:VEVENT
DTSTART;TZID=America/Halifax:20260528T173000
DTEND;TZID=America/Halifax:20260528T190000
DTSTAMP:20260423T073100
CREATED:20260204T212139Z
LAST-MODIFIED:20260204T222246Z
UID:10588-1779989400-1779994800@holyokemedia.org
SUMMARY:Reuniones virtuales sin complicaciones
DESCRIPTION:Este curso fácil y para principiantes está diseñado para adultos de 18 años en adelante que desean sentirse más cómodos usando computadoras y el internet. Si estás regresando a la escuela\, preparándote para un trabajo\, o simplemente quieres aprender más sobre la tecnología\, esta clase es para ti. Aprenderás a tu propio ritmo en un ambiente amigable y sin presión. \nLo Que Aprenderás:\nEncender y Apagar una Computadora o DispositivoAprende cómo encender y apagar correctamente computadoras\, laptops y otros dispositivos de uso diario. \nUso del Mouse o Panel Táctil (Touchpad)Practica habilidades básicas como hacer clic\, doble clic\, desplazarte por la pantalla y mover elementos. \nAtajos Básicos del TecladoAprende trucos sencillos del teclado que te ayudarán a ahorrar tiempo y facilitar tareas. \nUso de Navegadores de InternetAprende a abrir y usar navegadores de internet como Google Chrome o Microsoft Edge. \nBúsqueda en Internet y Navegación de Sitios WebAprende a buscar información\, recorrer páginas web y entender direcciones web. \nCrear\, Enviar y Responder Correos ElectrónicosConfigura una cuenta de correo electrónico\, escribe mensajes\, envía archivos adjuntos y organiza tu bandeja de entrada. \nSubir y Descargar ArchivosAprende a guardar archivos en tu computadora y enviar documentos o fotos de forma segura. \nUso Básico de Google DocsCrea documentos sencillos\, escribe texto y guarda o comparte tu trabajo usando Google Docs\, una herramienta gratuita en línea. \nCrear y Recordar Contraseñas SegurasAprende a crear contraseñas fuertes y mantener tu información personal protegida. \nUnirse a Reuniones en Línea (Google Meet)Practica cómo unirte a videollamadas\, usar la cámara y el micrófono\, y participar en reuniones virtuales. \n\nAl finalizar este curso\, tendrás las habilidades básicas de computación necesarias para la vida diaria\, la escuela y el trabajo. No se requiere experiencia previa — ¡solo ganas de aprender!
URL:https://holyokemedia.org/event/reuniones-virtuales-sin-complicaciones/
LOCATION:Holyoke Media\, 1 Court Plaza\, Holyoke\, MA\, 01040\, United States
ATTACH;FMTTYPE=image/jpeg:https://holyokemedia.org/wp-content/uploads/2026/02/digital-nav-class-eng.jpg
END:VEVENT
BEGIN:VEVENT
DTSTART;TZID=America/Halifax:20260604T173000
DTEND;TZID=America/Halifax:20260604T190000
DTSTAMP:20260423T073100
CREATED:20260203T190646Z
LAST-MODIFIED:20260204T222304Z
UID:10564-1780594200-1780599600@holyokemedia.org
SUMMARY:Virtual Meetings Made Simple
DESCRIPTION:This beginner-level course is designed for adults aged 18 and older who want to build confidence and essential skills in using computers and the internet. Whether you’re returning to school\, preparing for the workforce\, or simply looking to improve your digital literacy\, this class offers a supportive environment to learn at your own pace. \nWhat You’ll Learn: \n\n\nTurning On/Off a Computer or DeviceLearn the proper steps to start up and shut down computers\, laptops\, and other common devices. \n\n\nUsing a Mouse or TrackpadPractice basic functions like clicking\, double-clicking\, scrolling\, and dragging using a mouse or touchpad. \n\n\nKeyboard ShortcutsDiscover helpful shortcuts that can save time and make tasks easier. \n\n\nUsing Web BrowsersGet comfortable opening and navigating internet browsers like Google Chrome or Microsoft Edge. \n\n\nConducting Searches & Navigating WebsitesLearn how to search for information\, explore websites\, and understand web addresses (URLs). \n\n\nCreating\, Sending & Replying to EmailsSet up an email account\, write messages\, attach files\, and manage your inbox effectively. \n\n\nUploading and Downloading FilesLearn how to move files to and from your device safely\, including attachments\, images\, and documents. \n\n\nUsing Basic Features in Google DocsCreate\, edit\, and share documents using Google Docs — a free and widely used online word processor. \n\n\nCreating and Managing Strong PasswordsUnderstand how to create secure passwords and keep your accounts safe. \n\n\nUsing Platforms Like Google MeetGet familiar with joining virtual meetings\, using your camera and microphone\, and navigating video call features. \n\n\nBy the end of this course\, you’ll be equipped with the digital skills needed for school\, work\, and everyday life. No prior computer experience is required — just a willingness to learn!
URL:https://holyokemedia.org/event/keeping-your-digital-life-secure/
LOCATION:Holyoke Media\, 1 Court Plaza\, Holyoke\, MA\, 01040\, United States
ATTACH;FMTTYPE=image/jpeg:https://holyokemedia.org/wp-content/uploads/2026/02/digital-nav-class-eng.jpg
END:VEVENT
END:VCALENDAR