BEGIN:VCALENDAR
VERSION:2.0
PRODID:-//Holyoke Media - ECPv6.15.14//NONSGML v1.0//EN
CALSCALE:GREGORIAN
METHOD:PUBLISH
X-WR-CALNAME:Holyoke Media
X-ORIGINAL-URL:https://holyokemedia.org
X-WR-CALDESC:Events for Holyoke Media
REFRESH-INTERVAL;VALUE=DURATION:PT1H
X-Robots-Tag:noindex
X-PUBLISHED-TTL:PT1H
BEGIN:VTIMEZONE
TZID:America/Halifax
BEGIN:DAYLIGHT
TZOFFSETFROM:-0400
TZOFFSETTO:-0300
TZNAME:ADT
DTSTART:20220313T060000
END:DAYLIGHT
BEGIN:STANDARD
TZOFFSETFROM:-0300
TZOFFSETTO:-0400
TZNAME:AST
DTSTART:20221106T050000
END:STANDARD
BEGIN:DAYLIGHT
TZOFFSETFROM:-0400
TZOFFSETTO:-0300
TZNAME:ADT
DTSTART:20230312T060000
END:DAYLIGHT
BEGIN:STANDARD
TZOFFSETFROM:-0300
TZOFFSETTO:-0400
TZNAME:AST
DTSTART:20231105T050000
END:STANDARD
BEGIN:DAYLIGHT
TZOFFSETFROM:-0400
TZOFFSETTO:-0300
TZNAME:ADT
DTSTART:20240310T060000
END:DAYLIGHT
BEGIN:STANDARD
TZOFFSETFROM:-0300
TZOFFSETTO:-0400
TZNAME:AST
DTSTART:20241103T050000
END:STANDARD
BEGIN:DAYLIGHT
TZOFFSETFROM:-0400
TZOFFSETTO:-0300
TZNAME:ADT
DTSTART:20250309T060000
END:DAYLIGHT
BEGIN:STANDARD
TZOFFSETFROM:-0300
TZOFFSETTO:-0400
TZNAME:AST
DTSTART:20251102T050000
END:STANDARD
END:VTIMEZONE
BEGIN:VTIMEZONE
TZID:UTC
BEGIN:STANDARD
TZOFFSETFROM:+0000
TZOFFSETTO:+0000
TZNAME:UTC
DTSTART:20180101T000000
END:STANDARD
END:VTIMEZONE
BEGIN:VEVENT
DTSTART;TZID=America/Halifax:20240503T190000
DTEND;TZID=America/Halifax:20240503T223000
DTSTAMP:20260424T071205
CREATED:20240423T160148Z
LAST-MODIFIED:20240501T233239Z
UID:7047-1714762800-1714775400@holyokemedia.org
SUMMARY:Voices of Working People
DESCRIPTION:A free program of dramatic readings and lots of songs\, with emphasis on Western Mass. voices\, telling the origin story of May Day as International Workers’ Day in Chicago with an inspiring introduction to US labor history up to present-day voices of workers rising up ~ inspired by Howard Zinn
URL:https://holyokemedia.org/event/voices-of-working-people/
LOCATION:Holyoke Media\, 1 Court Plaza\, Holyoke\, MA\, 01040\, United States
CATEGORIES:talk
END:VEVENT
BEGIN:VEVENT
DTSTART;TZID=America/Halifax:20240503T110000
DTEND;TZID=America/Halifax:20240503T120000
DTSTAMP:20260424T071205
CREATED:20240501T195627Z
LAST-MODIFIED:20240501T232935Z
UID:7255-1714734000-1714737600@holyokemedia.org
SUMMARY:Mayoral Press Conference
DESCRIPTION:Mayor Joshua García presents his plan for public safety with the Holyoke Police Department. \nWatch live
URL:https://holyokemedia.org/event/public-safety/
LOCATION:Holyoke Media\, 1 Court Plaza\, Holyoke\, MA\, 01040\, United States
CATEGORIES:talk
END:VEVENT
BEGIN:VEVENT
DTSTART;TZID=America/Halifax:20240502T190000
DTEND;TZID=America/Halifax:20240502T220000
DTSTAMP:20260424T071205
CREATED:20240423T155559Z
LAST-MODIFIED:20240502T005435Z
UID:7045-1714676400-1714687200@holyokemedia.org
SUMMARY:Open Stage Showcase
DESCRIPTION:Discover Exciting New & Established Western New England Artists \nApril 9th 7:00 pm @Holyoke Media 1 Court Plaza Holyoke\, MA Free Admission \nSolo artists\, duos\, and trios performing their own original music.The New Music Alliance (501c(3) and Holyoke Media have partnered to present this monthly Showcase in the Brand New State-of-the-Art Holyoke Media Facility!Enjoy a great show in a superb acoustically-optimized listening room environment- Unique to this area! \nWho’s Appearing? (in order of appearance)* Norma Dream (Norma Jean Haynes)\, Northampton\, MA* Mantis Clay\, Easthampton\, MA* Austin James\, Hartford\, CT* The Bargain\, New Haven\, CT* 77 Apes\, New Haven\, CT* Jesse Brody (aka Jesse Lepkoff)\, Marlboro\, VT* Glenn Petit\, Easthampton\, MA–Your Host: Mark SherrySponsored by Downtown Sounds
URL:https://holyokemedia.org/event/new-music-alliance/
LOCATION:Holyoke Media\, 1 Court Plaza\, Holyoke\, MA\, 01040\, United States
CATEGORIES:music
END:VEVENT
BEGIN:VEVENT
DTSTART;TZID=America/Halifax:20240417T193000
DTEND;TZID=America/Halifax:20240417T233000
DTSTAMP:20260424T071205
CREATED:20240417T201148Z
LAST-MODIFIED:20240417T201148Z
UID:6955-1713382200-1713396600@holyokemedia.org
SUMMARY:Masters of Sonic Liberation
DESCRIPTION:
URL:https://holyokemedia.org/event/masters-of-sonic-liberation-3/
LOCATION:Holyoke Media\, 1 Court Plaza\, Holyoke\, MA\, 01040\, United States
ATTACH;FMTTYPE=image/jpeg:https://holyokemedia.org/wp-content/uploads/2024/04/mosl-240417-open.jpg
END:VEVENT
BEGIN:VEVENT
DTSTART;TZID=America/Halifax:20240409T190000
DTEND;TZID=America/Halifax:20240409T210000
DTSTAMP:20260424T071205
CREATED:20240405T135939Z
LAST-MODIFIED:20240405T140302Z
UID:6844-1712689200-1712696400@holyokemedia.org
SUMMARY:Open Stage Showcase
DESCRIPTION:Open Stage Showcase New Music Alliance presents exciting new & established Western New England artists\nApril 9th 7:00 pm @Holyoke Media 1 Court Plaza Holyoke\, MA \nFree Admission \nSolo artists\, duos\, and trios performing their own original music. \nThe New Music Alliance (501c(3) and Holyoke Media have partnered to present this monthly Showcase in the Brand New State-of-the-Art Holyoke Media Facility!\nEnjoy a great show in a superb acoustically-optimized listening room environment- Unique to this area \nWho’s Appearing? (in order of appearance)\n* Cyd Reiman Pelham\, MA\n* Xavier Serrano\, New Haven. CT\n* Charlie Diamond\, Enfield\, CT\n* Firetown Road\, Simsbury\, CT\n* Seth Newton\, Hardwick\, MA\n* Tom Maynard\, Thompson\, CT\n* Roath\, Fiskdale\, MA\n–\nYour Host: Mark Sherry\nSponsored by Downtown Sounds\n\n\nMark Sherry \nExecutive Director\, New Music Alliance\nProducer\, Valley Music Showcase\n(413) 374-7671\nwww.newmusicalliance.org\nwww.facebook.com/newmusicalliance\n\nwww.facebook.com/NMARadioHour\n\nwww.facebook.com/ValleyMusicShowcase\nwww.newmusicalliance.org/Songbook
URL:https://holyokemedia.org/event/open-stage-showcase/
LOCATION:Holyoke Media\, 1 Court Plaza\, Holyoke\, MA\, 01040\, United States
ATTACH;FMTTYPE=image/png:https://holyokemedia.org/wp-content/uploads/2024/04/open-stage-showcase-apr-9-v2.png
END:VEVENT
BEGIN:VEVENT
DTSTART;TZID=America/Halifax:20240328T193000
DTEND;TZID=America/Halifax:20240328T220000
DTSTAMP:20260424T071205
CREATED:20240328T210808Z
LAST-MODIFIED:20240328T210808Z
UID:6766-1711654200-1711663200@holyokemedia.org
SUMMARY:Masters of Sonic Liberation
DESCRIPTION:TONIGHT! \nIn order of appearance: \nConnect Four \nIo M Theft Able \nTranscendent Winds
URL:https://holyokemedia.org/event/masters-of-sonic-liberation-2/
LOCATION:Holyoke Media\, 1 Court Plaza\, Holyoke\, MA\, 01040\, United States
END:VEVENT
BEGIN:VEVENT
DTSTART;TZID=America/Halifax:20240228T190000
DTEND;TZID=America/Halifax:20240228T230000
DTSTAMP:20260424T071205
CREATED:20240228T231153Z
LAST-MODIFIED:20240228T231153Z
UID:6482-1709146800-1709161200@holyokemedia.org
SUMMARY:Masters of Sonic Liberation
DESCRIPTION:Performance at Holyoke Media Theater TONIGHT at 7 pm\, music at 730 pm. \nMasters of Sonic Liberation
URL:https://holyokemedia.org/event/masters-of-sonic-liberation/
LOCATION:Holyoke Media\, 1 Court Plaza\, Holyoke\, MA\, 01040\, United States
END:VEVENT
BEGIN:VEVENT
DTSTART;TZID=America/Halifax:20240201T190000
DTEND;TZID=America/Halifax:20240201T210000
DTSTAMP:20260424T071205
CREATED:20231206T192003Z
LAST-MODIFIED:20231206T192003Z
UID:6080-1706814000-1706821200@holyokemedia.org
SUMMARY:New Music Alliance - Open Stage Showcase
DESCRIPTION:The New Music Alliance is premiering a monthly “Open Stage Showcase”. The Open Stage Showcase will showcase 6-8 performers at each event\, as well as including a featured performer. We hope to present a lot of incredibly talented Western New England musicians. \nThe New Music Alliance is a non-profit 501c(3) organization whose mission is to assist the careers of musicians who write original music from the Western New England area & to promote the area as a destination for writing\, recording\, and live performances of original music. We do this in a variety of ways\, including: producing a weekly syndicated radio show broadcast on 9 regional stations in W. MA and Northern CT; live events (like the Valley Music Showcase); compiling the Essential Western New England Songbook (a listenable Hall of Fame of many of the best songs ever written by W. New England artists; and workshops.\n(Please note: We define Western New England as the area that includes Worcester and west in MA\, all of CT ex. Fairfield County\, and Southern Vermont.)
URL:https://holyokemedia.org/event/new-music-alliance-open-stage-showcase-2/
LOCATION:Holyoke Media\, 1 Court Plaza\, Holyoke\, MA\, 01040\, United States
ATTACH;FMTTYPE=image/jpeg:https://holyokemedia.org/wp-content/uploads/2023/12/nms.jpg
END:VEVENT
BEGIN:VEVENT
DTSTART;TZID=America/Halifax:20240104T190000
DTEND;TZID=America/Halifax:20240104T210000
DTSTAMP:20260424T071205
CREATED:20231206T190523Z
LAST-MODIFIED:20231206T190523Z
UID:6074-1704394800-1704402000@holyokemedia.org
SUMMARY:New Music Alliance - Open Stage Showcase
DESCRIPTION:Starting January 4\, 2023 the New Music Alliance is premiering the monthly “Open Stage Showcase”. The Open Stage Showcase will showcase 6-8 performers at each event\, as well as including a featured performer. We hope to present a lot of incredibly talented Western New England musicians. \nThe New Music Alliance is a non-profit 501c(3) organization whose mission is to assist the careers of musicians who write original music from the Western New England area & to promote the area as a destination for writing\, recording\, and live performances of original music. We do this in a variety of ways\, including: producing a weekly syndicated radio show broadcast on 9 regional stations in W. MA and Northern CT; live events (like the Valley Music Showcase); compiling the Essential Western New England Songbook (a listenable Hall of Fame of many of the best songs ever written by W. New England artists; and workshops.\n(Please note: We define Western New England as the area that includes Worcester and west in MA\, all of CT ex. Fairfield County\, and Southern Vermont.)
URL:https://holyokemedia.org/event/new-music-alliance-open-stage-showcase/
LOCATION:Holyoke Media\, 1 Court Plaza\, Holyoke\, MA\, 01040\, United States
ATTACH;FMTTYPE=image/jpeg:https://holyokemedia.org/wp-content/uploads/2023/12/nms.jpg
END:VEVENT
BEGIN:VEVENT
DTSTART;TZID=America/Halifax:20231211T130000
DTEND;TZID=America/Halifax:20231211T150000
DTSTAMP:20260424T071205
CREATED:20231206T183323Z
LAST-MODIFIED:20231206T183323Z
UID:6070-1702299600-1702306800@holyokemedia.org
SUMMARY:PVTA Public Hearing
DESCRIPTION:PVTA seeks public comments on Title VI Analysis & route enhancements on the P21E and G73E. To review the changes being proposed\, please visit: https://www.pvta.com/meetingsManage/attachments/102/WebsiteP21E_G73E.pdf
URL:https://holyokemedia.org/event/pvta-public-hearing/
LOCATION:Holyoke Media\, 1 Court Plaza\, Holyoke\, MA\, 01040\, United States
ATTACH;FMTTYPE=image/png:https://holyokemedia.org/wp-content/uploads/2023/12/pvta-logo.png
END:VEVENT
BEGIN:VEVENT
DTSTART;TZID=America/Halifax:20231012T200000
DTEND;TZID=America/Halifax:20231012T230000
DTSTAMP:20260424T071205
CREATED:20230831T162409Z
LAST-MODIFIED:20230831T162409Z
UID:5869-1697140800-1697151600@holyokemedia.org
SUMMARY:mssv/Sky Furrows/Vex Party
DESCRIPTION:mssv aki tour 2023 https://mikebaggetta.bandcamp.com/music\nThe Punky power trio / dreamy experimental rockers (mike baggetta + stephen hodges + mike watt) return to Flywheel! \nSky Furrows https://skyfurrows.bandcamp.com/album/sky-furrows\nFronted by poet Karen Schoemer\, Albany NY’s Sky Furrows combine influences from krautrock\, NZ bands the Clean and the Verlaines\, the Minutemen\, Sylvia Plath and early Sonic Youth. Schoemer collaborates with bassist Mike Watt in Jaded Azurites\, and with Wreckless Eric & Amy Rigby. Eric Hardiman\, Mike Griffin and Phil Donnelly are members of psych rock unit Burnt Hills. \nVex Party https://vexparty.bandcamp.com/ Western MA loose-weave nonchalantcore
URL:https://holyokemedia.org/event/mssv-sky-furrows-vex-party/
LOCATION:Holyoke Media\, 1 Court Plaza\, Holyoke\, MA\, 01040\, United States
ATTACH;FMTTYPE=image/jpeg:https://holyokemedia.org/wp-content/uploads/2023/08/361092371_677701021070265_2056223790697729054_n.jpg
END:VEVENT
BEGIN:VEVENT
DTSTART;TZID=America/Halifax:20230916T190000
DTEND;TZID=America/Halifax:20230916T210000
DTSTAMP:20260424T071205
CREATED:20230831T160637Z
LAST-MODIFIED:20230831T160848Z
UID:5858-1694890800-1694898000@holyokemedia.org
SUMMARY:Open MIC'd Featuring Rachel Tanaka
DESCRIPTION:Join Attack Bear Press and Holyoke Media for a new live recorded monthly poetry night! Featuring Rachel Tanaka!\nRachel Tanaka (she/they) was born and raised in Honolulu\, Hawaii. She currently writes in Western Massachusetts and is a student at UMass Amherst’s MFA for Poets and Writers. They’ve been published in Vagabond City Lit\, Poetry Northwest\, and Overheard lit. Her work engages with the body\, family\, and water. \nShow starts at 7 PM\, Open Mic sign ups start at 6:45 PM. Poetry and spoken word welcome. Entry is free. Donations welcome!!\nThe show is recorded for broadcast on Holyoke Media.
URL:https://holyokemedia.org/event/open-micd-featuring-rachel-tanaka/
LOCATION:Holyoke Media\, 1 Court Plaza\, Holyoke\, MA\, 01040\, United States
ATTACH;FMTTYPE=image/jpeg:https://holyokemedia.org/wp-content/uploads/2023/08/abp-sept.jpg
END:VEVENT
BEGIN:VEVENT
DTSTART;TZID=America/Halifax:20230914T180000
DTEND;TZID=America/Halifax:20230914T200000
DTSTAMP:20260424T071205
CREATED:20230831T161837Z
LAST-MODIFIED:20230831T161837Z
UID:5866-1694714400-1694721600@holyokemedia.org
SUMMARY:Cable License Renewal Hearing
DESCRIPTION:Mayor Joshua A. Garcia\, as cable television licensing authority\, will hold a public cable license renewal hearing at 6 p.m. on Thursday\, September 14\, 2023\, at Holyoke Media\, 1 Court Plaza\, Holyoke\, as part of the City’s license renewal proceedings pertaining to Comcast.\nHolyoke’s Comcast cable license expires on March 11\, 2024.  \nFederal law requires a public hearing to ascertain the community’s cable-related needs and interests as part of the license renewal process. Public comment is invited regarding Comcast’s past performance. \nInterested persons may attend and directly participate in person or they may access the hearing remotely via www.zoom.us Meeting ID: 881 3755 3176 Passcode: 393722 or by call in at 1-929-205-6099 with same Meeting ID and Passcode. The hearing can be observed without remote participation for viewing only on Comcast Channel 15 in Holyoke.  \nFor further information and copies of renewal records\, or to offer testimony regarding Comcast’s past performance\, please contact Stephen Fay at the Holyoke Mayor’s Office\, City Hall\, 536 Dwight Street\, Holyoke\, Massachusetts 01040. Email: fays@holyoke.org\, telephone: 413-561-1600.
URL:https://holyokemedia.org/event/cable-license-renewal-hearing/
LOCATION:Holyoke Media\, 1 Court Plaza\, Holyoke\, MA\, 01040\, United States
ATTACH;FMTTYPE=image/jpeg:https://holyokemedia.org/wp-content/uploads/2023/08/contract-3.jpg
ORGANIZER;CN="The City of Holyoke":MAILTO:fays@holyoke.org
END:VEVENT
BEGIN:VEVENT
DTSTART;TZID=America/Halifax:20230907T183000
DTEND;TZID=America/Halifax:20230907T200000
DTSTAMP:20260424T071205
CREATED:20230831T161237Z
LAST-MODIFIED:20230831T161237Z
UID:5861-1694111400-1694116800@holyokemedia.org
SUMMARY:Inside Local Cultural Councils: a Webinar about Community Arts Funding in the Valley
DESCRIPTION:You know that Local Cultural Councils exist and you have been to LCC funded events but . . . who are these volunteers and how does the whole process really work? This webinar is for artists and art-appreciators who want to learn more from experienced LCC members before this year’s application deadline on October 17. \nRegister Today at https://artsmentors.org/
URL:https://holyokemedia.org/event/inside-local-cultural-councils-a-webinar-about-community-arts-funding-in-the-valley/
LOCATION:Zoom\, MA\, United States
ATTACH;FMTTYPE=image/jpeg:https://holyokemedia.org/wp-content/uploads/2023/08/lcc-webinar-broadcast.jpg
END:VEVENT
BEGIN:VEVENT
DTSTART;TZID=America/Halifax:20230825T193000
DTEND;TZID=America/Halifax:20230825T220000
DTSTAMP:20260424T071205
CREATED:20230803T191511Z
LAST-MODIFIED:20230803T191511Z
UID:5689-1692991800-1693000800@holyokemedia.org
SUMMARY:NMA Singer-Songwriter Showcase-"Men With a Jam": Four of the Best New Voices in W. New England Music
DESCRIPTION:*The New Music Alliance and Holyoke Media have partnered to present this special show at Holyoke Media’s brand new $2.5 million state-of-the-art facility.\n*Performers were selected as 4 of the Best New Voices in Western New England Music\nEnjoy a great show in a superb acoustically-optimized listening room environment- Unique to this area.\nWho’s Appearing?\n1) Charlie Diamond\, Enfield\, CT\n2) Jared Fiske\, Ware\, MA\n3) Sean Lemkey\, Hartford\, CT\n4) Dylan Patrick Ward\, Bellows Falls\, VT\n(See More Information on the artists below)\n– Performers will each do a 30 minute set that will showcase their original compositions\n– The event will conclude with all the performers joining together on stage for an ensemble performance.\nAdmission: $10 (Seating is limited)\n1) Charlie Diamond\nSinger-Songwriter/Firefighter/Adventurer– “I was born at night. When the stars were out and the wind danced through the trees like a whirlwind serenade.\nAnd so\, music was in my bones. Life’s mysterious undercurrents made sure of that.\nWrestled an alligator\, fought a tornado\, and been everywhere twice. Ran away with the circus when I was 16 and spent a few years as a tent rigger. Started writing songs when I was hiking the Appalachia trail. Thoroughly convinced I’ve been reincarnated and landed in the wrong decade. I write a lot about the mountain I grew up on. Spend a lot of time in corners talking to myself.”\nSong Links: https://open.spotify.com/track/3EJnVeutnaoGlikPCqAnlb…\nhttps://open.spotify.com/track/0o1GVJXhM66Mls5a0ZdVcY…\n2) Jared Fiske\nJared is best known for his work as a solo performer and songwriter\, and as a member of the popular Americana/rock outfit “The Casters”. He also performs in an acoustic duo with his wife\, Jessica\, under the pseudonym “Never Say Never”. Hailing from an artistic family\, Fiske began performing in musical groups with his father\, Rob Adams\, and brother Seth at a young age.\nFiske’s original song “Choice” was selected for use in a short film by the non-profit organization Planetaid.org. Worcester Magazine said of his most recent album “We’re Already Gone” that “there’s really no way to prepare oneself for how achingly beautiful and melancholy Jared Fiske’s new album is.” (Victor Infante).\nYou can catch Jared performing at bars\, coffeehouses and festivals throughout Massachusetts.\nSong Links: https://open.spotify.com/track/3RDGKiEwa8OEEp97FXHeHT…\nhttps://open.spotify.com/track/7Kkvc4MMve9h244WgtIAX1…\n3) Sean Lemkey\nSean Lemkey is a singer songwriter and multi-instrumentalist. Sean is best known for his involvement as vocalist and cofounder of the folk-rock band “Among The Acres”. Lemkey fuses an ethereal and yearning energy with an evocative modern indie-folk-pop sensibility. Taking up the drums at age 5\, he would go on to study the instrument for 13 years before later teaching himself guitar in college.\nAs a drummer\, guitarist\, songwriter and collaborator\, Lemkey has been involved in dozens of projects over the past decade\, spanning a breadth of genres and styles. During the isolating pandemic winter of 2022\, Lemkey decided to finally embark on the journey of writing and recording his first ever full length solo LP\, which was released in April 2023.\nSong Links: https://open.spotify.com/track/3BjdBVNOQuPkQpmijQcbfF…\nhttps://open.spotify.com/track/0yuIVXce2OqVpCg4hsAHrI…\n4) Dylan Patrick Ward\n“He’s funny. He’s also as serious as an ax-handle.”-Peter Mulvey\nKnown for songs that are by turns heartbreaking and laugh-out-loud funny\, Dylan Patrick Ward is a Vermont-based singer-songwriter whose sharp lyrics and sweet melodies present the world in all it’s absurd and tragic glory.\nHis empathy and candor have drawn comparisons to the Mountain Goats\, John Prine and Randy Newman\, and since arriving on the scene in 2021\, he’s become increasingly respected and recognized in the worlds of both folk and underground music\, and has played respected venues such as Club Passim in Cambridge\, MA.\nSong Links: https://open.spotify.com/track/10HZsfEwXhuz0OtXgub6dk…\nhttps://open.spotify.com/track/0AYP0BsocIYKc13mvJDMxW…
URL:https://holyokemedia.org/event/nma-singer-songwriter-showcase-men-with-a-jam-four-of-the-best-new-voices-in-w-new-england-music/
LOCATION:Holyoke Media\, 1 Court Plaza\, Holyoke\, MA\, 01040\, United States
ATTACH;FMTTYPE=image/jpeg:https://holyokemedia.org/wp-content/uploads/2023/08/nma-man-jam.jpg
END:VEVENT
BEGIN:VEVENT
DTSTART;TZID=America/Halifax:20230819T190000
DTEND;TZID=America/Halifax:20230819T210000
DTSTAMP:20260424T071205
CREATED:20230803T191005Z
LAST-MODIFIED:20230803T191055Z
UID:5685-1692471600-1692478800@holyokemedia.org
SUMMARY:Open Mic'd
DESCRIPTION:Join Attack Bear Press and Holyoke Media for a new live recorded monthly poetry night! Featuring Julio Cesar Diaz!\nJulio Cesar Diaz\, a Texas-born Centroamericano\, lives in Western Massachusetts. As a gay bilingual poet\, their work questions their own frameworks of (queer) family\, memory\, and hyper realistic dreams. Diaz was the recipient of the 2023 Mass MoCA Massachusetts Artist Fellowship\, 2022 Daniel and Merrily Glosband MFA Fellowship in Poetry and was a finalist for the 2022 James Hearst Poetry Prize. Diaz has received scholarships from the Bread Loaf Conferences as Translator and Writer\, Palm Beach Festival\, and the Juniper Institute. They serve as a reader for Frontier Poetry and editor for Poetry Currency. Their work can be found in The Cortland Review\, Pleiades Magazine\, North American Review\, Southword Journal\, and elsewhere.”\nShow starts at 7 PM\, Open Mic sign ups start at 6:45 PM. Poetry and spoken word welcome. Entry is free. Donations welcome!!\nThe show is recorded for broadcast on Holyoke Media.
URL:https://holyokemedia.org/event/open-micd/
LOCATION:Holyoke Media\, 1 Court Plaza\, Holyoke\, MA\, 01040\, United States
ATTACH;FMTTYPE=image/png:https://holyokemedia.org/wp-content/uploads/2023/08/open-micd-230819.png
END:VEVENT
BEGIN:VEVENT
DTSTART;TZID=America/Halifax:20230804T190000
DTEND;TZID=America/Halifax:20230804T210000
DTSTAMP:20260424T071205
CREATED:20230803T190035Z
LAST-MODIFIED:20230803T190610Z
UID:5679-1691175600-1691182800@holyokemedia.org
SUMMARY:A More Perfect Union: How the Insular Cases Prolonged Colonialism in Puerto Rico
DESCRIPTION:The Insular Cases have condemned to oblivion a definitive solution to the political status of Puerto Rico\, maintaining it as a colony of the United States for 125 years. As a prelude to the 250th anniversary of this American nation’s Declaration of Independence in 2026\, the National Endowment for the Humanities supports multiple initiatives for dialogue and reflection about this event. \nPuerto Rico Humanities Foundation and Ágora Cultural Architects invite you to the conference A more perfect union: how the Insular Cases prolonged colonialism in Puerto Rico. Award-winning historian and journalist Pedro Reina-Pérez will discuss the political\, socioeconomic and cultural repercussions Puerto Ricans suffer today due to decisions on the Insular Cases. \nAbout the speaker: \nPedro Reina Pérez is an award-winning historian and journalist specializing in contemporary Spanish Caribbean history\, and the director of the Harvard Puerto Rico Winter Institute. He is a Full Professor of Humanities\, and Arts and Cultural Agency and Administration at the University of Puerto Rico in Río Piedras. Known for his publications on culture and current affairs as well as his work on cultural entrepreneurship\, he is a contributing writer for El Nuevo Día (Puerto Rico)\, El País (Spain) and ReVista: Harvard Review of Latin America (US). Among his eleven books and edited volumes are Poeta del Paisaje (2013)\, El Arco Prodigioso (2009) and La Semilla Que Sembramos (2003). He has also worked on documentaries for TV and public radio such as Si Me Da El Tiempo (WIPR-TV 2003)\, Palés y la Rumba de Esquina (BPPR 2009) and Pau Casals: La Música Por La Paz (Televisión Española 2013). He has been awarded the Ricardo Alegría Medal (2010)\, the Bolívar Pagán Journalism Prize (2006) and the 1995 Public Humanities Fellowship (NEH)\, among others. He holds a BA in Latin American Studies from New York University (Cum Laude)\, and a PhD in History from the Centro de Estudios Avanzados de Puerto Rico y el Caribe. \nLearn more HERE
URL:https://holyokemedia.org/event/a-more-perfect-union-how-the-insular-cases-prolonged-colonialism-in-puerto-rico/
LOCATION:Holyoke Media\, 1 Court Plaza\, Holyoke\, MA\, 01040\, United States
ATTACH;FMTTYPE=image/jpeg:https://holyokemedia.org/wp-content/uploads/2023/08/more-perfect.jpg
END:VEVENT
BEGIN:VEVENT
DTSTART;TZID=UTC:20201216T183000
DTEND;TZID=UTC:20201216T200000
DTSTAMP:20260424T071205
CREATED:20201216T190516Z
LAST-MODIFIED:20201216T191022Z
UID:2872-1608143400-1608148800@holyokemedia.org
SUMMARY:Holyoke Media Board of Directors Meeting
DESCRIPTION:Meeting to be held via Zoom \nAgenda \n\nAcceptance of prior meeting minutes \nDirector’s Report\nOld business:\n\nCOVID response\nStrategic plan\n\n\nStanding items for discussion:\n\nBuilding\nHow do we combat systemic racism within our organization and in the wider community\nMembership check-in\nSee-Click-Fix audit\nPersonnel check-in\n\n\nNew business:\n\nBudget\nSick time bank\nSchedule next meeting – Wed.\, Jan 20\, 2021  at 6:30 p.m.\n\n\nReview in February: \n\nTranslation \n\n\nAdjourn
URL:https://holyokemedia.org/event/holyoke-media-board-of-directors-meeting-2/
LOCATION:Zoom\, MA\, United States
ATTACH;FMTTYPE=image/jpeg:https://holyokemedia.org/wp-content/uploads/2020/12/logo-450-x-200.jpg
END:VEVENT
BEGIN:VEVENT
DTSTART;TZID=UTC:20191017T183000
DTEND;TZID=UTC:20191017T200000
DTSTAMP:20260424T071205
CREATED:20190930T214037Z
LAST-MODIFIED:20190930T214037Z
UID:816-1571337000-1571342400@holyokemedia.org
SUMMARY:Holyoke Media Board of Directors Meeting
DESCRIPTION:This is a sample event.
URL:https://holyokemedia.org/event/holyoke-media-board-of-directors-meeting/
LOCATION:Holyoke Public Library\, 250 Chestnut St\, Holyoke\, MA\, 01040\, United States
ATTACH;FMTTYPE=image/png:https://holyokemedia.org/wp-content/uploads/2019/09/asset-3.png
END:VEVENT
BEGIN:VEVENT
DTSTART;TZID=UTC:20190809T080000
DTEND;TZID=UTC:20190814T170000
DTSTAMP:20260424T071205
CREATED:20190605T001020Z
LAST-MODIFIED:20190605T001020Z
UID:644-1565337600-1565802000@holyokemedia.org
SUMMARY:Sample Event 3
DESCRIPTION:This is a sample event.
URL:https://holyokemedia.org/event/sample-event-3/
LOCATION:MA
ATTACH;FMTTYPE=image/jpeg:https://holyokemedia.org/wp-content/uploads/2019/06/bicycle-557046_640.jpg
END:VEVENT
BEGIN:VEVENT
DTSTART;TZID=UTC:20190809T080000
DTEND;TZID=UTC:20190809T170000
DTSTAMP:20260424T071205
CREATED:20190531T220827Z
LAST-MODIFIED:20190531T220827Z
UID:615-1565337600-1565370000@holyokemedia.org
SUMMARY:Sample Event 2
DESCRIPTION:This is a sample event.
URL:https://holyokemedia.org/event/sample-event-2/
LOCATION:MA
ATTACH;FMTTYPE=image/jpeg:https://holyokemedia.org/wp-content/uploads/2018/12/holyoke-media-about-image-left.jpg
END:VEVENT
BEGIN:VEVENT
DTSTART;TZID=UTC:20190704T080000
DTEND;TZID=UTC:20190704T170000
DTSTAMP:20260424T071205
CREATED:20190531T214745Z
LAST-MODIFIED:20190605T001057Z
UID:611-1562227200-1562259600@holyokemedia.org
SUMMARY:Sample Event 1
DESCRIPTION:This is a sample event.
URL:https://holyokemedia.org/event/sample-event/
LOCATION:MA
ATTACH;FMTTYPE=image/jpeg:https://holyokemedia.org/wp-content/uploads/2018/09/swim_competition.jpg
END:VEVENT
BEGIN:VEVENT
DTSTART;VALUE=DATE:20190213
DTEND;VALUE=DATE:20190214
DTSTAMP:20260424T071205
CREATED:20181218T204857Z
LAST-MODIFIED:20181218T204857Z
UID:467-1550016000-1550102399@holyokemedia.org
SUMMARY:HM Board Meeting - February
DESCRIPTION:
URL:https://holyokemedia.org/event/hm-board-meeting-february/
LOCATION:MA
END:VEVENT
END:VCALENDAR