BEGIN:VCALENDAR
VERSION:2.0
PRODID:-//Holyoke Media - ECPv6.15.14//NONSGML v1.0//EN
CALSCALE:GREGORIAN
METHOD:PUBLISH
X-ORIGINAL-URL:https://holyokemedia.org
X-WR-CALDESC:Events for Holyoke Media
REFRESH-INTERVAL;VALUE=DURATION:PT1H
X-Robots-Tag:noindex
X-PUBLISHED-TTL:PT1H
BEGIN:VTIMEZONE
TZID:America/Halifax
BEGIN:DAYLIGHT
TZOFFSETFROM:-0400
TZOFFSETTO:-0300
TZNAME:ADT
DTSTART:20220313T060000
END:DAYLIGHT
BEGIN:STANDARD
TZOFFSETFROM:-0300
TZOFFSETTO:-0400
TZNAME:AST
DTSTART:20221106T050000
END:STANDARD
BEGIN:DAYLIGHT
TZOFFSETFROM:-0400
TZOFFSETTO:-0300
TZNAME:ADT
DTSTART:20230312T060000
END:DAYLIGHT
BEGIN:STANDARD
TZOFFSETFROM:-0300
TZOFFSETTO:-0400
TZNAME:AST
DTSTART:20231105T050000
END:STANDARD
BEGIN:DAYLIGHT
TZOFFSETFROM:-0400
TZOFFSETTO:-0300
TZNAME:ADT
DTSTART:20240310T060000
END:DAYLIGHT
BEGIN:STANDARD
TZOFFSETFROM:-0300
TZOFFSETTO:-0400
TZNAME:AST
DTSTART:20241103T050000
END:STANDARD
END:VTIMEZONE
BEGIN:VEVENT
DTSTART;TZID=America/Halifax:20231012T200000
DTEND;TZID=America/Halifax:20231012T230000
DTSTAMP:20260425T005250
CREATED:20230831T162409Z
LAST-MODIFIED:20230831T162409Z
UID:5869-1697140800-1697151600@holyokemedia.org
SUMMARY:mssv/Sky Furrows/Vex Party
DESCRIPTION:mssv aki tour 2023 https://mikebaggetta.bandcamp.com/music\nThe Punky power trio / dreamy experimental rockers (mike baggetta + stephen hodges + mike watt) return to Flywheel! \nSky Furrows https://skyfurrows.bandcamp.com/album/sky-furrows\nFronted by poet Karen Schoemer\, Albany NY’s Sky Furrows combine influences from krautrock\, NZ bands the Clean and the Verlaines\, the Minutemen\, Sylvia Plath and early Sonic Youth. Schoemer collaborates with bassist Mike Watt in Jaded Azurites\, and with Wreckless Eric & Amy Rigby. Eric Hardiman\, Mike Griffin and Phil Donnelly are members of psych rock unit Burnt Hills. \nVex Party https://vexparty.bandcamp.com/ Western MA loose-weave nonchalantcore
URL:https://holyokemedia.org/event/mssv-sky-furrows-vex-party/
LOCATION:Holyoke Media\, 1 Court Plaza\, Holyoke\, MA\, 01040\, United States
ATTACH;FMTTYPE=image/jpeg:https://holyokemedia.org/wp-content/uploads/2023/08/361092371_677701021070265_2056223790697729054_n.jpg
END:VEVENT
END:VCALENDAR