BEGIN:VCALENDAR
VERSION:2.0
PRODID:-//Holyoke Media - ECPv6.15.14//NONSGML v1.0//EN
CALSCALE:GREGORIAN
METHOD:PUBLISH
X-WR-CALNAME:Holyoke Media
X-ORIGINAL-URL:https://holyokemedia.org
X-WR-CALDESC:Events for Holyoke Media
REFRESH-INTERVAL;VALUE=DURATION:PT1H
X-Robots-Tag:noindex
X-PUBLISHED-TTL:PT1H
BEGIN:VTIMEZONE
TZID:America/Halifax
BEGIN:DAYLIGHT
TZOFFSETFROM:-0400
TZOFFSETTO:-0300
TZNAME:ADT
DTSTART:20230312T060000
END:DAYLIGHT
BEGIN:STANDARD
TZOFFSETFROM:-0300
TZOFFSETTO:-0400
TZNAME:AST
DTSTART:20231105T050000
END:STANDARD
BEGIN:DAYLIGHT
TZOFFSETFROM:-0400
TZOFFSETTO:-0300
TZNAME:ADT
DTSTART:20240310T060000
END:DAYLIGHT
BEGIN:STANDARD
TZOFFSETFROM:-0300
TZOFFSETTO:-0400
TZNAME:AST
DTSTART:20241103T050000
END:STANDARD
BEGIN:DAYLIGHT
TZOFFSETFROM:-0400
TZOFFSETTO:-0300
TZNAME:ADT
DTSTART:20250309T060000
END:DAYLIGHT
BEGIN:STANDARD
TZOFFSETFROM:-0300
TZOFFSETTO:-0400
TZNAME:AST
DTSTART:20251102T050000
END:STANDARD
END:VTIMEZONE
BEGIN:VEVENT
DTSTART;TZID=America/Halifax:20240808T190000
DTEND;TZID=America/Halifax:20240808T210000
DTSTAMP:20260424T111747
CREATED:20240718T175856Z
LAST-MODIFIED:20240719T220215Z
UID:7762-1723143600-1723150800@holyokemedia.org
SUMMARY:Open Stage Showcase
DESCRIPTION:Discover Exciting New & Established Western New England ArtistsAugust 8th 7:00 pm @Holyoke Media 1 Court Plaza Holyoke\, MA Free AdmissionSolo artists\, duos\, and trios performing their own original music.The New Music Alliance (501c(3) and Holyoke Media have partnered to present this monthly Showcase in the Brand New State-of-the-Art Holyoke Media Facility!Enjoy a great show in a superb acoustically-optimized listening room environment- Unique to this area!\nWho’s Appearing? (in order of appearance)* Jesse Brody Marlboro\, VT* Uncle Stash Pittsfield\, MA* Steve Rodgers Hamden\, CT (Featured)* Still Rivers Wethersfield\, CT* Bekka Dowland Westfield\, MA* Dave Wiedenfeld & The Unexpected Easthampton\, MA* Ian Galipeau Keene\, NH–Your Host: Mark SherrySponsored by Downtown Sounds
URL:https://holyokemedia.org/event/open-stage-with-new-music-alliance/
LOCATION:Holyoke Media\, 1 Court Plaza\, Holyoke\, MA\, 01040\, United States
CATEGORIES:music
ATTACH;FMTTYPE=image/png:https://holyokemedia.org/wp-content/uploads/2024/02/open-stage.png
END:VEVENT
BEGIN:VEVENT
DTSTART;TZID=America/Halifax:20240822T180000
DTEND;TZID=America/Halifax:20240822T210000
DTSTAMP:20260424T111747
CREATED:20240817T172413Z
LAST-MODIFIED:20240819T161357Z
UID:7994-1724349600-1724360400@holyokemedia.org
SUMMARY:Rinse Cycle
DESCRIPTION:Rinse cycle aims showcase the intersection of experimental\, noise\, and electronic music in honor of the musically diverse community of western mass. \nFeaturing: A.R. Sun – Sad Noise – Web Hex – Tempestade – Barbie Ai. \nFree and open to the publics\, donations welcome.
URL:https://holyokemedia.org/event/rinse-cycle/
LOCATION:Holyoke Media\, 1 Court Plaza\, Holyoke\, MA\, 01040\, United States
ATTACH;FMTTYPE=image/jpeg:https://holyokemedia.org/wp-content/uploads/2024/08/rinse-cycle-1.jpg
END:VEVENT
BEGIN:VEVENT
DTSTART;TZID=America/Halifax:20240824T180000
DTEND;TZID=America/Halifax:20240824T200000
DTSTAMP:20260424T111747
CREATED:20240718T181908Z
LAST-MODIFIED:20240719T214718Z
UID:7767-1724522400-1724529600@holyokemedia.org
SUMMARY:Foes of a Minimum Wage Guard
DESCRIPTION:SHOPLIFTING! INTERNAL AND EXTERNAL SHRINK! EMPLOYEE DISHONESTY! ORGANIZED RETAIL CRIME! RISING COSTS! \nTickets are now available for my upcoming solo play\, “Foes of a Minimum Wage Guard”! \nFor this semi-autobiographical tale\, I included some of my experience working in loss prevention and retail security. I always imagined what life would’ve been for me if I stayed in the field. \nIn this comedy story\, Steve Smelly\, an old complacent retail guard for a struggling department store in a dead mall\, is reassigned as a loss prevention officer. If he fails to stop rampant thefts\, he will be terminated by a grumpy district manager. \nThis 90-minute story of self discovery is a tribute to the forgotten department stores and malls that closed in recent years. I will be portraying 10 different characters and the conclusion to this ride will knock you out of your seats!
URL:https://holyokemedia.org/event/ken-harris-foes-of-a-minimum-wage-guard/
LOCATION:Holyoke Media\, 1 Court Plaza\, Holyoke\, MA\, 01040\, United States
CATEGORIES:theater
ATTACH;FMTTYPE=image/jpeg:https://holyokemedia.org/wp-content/uploads/2024/07/foes.jpg
END:VEVENT
BEGIN:VEVENT
DTSTART;TZID=America/Halifax:20240827T170000
DTEND;TZID=America/Halifax:20240827T190000
DTSTAMP:20260424T111747
CREATED:20240826T165146Z
LAST-MODIFIED:20240826T194321Z
UID:8077-1724778000-1724785200@holyokemedia.org
SUMMARY:Police Chief Search Public Listening Session
DESCRIPTION:The Search Committee tasked with evaluating candidates for the position of police chief and then forwarding their recommendations to the Mayor will hold a public listening session at Holyoke Media on Tuesday\, August 27\, from 5 to 7 p.m. \nPolice Chief David Pratt announced his retirement on May 3. After 31 years of service\, Chief Pratt will step down July 31. Holyoke Police Captain Isaias Cruz will serve as interim chief until a permanent chief is named. \nThe Search Committee recently engaged the services of Public Safety Consultants LLC to assist the team. Public Safety Consultants provides a range of specialized services\, including personnel management\, to municipal fire and police departments in Massachusetts. One of the firm’s principals\, Russ Stevens\, will participate in the listening session. He has 37 years of municipal and state law enforcement experience\, retiring as Chief of Staff to the Connecticut State Police Colonel. Stevens holds a Master’s Degree in Criminal Justice and a Bachelor’s in Communication. He is a graduate of the Federal Bureau of Investigations National Academy and is currently the President of the Massachusetts Police Accreditation Commission. \nAppointed to the Search Committee by Holyoke Mayor Joshua A. Garcia are Kelly Curran\, the City’s Personnel Director\, Ward 1 City Councilor Jenny Rivera (chair of the City Council’s Public Safety Committee)\, Holyoke Police Sargent Joseph Zurheide\, Narcotics Intervention Officer Detective Dorothy Beben\, Community Police Officer Josh Colon and citizen participants — all members of the Police Relations Committee — Axel Fontanez\, retired Holyoke Police Captain Alan Fletcher\, Quilana Rivera\, Colleen Chesmore\, Rosanna Lopez\, and Jennifer Keitt. \nWatch the live stream HERE
URL:https://holyokemedia.org/event/police-chief-search-public-listening-session/
LOCATION:Holyoke Media\, 1 Court Plaza\, Holyoke\, MA\, 01040\, United States
ATTACH;FMTTYPE=image/jpeg:https://holyokemedia.org/wp-content/uploads/2024/08/holyoke.jpg
ORGANIZER;CN="The City of Holyoke":MAILTO:fays@holyoke.org
END:VEVENT
BEGIN:VEVENT
DTSTART;TZID=America/Halifax:20240829T193000
DTEND;TZID=America/Halifax:20240829T220000
DTSTAMP:20260424T111747
CREATED:20240521T140440Z
LAST-MODIFIED:20240719T215050Z
UID:7465-1724959800-1724968800@holyokemedia.org
SUMMARY:Masters of Sonic Liberation
DESCRIPTION:A monthly live experimental music performance featuring musicians from across New England.
URL:https://holyokemedia.org/event/bonnie-kane-2/
LOCATION:Holyoke Media\, 1 Court Plaza\, Holyoke\, MA\, 01040\, United States
CATEGORIES:music
ATTACH;FMTTYPE=image/jpeg:https://holyokemedia.org/wp-content/uploads/2024/05/mosl.jpg
END:VEVENT
END:VCALENDAR