BEGIN:VCALENDAR
VERSION:2.0
PRODID:-//Holyoke Media - ECPv6.15.14//NONSGML v1.0//EN
CALSCALE:GREGORIAN
METHOD:PUBLISH
X-WR-CALNAME:Holyoke Media
X-ORIGINAL-URL:https://holyokemedia.org
X-WR-CALDESC:Events for Holyoke Media
REFRESH-INTERVAL;VALUE=DURATION:PT1H
X-Robots-Tag:noindex
X-PUBLISHED-TTL:PT1H
BEGIN:VTIMEZONE
TZID:America/Halifax
BEGIN:DAYLIGHT
TZOFFSETFROM:-0400
TZOFFSETTO:-0300
TZNAME:ADT
DTSTART:20230312T060000
END:DAYLIGHT
BEGIN:STANDARD
TZOFFSETFROM:-0300
TZOFFSETTO:-0400
TZNAME:AST
DTSTART:20231105T050000
END:STANDARD
BEGIN:DAYLIGHT
TZOFFSETFROM:-0400
TZOFFSETTO:-0300
TZNAME:ADT
DTSTART:20240310T060000
END:DAYLIGHT
BEGIN:STANDARD
TZOFFSETFROM:-0300
TZOFFSETTO:-0400
TZNAME:AST
DTSTART:20241103T050000
END:STANDARD
BEGIN:DAYLIGHT
TZOFFSETFROM:-0400
TZOFFSETTO:-0300
TZNAME:ADT
DTSTART:20250309T060000
END:DAYLIGHT
BEGIN:STANDARD
TZOFFSETFROM:-0300
TZOFFSETTO:-0400
TZNAME:AST
DTSTART:20251102T050000
END:STANDARD
END:VTIMEZONE
BEGIN:VEVENT
DTSTART;TZID=America/Halifax:20240904T171500
DTEND;TZID=America/Halifax:20240904T203000
DTSTAMP:20260424T095952
CREATED:20240822T165505Z
LAST-MODIFIED:20240822T170110Z
UID:8058-1725470100-1725481800@holyokemedia.org
SUMMARY:License Board
DESCRIPTION:The Regular Meeting of Holyoke’s License Board. \nAgenda forthcoming.
URL:https://holyokemedia.org/event/license-board/
LOCATION:Holyoke Media\, 1 Court Plaza\, Holyoke\, MA\, 01040\, United States
ATTACH;FMTTYPE=image/jpeg:https://holyokemedia.org/wp-content/uploads/2024/08/holyoke.jpg
ORGANIZER;CN="The City of Holyoke":MAILTO:fays@holyoke.org
END:VEVENT
BEGIN:VEVENT
DTSTART;TZID=America/Halifax:20240905T170000
DTEND;TZID=America/Halifax:20240906T200000
DTSTAMP:20260424T095952
CREATED:20240719T222115Z
LAST-MODIFIED:20240826T164846Z
UID:7785-1725555600-1725652800@holyokemedia.org
SUMMARY:Community Creatives
DESCRIPTION:Julissa and Ebbie set the stage for the public to share your poems\, your music! \nCOVID safety measures in place.
URL:https://holyokemedia.org/event/victory-theater-progress-update/
LOCATION:Holyoke Media\, 1 Court Plaza\, Holyoke\, MA\, 01040\, United States
ORGANIZER;CN="Massachusetts International Festival of the Arts":MAILTO:info@mifafestival.org
END:VEVENT
BEGIN:VEVENT
DTSTART;TZID=America/Halifax:20240905T180000
DTEND;TZID=America/Halifax:20240905T200000
DTSTAMP:20260424T095952
CREATED:20240830T180506Z
LAST-MODIFIED:20240830T181508Z
UID:8116-1725559200-1725566400@holyokemedia.org
SUMMARY:Building Community Through The Arts
DESCRIPTION:visual arts + poetry workshop \nWe hope you’re as well as can be during these Times. As the days get shorter and we move further into the election season\, we understand the importance of gathering community to remind each other that “we are each other’s magnitude…we are each other’s harvest” (Gwendolyn Brooks). We are offering two workshops and an open mic on Sept. 5 and 6.\n\nWe invite you to show up as you are and bring your grief\, your rage\, your joy and whatever you might be holding. These offerings are QTBIPOC centered and are all welcome! ✨💜\n\nThurs. Sept. 5\n6-8 pm visual arts + poetry workshop\n\nFri. Sept. 6\n5-6:30 pm workshop\n7-8 pm open mic and reading with Ebbie + Julissa\nSlots are 5 min. for the open mic.\n\nHolyoke Media\n1 Court Plaza\nHolyoke\, MA\n\nAs a practice of community care\, we are requiring well-fitted\, high filtration masks (KN-95 or higher). Extra masks provided at the door. We will have at least one air filter running in the space.\n\nSpace is limited so please RSVP by Tues. Sept. 3 if you can! Very limited spots available for walk-ins. Please share with your networks widely. Thank you!
URL:https://holyokemedia.org/event/8116/
LOCATION:Holyoke Media\, 1 Court Plaza\, Holyoke\, MA\, 01040\, United States
CATEGORIES:poetry,visual arts
ORGANIZER;CN="Building Community Through The Arts":MAILTO:blkgilltermagic@proton.me
END:VEVENT
BEGIN:VEVENT
DTSTART;TZID=America/Halifax:20240906T170000
DTEND;TZID=America/Halifax:20240906T183000
DTSTAMP:20260424T095952
CREATED:20240830T181002Z
LAST-MODIFIED:20240830T181002Z
UID:8123-1725642000-1725647400@holyokemedia.org
SUMMARY:Building Community Through The Arts
DESCRIPTION:We hope you’re as well as can be during these Times. As the days get shorter and we move further into the election season\, we understand the importance of gathering community to remind each other that “we are each other’s magnitude…we are each other’s harvest” (Gwendolyn Brooks). We are offering two workshops and an open mic on Sept. 5 and 6.\n\nWe invite you to show up as you are and bring your grief\, your rage\, your joy and whatever you might be holding. These offerings are QTBIPOC centered and are all welcome! ✨💜\n\nFri. Sept. 6\n5-6:30 pm workshop\n7-8 pm open mic and reading with Ebbie + Julissa\nSlots are 5 min. for the open mic.\n\nHolyoke Media\n1 Court Plaza\nHolyoke\, MA\n\nAs a practice of community care\, we are requiring well-fitted\, high filtration masks (KN-95 or higher). Extra masks provided at the door. We will have at least one air filter running in the space.\n\nSpace is limited so please RSVP by Tues. Sept. 3 if you can! Very limited spots available for walk-ins. Please share with your networks widely. Thank you!
URL:https://holyokemedia.org/event/building-community-through-the-arts/
LOCATION:Holyoke Media\, 1 Court Plaza\, Holyoke\, MA\, 01040\, United States
CATEGORIES:open mic,poetry,visual arts
ORGANIZER;CN="Building Community Through The Arts":MAILTO:blkgilltermagic@proton.me
END:VEVENT
BEGIN:VEVENT
DTSTART;TZID=America/Halifax:20240912T190000
DTEND;TZID=America/Halifax:20240912T220000
DTSTAMP:20260424T095952
CREATED:20240822T160251Z
LAST-MODIFIED:20240822T163713Z
UID:8035-1726167600-1726178400@holyokemedia.org
SUMMARY:Open Stage Showcase
DESCRIPTION:Discover Exciting New & Established Western New England ArtistsSeptember 12th 7:00 pm @Holyoke Media 1 Court Plaza Holyoke\, MA Free AdmissionSolo artists\, duos\, and trios performing their own original music.The New Music Alliance (501c(3) and Holyoke Media have partnered to present this monthly Showcase in the Brand New State-of-the-Art Holyoke Media Facility!Enjoy a great show in a superb acoustically-optimized listening room environment- Unique to this area!\nWho’s Appearing? (in order of appearance)\n* Zack Danziger Holyoke\, MA/Dummerston VT* Sasha K.A. Easthampton\, MA* Peregrine Road (Rachel Bell & Karen Axelrod) Brattleboro\, VT (Featured)* Erin Ash Sullivan Amherst/Harvard\, MA* D. A. Stern New Haven\, CT* Derrick O’Kanos Enfield\, CT\, Brattleboro\, VT* Jesse Brody (aka Jesse Lepkoff) Marlboro\, VT\n–Your Host: Mark SherrySponsored by Downtown Sounds
URL:https://holyokemedia.org/event/new-music-alliance-2/
LOCATION:Holyoke Media\, 1 Court Plaza\, Holyoke\, MA\, 01040\, United States
CATEGORIES:music
ATTACH;FMTTYPE=image/jpeg:https://holyokemedia.org/wp-content/uploads/2024/02/oss.jpg
END:VEVENT
BEGIN:VEVENT
DTSTART;TZID=America/Halifax:20240913T193000
DTEND;TZID=America/Halifax:20240913T220000
DTSTAMP:20260424T095952
CREATED:20240614T154456Z
LAST-MODIFIED:20240826T175126Z
UID:7647-1726255800-1726264800@holyokemedia.org
SUMMARY:A Benefit Show for the Sexual Minorities Archives
DESCRIPTION:Join us for a night of queer short films\, drag\, music and a RAFFLE with prizes from local artists & businesses to benefit our beloved Holyoke-based queer archives & the Muslim Alliance for Sexual & Gender Diversity (MASGD)! \nFlywheel presents\nA Benefit for the Sexual Minorities Archives featuring:\nJUANA B ONTOP\n(https://www.facebook.com/profile.php?id=100069342126907)\nPERENNIAL\n(https://perennialtheband.bandcamp.com/album/art-history)\nFEMININE AGGRESSION\n(https://feminineaggression.bandcamp.com/)\nSelected video shorts from SMA collection\nMore acts TBA\nHosted by: Lorelei Erisis\nHolyoke Media\n1 Court Plaza\, Holyoke\, MA \nDoors at 7:30pm / Show at 8pm \n$10-20+ suggested donation \nMask required & free at door to be more accessible to immunocompromised folks \nFlyer by Crystal Ford \nThis year marks the 50th anniversary of the Sexual Minorities Archives (SMA)\, one of the oldest and largest LGBTQI archives in the United States\, located in Holyoke\, MA. Now occupying most of an historic Victorian house affectionately called “The Pink Lady\,” the Archives has been stewarded for most of its five decades by curator Ben Power and many dedicated community volunteers and board directors.\nAs a community resource with a mission to remain outside of institutional/university ownership\, the SMA is currently struggling to make ends meet–to pay monthly utilities and basic operating costs. As a national treasure located right in our backyard\, we are hosting this benefit to help the SMA continue its work as a steward of 10\,000s of pieces of queer media and a community resources for researchers\, students\, activists and LGBTQI folks looking to understand more about the people and movements that make up their lineage. \nPlease visit the:\nSMA’s website (https://sexualminoritiesarchives.wordpress.com/) Facebook page (https://www.facebook.com/FollowtheSMA) and Instagram @sexualminoritiesarchives\n…for more info as well as episodes from the “Out of the Archives” podcast (https://www.buzzsprout.com/1005022).”
URL:https://holyokemedia.org/event/flywheel/
LOCATION:Holyoke Media\, 1 Court Plaza\, Holyoke\, MA\, 01040\, United States
ATTACH;FMTTYPE=image/jpeg:https://holyokemedia.org/wp-content/uploads/2024/06/smo-240913.jpg
END:VEVENT
BEGIN:VEVENT
DTSTART;TZID=America/Halifax:20240920T190000
DTEND;TZID=America/Halifax:20240920T220000
DTSTAMP:20260424T095952
CREATED:20240910T215754Z
LAST-MODIFIED:20240910T215754Z
UID:8184-1726858800-1726869600@holyokemedia.org
SUMMARY:Cinema on the Road Presents: Bomba Ancestral\, Metamorfosis\, Tito Matos: ahora sí
DESCRIPTION:We present three short films that tell the stories of Puerto Rican communities and their cultural advocacy efforts. Bomba Ancestral\, directed by filmmaker Eli Jacobs Fantauzzi\, honors the ancestors from whom we inherit this beautiful dance\, the Bomba. Metamorfosis\, created by youth from the town of Orocovis\, narrates the resilience of a community transforming an abandoned school into a community center. Tito Matos: Ahora Sí\, directed by Noelia Quintero\, tells the life story and legacy of Tito Matos\, a prominent plenero and cultural advocate. Following the screenings\, we will have a conversation with the audience. Join us for this dialogue and learn more about our Asociación de Documentalista de Puerto Rico.
URL:https://holyokemedia.org/event/cinema-on-the-road-presents-bomba-ancestral-metamorfosis-tito-matos-ahora-si/
LOCATION:Holyoke Media\, 1 Court Plaza\, Holyoke\, MA\, 01040\, United States
ATTACH;FMTTYPE=image/jpeg:https://holyokemedia.org/wp-content/uploads/2024/09/cinema-on-the-road-2.jpg
END:VEVENT
BEGIN:VEVENT
DTSTART;TZID=America/Halifax:20240922T070000
DTEND;TZID=America/Halifax:20240922T210000
DTSTAMP:20260424T095952
CREATED:20240826T184551Z
LAST-MODIFIED:20240826T184648Z
UID:8084-1726988400-1727038800@holyokemedia.org
SUMMARY:Loculus Presents - Sideways Door 3
DESCRIPTION:A weekend of ecstasies & escape routes an annual-ish festival celebrating multi-disciplinary performance\, process\, and practice \nHolyoke Media Performance: \nDoors 7pm – Show 7:30pm \n$15 – $30 sliding scale \nPerformances by: \nNat Baldwin LOCULUSArien Wilkerson / GLORYHOLE Bobby LaBitch + Kieran Lally / American Ballet Theatre \nFor more information on the other Sideways Door 3 events\, Please visit www.loculuscollective.com
URL:https://holyokemedia.org/event/loculous-presents-sideways-door-3/
LOCATION:Holyoke Media\, 1 Court Plaza\, Holyoke\, MA\, 01040\, United States
ATTACH;FMTTYPE=image/jpeg:https://holyokemedia.org/wp-content/uploads/2024/08/loculous.jpg
END:VEVENT
BEGIN:VEVENT
DTSTART;TZID=America/Halifax:20240926T193000
DTEND;TZID=America/Halifax:20240926T220000
DTSTAMP:20260424T095952
CREATED:20240926T172215Z
LAST-MODIFIED:20240926T172215Z
UID:8268-1727379000-1727388000@holyokemedia.org
SUMMARY:Masters of Sonic Liberation
DESCRIPTION:A monthly live experimental music performance featuring musicians from across New England.
URL:https://holyokemedia.org/event/masters-of-sonic-liberation-6/
LOCATION:Holyoke Media\, 1 Court Plaza\, Holyoke\, MA\, 01040\, United States
CATEGORIES:music
ATTACH;FMTTYPE=image/jpeg:https://holyokemedia.org/wp-content/uploads/2024/09/mosl-generic-v2.jpg
END:VEVENT
BEGIN:VEVENT
DTSTART;TZID=America/Halifax:20240927T193000
DTEND;TZID=America/Halifax:20240927T213000
DTSTAMP:20260424T095952
CREATED:20240822T160639Z
LAST-MODIFIED:20240822T164604Z
UID:8041-1727465400-1727472600@holyokemedia.org
SUMMARY:Valley Jazz Shares - Josh Sinton/Jeb Bishop Duo
DESCRIPTION:From the Valley Jazz Share’s website: \n“Called “varied and exciting\,” as well as “one of the most striking baritone saxophonists\,” Josh Sinton has been heard with some of the leading voices of Brooklyn’s creative music scene since arriving in 2004. He’s led bands as varied as Predicate\, musicianer and Ideal Bread as well as performing in the Nate Wooley Quintet\, Anthony Braxton’s Tricentric Orchestra and Darcy James Argue’s Secret Society. He’s studied at the AACM while living in Chicago in the nineties\, the New England Conservatory in Boston in the aughts and with friends and colleagues here in NYC. He performs regularly on his chosen instrument the baritone saxophone as well as on bass clarinet and alto flute. He also writes music (and words) when the occasion demands. He is proud to count Ingrid Laubrock\, Jonathan Finlayson\, Tom Rainey\, Jeremiah Cymerman and Guillermo Gregorio among his colleagues and looks forward to making music with many other musicians. \nJeb Bishop was born in Raleigh\, North Carolinawhere he began playing the trombone at the age of 10. He majored in classical trombone performance at Northwestern University from 1980-82\, studying with Frank Crisafulli.  At the same time\, he developed an interest in philosophy\, eventually majoring in the subject\, and spent 1984-85 studying philosophy at the Higher Institute of Philosophy of the Catholic University of Louvain\, Belgium. He pursue graduate studies in philosophy\, first at the University of Arizona\, then at Loyola University of Chicago (where he was awarded the Crown Fellowship in the Humanities). Returning to Chicago in 1992\, he completed his M.A. at Loyola in 1993. By this time he had already begun to make connections with improvising musicians in Chicago\, having joined the Flying Luttenbachers as bassist (later adding trombone) in late 1992. In late 1995\, Bishop joined the Vandermark 5 as one of its founding members\, and remained with the band through the end of 2004. During this period he also became associated with many other groups\, including the Peter Brötzmann Chicago Tentet\, School Days\, Ken Vandermark’s Territory Band\, Mars Williams’ Ayler XMass and his own Jeb Bishop Trio\, In 2012\, Bishop relocated to North Carolina\, where he made associations with musicians in the area including David Menestres\, Dan Ruccia\, Carrie Shull\, and Eugene Chadbourne\, and helped present and organize performances in the NC Triangle region. In 2015\, he relocated again to Boston\, and is now back in Chicago.”
URL:https://holyokemedia.org/event/valley-jazz-shares-2/
LOCATION:Holyoke Media\, 1 Court Plaza\, Holyoke\, MA\, 01040\, United States
CATEGORIES:music
ATTACH;FMTTYPE=image/jpeg:https://holyokemedia.org/wp-content/uploads/2024/08/promo-slide-copy.jpg
END:VEVENT
END:VCALENDAR