BEGIN:VCALENDAR
VERSION:2.0
PRODID:-//Holyoke Media - ECPv6.15.14//NONSGML v1.0//EN
CALSCALE:GREGORIAN
METHOD:PUBLISH
X-WR-CALNAME:Holyoke Media
X-ORIGINAL-URL:https://holyokemedia.org
X-WR-CALDESC:Events for Holyoke Media
REFRESH-INTERVAL;VALUE=DURATION:PT1H
X-Robots-Tag:noindex
X-PUBLISHED-TTL:PT1H
BEGIN:VTIMEZONE
TZID:America/Halifax
BEGIN:DAYLIGHT
TZOFFSETFROM:-0400
TZOFFSETTO:-0300
TZNAME:ADT
DTSTART:20230312T060000
END:DAYLIGHT
BEGIN:STANDARD
TZOFFSETFROM:-0300
TZOFFSETTO:-0400
TZNAME:AST
DTSTART:20231105T050000
END:STANDARD
BEGIN:DAYLIGHT
TZOFFSETFROM:-0400
TZOFFSETTO:-0300
TZNAME:ADT
DTSTART:20240310T060000
END:DAYLIGHT
BEGIN:STANDARD
TZOFFSETFROM:-0300
TZOFFSETTO:-0400
TZNAME:AST
DTSTART:20241103T050000
END:STANDARD
BEGIN:DAYLIGHT
TZOFFSETFROM:-0400
TZOFFSETTO:-0300
TZNAME:ADT
DTSTART:20250309T060000
END:DAYLIGHT
BEGIN:STANDARD
TZOFFSETFROM:-0300
TZOFFSETTO:-0400
TZNAME:AST
DTSTART:20251102T050000
END:STANDARD
END:VTIMEZONE
BEGIN:VEVENT
DTSTART;TZID=America/Halifax:20241010T190000
DTEND;TZID=America/Halifax:20241010T220000
DTSTAMP:20260424T082928
CREATED:20240822T165003Z
LAST-MODIFIED:20240924T153546Z
UID:8026-1728586800-1728597600@holyokemedia.org
SUMMARY:Open Stage Showcase by New Music Alliance
DESCRIPTION:A monthly concert by different singer-songwriters and musicians. \nThis month: \n\nAmerican Elm\nHeather McLarney\nSage King\nMarvin Jackson\nTobey Sol Laroche\nMartha Borne
URL:https://holyokemedia.org/event/open-micd-3/
LOCATION:Holyoke Media\, 1 Court Plaza\, Holyoke\, MA\, 01040\, United States
CATEGORIES:music
ATTACH;FMTTYPE=image/png:https://holyokemedia.org/wp-content/uploads/2024/08/screenshot-2024-09-24-at-11.31.23am.png
END:VEVENT
BEGIN:VEVENT
DTSTART;TZID=America/Halifax:20241022T190000
DTEND;TZID=America/Halifax:20241022T210000
DTSTAMP:20260424T082928
CREATED:20240924T155448Z
LAST-MODIFIED:20240924T155534Z
UID:8028-1729623600-1729630800@holyokemedia.org
SUMMARY:Omar Sosa’s 88 Well-Tuned Drums film screening
DESCRIPTION:Omar Sosa’s 88 Well-Tuned Drums\, the Award-Winning Documentary on the Life and Music of GRAMMY-Nominated Pianist and Composer Omar Sosa\, \nTrailer here.
URL:https://holyokemedia.org/event/omar-sosa-film-screening/
LOCATION:MA
CATEGORIES:music,screening
ATTACH;FMTTYPE=image/png:https://holyokemedia.org/wp-content/uploads/2024/09/screenshot-2024-09-24-at-11.52.56am.png
END:VEVENT
BEGIN:VEVENT
DTSTART;TZID=America/Halifax:20241024T190000
DTEND;TZID=America/Halifax:20241024T220000
DTSTAMP:20260424T082928
CREATED:20240822T160525Z
LAST-MODIFIED:20240924T155818Z
UID:8039-1729796400-1729807200@holyokemedia.org
SUMMARY:Masters of Sonic Liberation
DESCRIPTION:A monthly live experimental music performance featuring musicians from across New England.
URL:https://holyokemedia.org/event/masters-of-sonic-liberation-5/
LOCATION:Holyoke Media\, 1 Court Plaza\, Holyoke\, MA\, 01040\, United States
CATEGORIES:music
ATTACH;FMTTYPE=image/jpeg:https://holyokemedia.org/wp-content/uploads/2024/05/mosl.jpg
END:VEVENT
END:VCALENDAR