BEGIN:VCALENDAR
VERSION:2.0
PRODID:-//Holyoke Media - ECPv6.15.14//NONSGML v1.0//EN
CALSCALE:GREGORIAN
METHOD:PUBLISH
X-ORIGINAL-URL:https://holyokemedia.org
X-WR-CALDESC:Events for Holyoke Media
REFRESH-INTERVAL;VALUE=DURATION:PT1H
X-Robots-Tag:noindex
X-PUBLISHED-TTL:PT1H
BEGIN:VTIMEZONE
TZID:America/Halifax
BEGIN:DAYLIGHT
TZOFFSETFROM:-0400
TZOFFSETTO:-0300
TZNAME:ADT
DTSTART:20240310T060000
END:DAYLIGHT
BEGIN:STANDARD
TZOFFSETFROM:-0300
TZOFFSETTO:-0400
TZNAME:AST
DTSTART:20241103T050000
END:STANDARD
BEGIN:DAYLIGHT
TZOFFSETFROM:-0400
TZOFFSETTO:-0300
TZNAME:ADT
DTSTART:20250309T060000
END:DAYLIGHT
BEGIN:STANDARD
TZOFFSETFROM:-0300
TZOFFSETTO:-0400
TZNAME:AST
DTSTART:20251102T050000
END:STANDARD
BEGIN:DAYLIGHT
TZOFFSETFROM:-0400
TZOFFSETTO:-0300
TZNAME:ADT
DTSTART:20260308T060000
END:DAYLIGHT
BEGIN:STANDARD
TZOFFSETFROM:-0300
TZOFFSETTO:-0400
TZNAME:AST
DTSTART:20261101T050000
END:STANDARD
END:VTIMEZONE
BEGIN:VEVENT
DTSTART;TZID=America/Halifax:20250308T193000
DTEND;TZID=America/Halifax:20250308T213000
DTSTAMP:20260424T020544
CREATED:20250221T113722Z
LAST-MODIFIED:20250221T114340Z
UID:8887-1741462200-1741469400@holyokemedia.org
SUMMARY:Valley Jazz Shares – Aaron Shragge Whispering Worlds
DESCRIPTION:Whispering Worlds seamlessly integrates looping/live processing/sampling with the compelling melodic development found in Raga and the music of the shakuhachi. The quartet’s debut performance paid homage to Jon Hassell at Festival of New Trumpet Music in NY drawing praise from artistic director/trumpeter Dave Douglas: “Delving deeply into the sonic and spiritual worlds of Hassell’s work\, Aaron Shragge presents a deeply felt homage to the trumpeter and composer. This meditative set demonstrated focus and passion\, with beautiful and precise playing. A fantastic vision of what the trumpet can do and be…”  \nAaron Shragge has performed with Daniel Carter\, Ben Monder\, Dave Douglas\, William Parker\, Jon Gibson\, The Sam Roberts Band\, Akim Funk Buddha\, and Medeski Martin and Wood’s Billy Martin at such venues as Symphony Space\, Lincoln Center\, Kennedy Center and The Blue Note. Aaron is an active in the NYC improvised/creative music scene serving on the board of Festival of New Trumpet Music NY/Canada. Aaron’s unique instrument the Dragon Mouth Trumpet was designed to expand the trumpet’s melodic capacity and is the result of over a decade of studying both the Shakuhachi (Japanese\, Flute) as well as North Indian Vocals. Aaron Shragge’s current projects include a duo with Ben Monder\, a Jazz quintet that plays the music of Tom Waits and his continuing solo works for Dragon Mouth Trumpet/Shakuhachi.
URL:https://holyokemedia.org/event/valley-jazz-shares-aaron-shragge-whispering-worlds/
LOCATION:Holyoke Media\, 1 Court Plaza\, Holyoke\, MA\, 01040\, United States
ATTACH;FMTTYPE=image/jpeg:https://holyokemedia.org/wp-content/uploads/2025/02/whispering-worlds-.jpg
END:VEVENT
BEGIN:VEVENT
DTSTART;TZID=America/Halifax:20250314T180000
DTEND;TZID=America/Halifax:20250314T200000
DTSTAMP:20260424T020544
CREATED:20250221T221549Z
LAST-MODIFIED:20250221T223922Z
UID:8899-1741975200-1741982400@holyokemedia.org
SUMMARY:Odyssey Defiance Alliance
DESCRIPTION:Professional wrestling comes to Holyoke Media with Odyssey Defiance Alliance (ODA) – Defiance Unleashed! The debut show is set\, and we’re bringing you matchups that have NEVER been seen before! First-time clashes that will leave you on the edge of your seat. But let’s talk about THE match—the one that will probably steal the show—the MAIN EVENT… \n🔥 MAIN EVENT 🔥 \nFor the first time ever\, Michael Fain goes one-on-one with Fast Forward! This isn’t just a prediction—it’s a GUARANTEE. This match will be an absolute BANGER! You do NOT want to miss it! \nBe there to witness history!
URL:https://holyokemedia.org/event/odyssey-defiance-alliance/
LOCATION:Holyoke Media\, 1 Court Plaza\, Holyoke\, MA\, 01040\, United States
ATTACH;FMTTYPE=image/jpeg:https://holyokemedia.org/wp-content/uploads/2025/02/oda-2-v2.jpg
END:VEVENT
BEGIN:VEVENT
DTSTART;TZID=America/Halifax:20250320T190000
DTEND;TZID=America/Halifax:20250320T210000
DTSTAMP:20260424T020544
CREATED:20250319T003717Z
LAST-MODIFIED:20250319T003717Z
UID:9005-1742497200-1742504400@holyokemedia.org
SUMMARY:The Birds The Birds The Birds
DESCRIPTION:Silverthorne Theater Company presents a staged reading of playwright Harley Erdman’s new musical\, The birds the birds the birds\, with music by Gregory Boover. Directed by Gina Kaufmann\, with music dramaturgy & direction by Kyle Boatwright\, the reading will take place at 7:00pm on Thursday\, March 20th\, 2025 at Holyoke Media as the first event of Silverthorne’s 2025 Theater Thursdays reading series\, with a talkback to follow. Starring Tahmie Der\, Hia Ghosh\, Aaron Mancaniello\, and Sam Samuels. \nTickets are free\, and Silverthorne welcomes donations so that we can continue making our work accessible to all.
URL:https://holyokemedia.org/event/the-birds-the-birds-the-birds/
LOCATION:Holyoke Media\, 1 Court Plaza\, Holyoke\, MA\, 01040\, United States
ATTACH;FMTTYPE=image/jpeg:https://holyokemedia.org/wp-content/uploads/2025/03/silverthorne-birds.jpg
ORGANIZER;CN="Silverthorne Theater Company":MAILTO:silverthornetheater@gmail.com
END:VEVENT
BEGIN:VEVENT
DTSTART;TZID=America/Halifax:20250321T200000
DTEND;TZID=America/Halifax:20250321T220000
DTSTAMP:20260424T020544
CREATED:20250221T213558Z
LAST-MODIFIED:20250221T213558Z
UID:8891-1742587200-1742594400@holyokemedia.org
SUMMARY:Marian Pabón ¡Más fuerte que nunca!
DESCRIPTION:Marian Pabón is what is known as an “all-arounder.” She sings\, dances\, acts\, and writes drama and comedy for both theater and television. Her talent and charismatic personality have made her one of the most beloved artists by Puerto Ricans inside and outside the archipelago. After a 45-year career\, the last 10 writing dramatic monologues and comedy\, Marian faced a cancer diagnosis. During her recovery\, “Más fuerte que nunca” was born\, the stand-up with which she successfully returned to the stage and which she will take to the diaspora with the BoriCorridor Tour. In this powerful piece\, Marian uses humor to share her recent experiences as a patient and survivor. It is an invitation to laugh and reflect.
URL:https://holyokemedia.org/event/marian-pabon-mas-fuerte-que-nunca/
LOCATION:Holyoke Media\, 1 Court Plaza\, Holyoke\, MA\, 01040\, United States
ATTACH;FMTTYPE=image/jpeg:https://holyokemedia.org/wp-content/uploads/2025/02/marian-pabon-1000.jpg
END:VEVENT
BEGIN:VEVENT
DTSTART;TZID=America/Halifax:20250327T193000
DTEND;TZID=America/Halifax:20250327T220000
DTSTAMP:20260424T020544
CREATED:20250221T215242Z
LAST-MODIFIED:20250221T215242Z
UID:8895-1743103800-1743112800@holyokemedia.org
SUMMARY:Masters of Sonic Liberation
DESCRIPTION:A monthly live experimental music performance featuring musicians from across New England.
URL:https://holyokemedia.org/event/masters-of-sonic-liberation-7/
LOCATION:Holyoke Media\, 1 Court Plaza\, Holyoke\, MA\, 01040\, United States
CATEGORIES:music
ATTACH;FMTTYPE=image/jpeg:https://holyokemedia.org/wp-content/uploads/2024/09/mosl-generic-v2.jpg
END:VEVENT
END:VCALENDAR