BEGIN:VCALENDAR
VERSION:2.0
PRODID:-//Holyoke Media - ECPv6.15.14//NONSGML v1.0//EN
CALSCALE:GREGORIAN
METHOD:PUBLISH
X-ORIGINAL-URL:https://holyokemedia.org
X-WR-CALDESC:Events for Holyoke Media
REFRESH-INTERVAL;VALUE=DURATION:PT1H
X-Robots-Tag:noindex
X-PUBLISHED-TTL:PT1H
BEGIN:VTIMEZONE
TZID:America/Halifax
BEGIN:DAYLIGHT
TZOFFSETFROM:-0400
TZOFFSETTO:-0300
TZNAME:ADT
DTSTART:20240310T060000
END:DAYLIGHT
BEGIN:STANDARD
TZOFFSETFROM:-0300
TZOFFSETTO:-0400
TZNAME:AST
DTSTART:20241103T050000
END:STANDARD
BEGIN:DAYLIGHT
TZOFFSETFROM:-0400
TZOFFSETTO:-0300
TZNAME:ADT
DTSTART:20250309T060000
END:DAYLIGHT
BEGIN:STANDARD
TZOFFSETFROM:-0300
TZOFFSETTO:-0400
TZNAME:AST
DTSTART:20251102T050000
END:STANDARD
BEGIN:DAYLIGHT
TZOFFSETFROM:-0400
TZOFFSETTO:-0300
TZNAME:ADT
DTSTART:20260308T060000
END:DAYLIGHT
BEGIN:STANDARD
TZOFFSETFROM:-0300
TZOFFSETTO:-0400
TZNAME:AST
DTSTART:20261101T050000
END:STANDARD
END:VTIMEZONE
BEGIN:VEVENT
DTSTART;TZID=America/Halifax:20250411T190000
DTEND;TZID=America/Halifax:20250411T210000
DTSTAMP:20260424T010316
CREATED:20250319T005426Z
LAST-MODIFIED:20250320T191019Z
UID:9014-1744398000-1744405200@holyokemedia.org
SUMMARY:Odyssey Defiance Alliance
DESCRIPTION:ODA Presents: UNSTOPPABLE – April 11! Same time\, same place – 1 Court Plaza\, Holyoke – with another night of non-stop action and live TV broadcasting!  Doors open at 6 PM | Show starts at 7 PM   Tickets: • General Admission: $15 • Kids (5-15): $10 • Under 5: FREE This is another banger of a show that CAN’T be missed! Mark your calendars and be there for the action!
URL:https://holyokemedia.org/event/odyssey-defiance-alliance-2/
LOCATION:Holyoke Media\, 1 Court Plaza\, Holyoke\, MA\, 01040\, United States
ATTACH;FMTTYPE=image/jpeg:https://holyokemedia.org/wp-content/uploads/2025/03/oda-250320.jpg
END:VEVENT
BEGIN:VEVENT
DTSTART;TZID=America/Halifax:20250424T193000
DTEND;TZID=America/Halifax:20250424T220000
DTSTAMP:20260424T010316
CREATED:20250319T004207Z
LAST-MODIFIED:20250319T004207Z
UID:9009-1745523000-1745532000@holyokemedia.org
SUMMARY:Masters of Sonic Liberation
DESCRIPTION:A monthly live experimental music performance featuring musicians from across New England.
URL:https://holyokemedia.org/event/masters-of-sonic-liberation-8/
LOCATION:Holyoke Media\, 1 Court Plaza\, Holyoke\, MA\, 01040\, United States
ATTACH;FMTTYPE=image/jpeg:https://holyokemedia.org/wp-content/uploads/2024/09/mosl-generic-v2.jpg
END:VEVENT
BEGIN:VEVENT
DTSTART;TZID=America/Halifax:20250425T200000
DTEND;TZID=America/Halifax:20250425T210000
DTSTAMP:20260424T010316
CREATED:20250319T005059Z
LAST-MODIFIED:20250319T162908Z
UID:9011-1745611200-1745614800@holyokemedia.org
SUMMARY:FREE JAZZ PROJECT 2025 - 2001-2025 In A Flash @ the Quarter Century Mark
DESCRIPTION:A 46-minute live music set featuring video content generated with AI\, reflecting USA news events from 2001 to 2025. \nOn the quarter-century day\, 4.25.25\, join us for a live performance or watch the streaming show at 8 p.m.
URL:https://holyokemedia.org/event/free-jazz-project-2025-live/
LOCATION:Holyoke Media\, 1 Court Plaza\, Holyoke\, MA\, 01040\, United States
ATTACH;FMTTYPE=image/jpeg:https://holyokemedia.org/wp-content/uploads/2025/03/fjpintro-1k.jpg
END:VEVENT
BEGIN:VEVENT
DTSTART;TZID=America/Halifax:20250428T163000
DTEND;TZID=America/Halifax:20250428T180000
DTSTAMP:20260424T010316
CREATED:20250418T112655Z
LAST-MODIFIED:20250418T112655Z
UID:9217-1745857800-1745863200@holyokemedia.org
SUMMARY:School Committee Community Advisory Committee Meeting
DESCRIPTION:Agenda Forthcoming
URL:https://holyokemedia.org/event/school-committee-community-advisory-committee-meeting/
LOCATION:Holyoke Media\, 1 Court Plaza\, Holyoke\, MA\, 01040\, United States
ATTACH;FMTTYPE=image/jpeg:https://holyokemedia.org/wp-content/uploads/2024/08/holyoke.jpg
END:VEVENT
END:VCALENDAR