BEGIN:VCALENDAR
VERSION:2.0
PRODID:-//Holyoke Media - ECPv6.15.14//NONSGML v1.0//EN
CALSCALE:GREGORIAN
METHOD:PUBLISH
X-ORIGINAL-URL:https://holyokemedia.org
X-WR-CALDESC:Events for Holyoke Media
REFRESH-INTERVAL;VALUE=DURATION:PT1H
X-Robots-Tag:noindex
X-PUBLISHED-TTL:PT1H
BEGIN:VTIMEZONE
TZID:America/Halifax
BEGIN:DAYLIGHT
TZOFFSETFROM:-0400
TZOFFSETTO:-0300
TZNAME:ADT
DTSTART:20240310T060000
END:DAYLIGHT
BEGIN:STANDARD
TZOFFSETFROM:-0300
TZOFFSETTO:-0400
TZNAME:AST
DTSTART:20241103T050000
END:STANDARD
BEGIN:DAYLIGHT
TZOFFSETFROM:-0400
TZOFFSETTO:-0300
TZNAME:ADT
DTSTART:20250309T060000
END:DAYLIGHT
BEGIN:STANDARD
TZOFFSETFROM:-0300
TZOFFSETTO:-0400
TZNAME:AST
DTSTART:20251102T050000
END:STANDARD
BEGIN:DAYLIGHT
TZOFFSETFROM:-0400
TZOFFSETTO:-0300
TZNAME:ADT
DTSTART:20260308T060000
END:DAYLIGHT
BEGIN:STANDARD
TZOFFSETFROM:-0300
TZOFFSETTO:-0400
TZNAME:AST
DTSTART:20261101T050000
END:STANDARD
END:VTIMEZONE
BEGIN:VEVENT
DTSTART;TZID=America/Halifax:20250802T190000
DTEND;TZID=America/Halifax:20250802T230000
DTSTAMP:20260423T201202
CREATED:20250717T220423Z
LAST-MODIFIED:20250717T221601Z
UID:9741-1754161200-1754175600@holyokemedia.org
SUMMARY:Flywheel Arts Collective Presents - Adam Reid & The In-Betweens - Twin Foxes - Freezing Cold - Outro
DESCRIPTION:doors 7pm ; show 8pm  $10 \nADAM REID & THE IN-BETWEENS\n(indie/alternative from Western MA) \nTWIN FOXES\n(emo/shoegaze from Providence\, RI) \nFREEZING COLD\n(Indie/punk boasting members of Sleater-Kinney and Bridge and Tunnel from NYC) \nOUTRO\n(post punk/psych rock from Western MA)
URL:https://holyokemedia.org/event/flywheel-arts-collective-presents-adam-reid-the-in-betweens-twin-foxes-freezing-cold-outro/
LOCATION:Holyoke Media\, 1 Court Plaza\, Holyoke\, MA\, 01040\, United States
ATTACH;FMTTYPE=image/jpeg:https://holyokemedia.org/wp-content/uploads/2025/07/flywheel.jpg
END:VEVENT
BEGIN:VEVENT
DTSTART;TZID=America/Halifax:20250811T173000
DTEND;TZID=America/Halifax:20250811T190000
DTSTAMP:20260423T201202
CREATED:20250806T213820Z
LAST-MODIFIED:20250806T213820Z
UID:9757-1754933400-1754938800@holyokemedia.org
SUMMARY:Pretending Cowboy
DESCRIPTION:Join us for the premiere of Pretending Cowboy a film by local film maker Cameron Rist. \nDoors at 5:30\, Film starting at 6.
URL:https://holyokemedia.org/event/pretending-cowboy/
LOCATION:Holyoke Media\, 1 Court Plaza\, Holyoke\, MA\, 01040\, United States
ATTACH;FMTTYPE=image/jpeg:https://holyokemedia.org/wp-content/uploads/2025/08/pretending-cowboy.jpg
END:VEVENT
BEGIN:VEVENT
DTSTART;TZID=America/Halifax:20250822T190000
DTEND;TZID=America/Halifax:20250822T210000
DTSTAMP:20260423T201202
CREATED:20250806T215503Z
LAST-MODIFIED:20250806T215503Z
UID:9761-1755889200-1755896400@holyokemedia.org
SUMMARY:Metamorphosis: Echoes\, Mirrors\, and Portals of Life Unfolding
DESCRIPTION:Join coACT’s first QTBIPOC Cohort Original Show – “Metamorphosis: Echoes\, Mirrors\, and Portals of Life Unfolding” – A vulnerable reimagining of personal stories told through sweet\, humorous\, and bold ripples and reflections. Join Translate Gender’s trans & nonbinry community theatre collective\, coACT\, on their first QTBIPOC adult cohort’s original final show. Each year\, the participants write and create an original show based on their lived experiences\, stories\, and imagination! This year’s cohort\, made up of queer and trans Black\, Brown\, and Indigenous adults have collectively created a constellation of unwritten testimonies of transformation\, love\, grief\, self\, and pride. A giggle-worthy\, joyous\, and intimate showcase that will leave you with a heart filled with whimsy\, magic\, melancholy and interconnectedness. \nTickets are by sliding scale – all proceeds will support coACT as we continue to expand and grow! \nMasks are mandatory to attend the show. The venue has ramp accessibility and is ADA compliant. This includes having a lift to the second floor\, ramps into the building and the theater and all 5 all 5 bathrooms are handicapped accessible. \nLet’s support our communities together! \nThe coACT Community Theatre Collective supports trans\, nonbinary\, and gender-expansive youth and adults participants in creating a playful space to share personal and collective narratives\, explore identities\, and unite around shared lived experiences by integrating the magical tools of theatre. \nWe engage in acting\, theatre play\, dramatizing subjective narratives\, role-play\, improv\, and much more. coACT supports participants to gender self-determination\, self-expressions\, and non- judgmental exploration of multiple identities. Each year\, the collective write and create an original play\, musical\, or showcase based on their stories and shared lived experiences. \n++++++++++++++++++++++++++++++++++++++++++++++++++++++++++++++++++++++++++++++ \nTranslate Gender is a trans-led\, consensus-run non-profit organization. Supporting trans\, nonbinary\, and gender expansive community members to find our power and autonomy. \nFor more programs & community gathering: \nVisit Our Website \nInstagram
URL:https://holyokemedia.org/event/metamorphosis-echoes-mirrors-and-portals-of-life-unfolding/
LOCATION:Holyoke Media\, 1 Court Plaza\, Holyoke\, MA\, 01040\, United States
ATTACH;FMTTYPE=image/jpeg:https://holyokemedia.org/wp-content/uploads/2025/08/metamorphosis.jpg
END:VEVENT
BEGIN:VEVENT
DTSTART;TZID=America/Halifax:20250823T190000
DTEND;TZID=America/Halifax:20250823T210000
DTSTAMP:20260423T201202
CREATED:20250806T215607Z
LAST-MODIFIED:20250806T215607Z
UID:9765-1755975600-1755982800@holyokemedia.org
SUMMARY:Metamorphosis: Echoes\, Mirrors\, and Portals of Life Unfolding
DESCRIPTION:Join coACT’s first QTBIPOC Cohort Original Show – “Metamorphosis: Echoes\, Mirrors\, and Portals of Life Unfolding” – A vulnerable reimagining of personal stories told through sweet\, humorous\, and bold ripples and reflections. Join Translate Gender’s trans & nonbinry community theatre collective\, coACT\, on their first QTBIPOC adult cohort’s original final show. Each year\, the participants write and create an original show based on their lived experiences\, stories\, and imagination! This year’s cohort\, made up of queer and trans Black\, Brown\, and Indigenous adults have collectively created a constellation of unwritten testimonies of transformation\, love\, grief\, self\, and pride. A giggle-worthy\, joyous\, and intimate showcase that will leave you with a heart filled with whimsy\, magic\, melancholy and interconnectedness. \nTickets are by sliding scale – all proceeds will support coACT as we continue to expand and grow! \nMasks are mandatory to attend the show. The venue has ramp accessibility and is ADA compliant. This includes having a lift to the second floor\, ramps into the building and the theater and all 5 all 5 bathrooms are handicapped accessible. \nLet’s support our communities together! \nThe coACT Community Theatre Collective supports trans\, nonbinary\, and gender-expansive youth and adults participants in creating a playful space to share personal and collective narratives\, explore identities\, and unite around shared lived experiences by integrating the magical tools of theatre. \nWe engage in acting\, theatre play\, dramatizing subjective narratives\, role-play\, improv\, and much more. coACT supports participants to gender self-determination\, self-expressions\, and non- judgmental exploration of multiple identities. Each year\, the collective write and create an original play\, musical\, or showcase based on their stories and shared lived experiences. \n++++++++++++++++++++++++++++++++++++++++++++++++++++++++++++++++++++++++++++++ \nTranslate Gender is a trans-led\, consensus-run non-profit organization. Supporting trans\, nonbinary\, and gender expansive community members to find our power and autonomy. \nFor more programs & community gathering: \nVisit Our Website \nInstagram
URL:https://holyokemedia.org/event/metamorphosis-echoes-mirrors-and-portals-of-life-unfolding-2/
LOCATION:Holyoke Media\, 1 Court Plaza\, Holyoke\, MA\, 01040\, United States
ATTACH;FMTTYPE=image/jpeg:https://holyokemedia.org/wp-content/uploads/2025/08/metamorphosis.jpg
END:VEVENT
BEGIN:VEVENT
DTSTART;TZID=America/Halifax:20250828T193000
DTEND;TZID=America/Halifax:20250828T220000
DTSTAMP:20260423T201202
CREATED:20250717T215257Z
LAST-MODIFIED:20250717T215257Z
UID:9736-1756409400-1756418400@holyokemedia.org
SUMMARY:Masters of Sonic Liberation
DESCRIPTION:Masters of Sonic Liberation is a groundbreaking monthly music series aiming to captivate your senses and push the boundaries of sonic creation. Presented by Bonnie Kane and John Loggia of the KaneLoggiaHYPOTHESIS\, the series is a gateway to a universe of limitless musical exploration\, fueled by the expansive imagination of master musicians who have left the norms and abandoned the pop\, easy listening and pre-fab culture\, to continually investigate and create music of the greatest depth and personal expression that reaches directly into the algebra of the mind\, heart\, and soul. You are invited to witness wildly expressive improvisations\, scintillating in their immediacy\, an expression of the intersection of time and place known as the NOW. \nFrom improvisation and free jazz to noise\, avant-garde\, electronic manipulations\, and modern composition\, our lineup encompasses a wide spectrum of sonic expressions that defy conventional categorization. The unifying principle of these artists is their dedication to exploratory\, hypothetical\, investigational\, probing\, observational\, theoretical\, innovative\, inventive\, radical\, avant-garde\, anti-normative\, alternative\, fringe\, unfamiliar\, unorthodox\, unconventional\, unusual\, eccentric\, avant-garde\, avant-core\, free thinking\, way-out music. \nWhether it’s a solo performance that pushes the boundaries of traditional instruments\, or a dynamic ensemble blending a symphony of unconventional sounds\, we present encounters with the avant-garde that will leave you mesmerized. From hauntingly exquisite melodies to ear-bending dissonance\, Masters of Sonic Liberation offers an unique live experience with virtuoso artists\, where every note is a testament to audacious creativity. \nThe live shows are streamed at:\nhttps://bit.ly/SonicLiberation_facebook\nhttps://bit.ly/SonicLiberation_youtube \nPast performances can be found on Youtube. http://youtube.com/@mastersofsonicliberation \nMasters of Sonic Liberation: Where the intangible becomes tangible; where sound becomes magic.
URL:https://holyokemedia.org/event/masters-of-sonic-liberation-12/
LOCATION:Holyoke Media\, 1 Court Plaza\, Holyoke\, MA\, 01040\, United States
ATTACH;FMTTYPE=image/jpeg:https://holyokemedia.org/wp-content/uploads/2024/09/mosl-generic-v2.jpg
END:VEVENT
END:VCALENDAR