BEGIN:VCALENDAR
VERSION:2.0
PRODID:-//Holyoke Media - ECPv6.15.14//NONSGML v1.0//EN
CALSCALE:GREGORIAN
METHOD:PUBLISH
X-WR-CALNAME:Holyoke Media
X-ORIGINAL-URL:https://holyokemedia.org
X-WR-CALDESC:Events for Holyoke Media
REFRESH-INTERVAL;VALUE=DURATION:PT1H
X-Robots-Tag:noindex
X-PUBLISHED-TTL:PT1H
BEGIN:VTIMEZONE
TZID:America/Halifax
BEGIN:DAYLIGHT
TZOFFSETFROM:-0400
TZOFFSETTO:-0300
TZNAME:ADT
DTSTART:20240310T060000
END:DAYLIGHT
BEGIN:STANDARD
TZOFFSETFROM:-0300
TZOFFSETTO:-0400
TZNAME:AST
DTSTART:20241103T050000
END:STANDARD
BEGIN:DAYLIGHT
TZOFFSETFROM:-0400
TZOFFSETTO:-0300
TZNAME:ADT
DTSTART:20250309T060000
END:DAYLIGHT
BEGIN:STANDARD
TZOFFSETFROM:-0300
TZOFFSETTO:-0400
TZNAME:AST
DTSTART:20251102T050000
END:STANDARD
BEGIN:DAYLIGHT
TZOFFSETFROM:-0400
TZOFFSETTO:-0300
TZNAME:ADT
DTSTART:20260308T060000
END:DAYLIGHT
BEGIN:STANDARD
TZOFFSETFROM:-0300
TZOFFSETTO:-0400
TZNAME:AST
DTSTART:20261101T050000
END:STANDARD
END:VTIMEZONE
BEGIN:VEVENT
DTSTART;TZID=America/Halifax:20250918T170000
DTEND;TZID=America/Halifax:20250918T190000
DTSTAMP:20260423T185930
CREATED:20250911T185418Z
LAST-MODIFIED:20250911T185418Z
UID:9902-1758214800-1758222000@holyokemedia.org
SUMMARY:Holyoke Media Membership Mixer
DESCRIPTION:Join us for an evening of community\, connection\, and celebration at Holyoke Media’s Annual Membership Meeting & Party! \nThis once-a-year event is all about bringing our members together. It’s a chance to meet fellow members\, catch up with friends\, make new connections\, and share in the vibrant spirit of Holyoke Media. In addition to plenty of time to socialize\, members will also play an important role in shaping the future of our organization by electing new board members. \nWhat to Look Forward To: \nGreat Food from Holyoke Hummus Company \nCraft beverages from White Lion Brewing Company \nLive Music – Enjoy the sounds of the incredible Jonathan Suazo \nGood Company – A welcoming atmosphere filled with conversation\, laughter\, and community spirit \nWhether you’re a longtime member or brand new to Holyoke Media\, this is the perfect opportunity to come together\, celebrate what we’ve accomplished\, and look ahead to what’s next. \nPlease RSVP so we know you’ll be joining us. \nWe can’t wait to celebrate with you! \nThis event is exclusively for Holyoke Media members—but don’t worry! If you’re not a member yet\, you can join today at HolyokeMedia.org/membership/join/
URL:https://holyokemedia.org/event/holyoke-media-membership-mixer/
LOCATION:Holyoke Media\, 1 Court Plaza\, Holyoke\, MA\, 01040\, United States
ATTACH;FMTTYPE=image/jpeg:https://holyokemedia.org/wp-content/uploads/2025/09/memmix.jpg
END:VEVENT
BEGIN:VEVENT
DTSTART;TZID=America/Halifax:20250925T170000
DTEND;TZID=America/Halifax:20250925T190000
DTSTAMP:20260423T185930
CREATED:20250911T231656Z
LAST-MODIFIED:20250911T231844Z
UID:9920-1758819600-1758826800@holyokemedia.org
SUMMARY:Bienvenidos al Mundo de las Computadoras
DESCRIPTION:¡Comienza a usar la computadora en este curso amigable para principiantes\, diseñado para cualquiera que quiera ganar confianza con la tecnología! Aprenderás lo básico para usar una computadora\, incluyendo operaciones fundamentales\, cómo navegar en internet\, enviar y recibir correos electrónicos\, y mantener tu información segura en línea. La clase es práctica\, así que tendrás muchas oportunidades de poner en práctica lo que aprendes\, hacer preguntas y recibir apoyo individual. ¡No se necesita experiencia previa\, solo trae tu curiosidad y ganas de explorar el mundo digital!
URL:https://holyokemedia.org/event/bienvenidos-al-mundo-de-las-computadoras/
LOCATION:Holyoke Media\, 1 Court Plaza\, Holyoke\, MA\, 01040\, United States
ATTACH;FMTTYPE=image/jpeg:https://holyokemedia.org/wp-content/uploads/2025/09/dn-classes-esp.jpg
END:VEVENT
BEGIN:VEVENT
DTSTART;TZID=America/Halifax:20250925T193000
DTEND;TZID=America/Halifax:20250925T220000
DTSTAMP:20260423T185930
CREATED:20250911T232252Z
LAST-MODIFIED:20250911T232252Z
UID:9923-1758828600-1758837600@holyokemedia.org
SUMMARY:Masters of Sonic Liberation
DESCRIPTION:Masters of Sonic Liberation is a groundbreaking monthly music series aiming to captivate your senses and push the boundaries of sonic creation. Presented by Bonnie Kane and John Loggia of the KaneLoggiaHYPOTHESIS\, the series is a gateway to a universe of limitless musical exploration\, fueled by the expansive imagination of master musicians who have left the norms and abandoned the pop\, easy listening and pre-fab culture\, to continually investigate and create music of the greatest depth and personal expression that reaches directly into the algebra of the mind\, heart\, and soul. You are invited to witness wildly expressive improvisations\, scintillating in their immediacy\, an expression of the intersection of time and place known as the NOW. \nFrom improvisation and free jazz to noise\, avant-garde\, electronic manipulations\, and modern composition\, our lineup encompasses a wide spectrum of sonic expressions that defy conventional categorization. The unifying principle of these artists is their dedication to exploratory\, hypothetical\, investigational\, probing\, observational\, theoretical\, innovative\, inventive\, radical\, avant-garde\, anti-normative\, alternative\, fringe\, unfamiliar\, unorthodox\, unconventional\, unusual\, eccentric\, avant-garde\, avant-core\, free thinking\, way-out music. \nWhether it’s a solo performance that pushes the boundaries of traditional instruments\, or a dynamic ensemble blending a symphony of unconventional sounds\, we present encounters with the avant-garde that will leave you mesmerized. From hauntingly exquisite melodies to ear-bending dissonance\, Masters of Sonic Liberation offers an unique live experience with virtuoso artists\, where every note is a testament to audacious creativity. \nThe live shows are streamed at:\nhttps://bit.ly/SonicLiberation_facebook\nhttps://bit.ly/SonicLiberation_youtube \nPast performances can be found on Youtube. http://youtube.com/@mastersofsonicliberation \nMasters of Sonic Liberation: Where the intangible becomes tangible; where sound becomes magic.
URL:https://holyokemedia.org/event/masters-of-sonic-liberation-13/
LOCATION:Holyoke Media\, 1 Court Plaza\, Holyoke\, MA\, 01040\, United States
ATTACH;FMTTYPE=image/jpeg:https://holyokemedia.org/wp-content/uploads/2024/09/mosl-generic-v2.jpg
END:VEVENT
END:VCALENDAR