BEGIN:VCALENDAR
VERSION:2.0
PRODID:-//Holyoke Media - ECPv6.15.14//NONSGML v1.0//EN
CALSCALE:GREGORIAN
METHOD:PUBLISH
X-ORIGINAL-URL:https://holyokemedia.org
X-WR-CALDESC:Events for Holyoke Media
REFRESH-INTERVAL;VALUE=DURATION:PT1H
X-Robots-Tag:noindex
X-PUBLISHED-TTL:PT1H
BEGIN:VTIMEZONE
TZID:America/Halifax
BEGIN:DAYLIGHT
TZOFFSETFROM:-0400
TZOFFSETTO:-0300
TZNAME:ADT
DTSTART:20240310T060000
END:DAYLIGHT
BEGIN:STANDARD
TZOFFSETFROM:-0300
TZOFFSETTO:-0400
TZNAME:AST
DTSTART:20241103T050000
END:STANDARD
BEGIN:DAYLIGHT
TZOFFSETFROM:-0400
TZOFFSETTO:-0300
TZNAME:ADT
DTSTART:20250309T060000
END:DAYLIGHT
BEGIN:STANDARD
TZOFFSETFROM:-0300
TZOFFSETTO:-0400
TZNAME:AST
DTSTART:20251102T050000
END:STANDARD
BEGIN:DAYLIGHT
TZOFFSETFROM:-0400
TZOFFSETTO:-0300
TZNAME:ADT
DTSTART:20260308T060000
END:DAYLIGHT
BEGIN:STANDARD
TZOFFSETFROM:-0300
TZOFFSETTO:-0400
TZNAME:AST
DTSTART:20261101T050000
END:STANDARD
END:VTIMEZONE
BEGIN:VEVENT
DTSTART;TZID=America/Halifax:20251002T170000
DTEND;TZID=America/Halifax:20251002T190000
DTSTAMP:20260423T174414
CREATED:20250911T231211Z
LAST-MODIFIED:20250911T231211Z
UID:9917-1759424400-1759431600@holyokemedia.org
SUMMARY:Welcome to the World of Computers
DESCRIPTION:Get started with computers in this beginner-friendly course designed for anyone who wants to build confidence with technology. You’ll learn the fundamentals of using a computer\, including basic operations\, navigating the internet\, sending and receiving emails\, and staying safe online. The class is hands-on\, so you’ll have plenty of opportunities to practice what you learn\, ask questions\, and get individualized support. No prior experience is needed—just bring your curiosity and a willingness to explore the digital world.
URL:https://holyokemedia.org/event/welcome-to-the-world-of-computers/
LOCATION:Holyoke Media\, 1 Court Plaza\, Holyoke\, MA\, 01040\, United States
ATTACH;FMTTYPE=image/jpeg:https://holyokemedia.org/wp-content/uploads/2025/09/dn-classes.jpg
END:VEVENT
BEGIN:VEVENT
DTSTART;TZID=America/Halifax:20251003T193000
DTEND;TZID=America/Halifax:20251003T193000
DTSTAMP:20260423T174414
CREATED:20250926T220210Z
LAST-MODIFIED:20250926T220210Z
UID:9948-1759519800-1759519800@holyokemedia.org
SUMMARY:Tite Curet Alonso: Lírica y Poesía
DESCRIPTION:BoriCorridor presents Tite Curet Alonso: Lírica y Poesía \nThis presentation will be presented in SPANISH. \nAs the centenary of the influential composer Tite Curet Alonso is about to be celebrated\, the award-winning actor and playwright Josean Ortiz brings his story to life in the moving monologue “Tite Curet Alonso: Lyric and Poetry.” The anecdotal piece\, inspired by the book of the same name by folklorist Norma Salazar\, traces the cultural legacy of one of the greatest composers of bolero and salsa in the 20th century in Latin America of Puerto Rican origin. With an acting record as intense as its history is diverse\, Ortiz has stood out for bringing illustrious figures of the black race to the stage through pieces he has authored. In addition\, he has established a name for himself in New York theater as an actor\, director\, and producer.
URL:https://holyokemedia.org/event/tite-curet-alonso-lirica-y-poesia/
LOCATION:Holyoke Media\, 1 Court Plaza\, Holyoke\, MA\, 01040\, United States
ATTACH;FMTTYPE=image/jpeg:https://holyokemedia.org/wp-content/uploads/2025/09/agora-251003.jpg
END:VEVENT
BEGIN:VEVENT
DTSTART;TZID=America/Halifax:20251011T190000
DTEND;TZID=America/Halifax:20251011T230000
DTSTAMP:20260423T174414
CREATED:20250926T221214Z
LAST-MODIFIED:20250926T221214Z
UID:9951-1760209200-1760223600@holyokemedia.org
SUMMARY:Flywheel Arts Collective Presents - Bridge of Flowers\, Truculent\, Bent Light\, Mibble
DESCRIPTION:Saturday October 11th: Bridge of Flowers (esp-disk)\, Truculent (Phl)\, Bent Light\, Mibble. at Holyoke Media. 7pm. $10 suggested donation
URL:https://holyokemedia.org/event/flywheel-arts-collective-presents-bridge-of-flowers-truculent-bent-light-mibble/
LOCATION:Holyoke Media\, 1 Court Plaza\, Holyoke\, MA\, 01040\, United States
ATTACH;FMTTYPE=image/jpeg:https://holyokemedia.org/wp-content/uploads/2025/09/flywheel-251011.jpg
END:VEVENT
BEGIN:VEVENT
DTSTART;TZID=America/Halifax:20251016T170000
DTEND;TZID=America/Halifax:20251016T183000
DTSTAMP:20260423T174414
CREATED:20251009T215944Z
LAST-MODIFIED:20251009T215944Z
UID:10039-1760634000-1760639400@holyokemedia.org
SUMMARY:Google Tools for Everyday Life
DESCRIPTION:This beginner-level course is designed for adults aged 18 and older who want to build confidence and essential skills in using computers and the internet. Whether you’re returning to school\, preparing for the workforce\, or simply looking to improve your digital literacy\, this class offers a supportive environment to learn at your own pace. \nWhat You’ll Learn: \n\n\nTurning On/Off a Computer or DeviceLearn the proper steps to start up and shut down computers\, laptops\, and other common devices. \n\n\nUsing a Mouse or TrackpadPractice basic functions like clicking\, double-clicking\, scrolling\, and dragging using a mouse or touchpad. \n\n\nKeyboard ShortcutsDiscover helpful shortcuts that can save time and make tasks easier. \n\n\nUsing Web BrowsersGet comfortable opening and navigating internet browsers like Google Chrome or Microsoft Edge. \n\n\nConducting Searches & Navigating WebsitesLearn how to search for information\, explore websites\, and understand web addresses (URLs). \n\n\nCreating\, Sending & Replying to EmailsSet up an email account\, write messages\, attach files\, and manage your inbox effectively. \n\n\nUploading and Downloading FilesLearn how to move files to and from your device safely\, including attachments\, images\, and documents. \n\n\nUsing Basic Features in Google DocsCreate\, edit\, and share documents using Google Docs — a free and widely used online word processor. \n\n\nCreating and Managing Strong PasswordsUnderstand how to create secure passwords and keep your accounts safe. \n\n\nUsing Platforms Like Google MeetGet familiar with joining virtual meetings\, using your camera and microphone\, and navigating video call features. \n\n\nBy the end of this course\, you’ll be equipped with the digital skills needed for school\, work\, and everyday life. No prior computer experience is required — just a willingness to learn!
URL:https://holyokemedia.org/event/google-tools-for-everyday-life/
LOCATION:Holyoke Media\, 1 Court Plaza\, Holyoke\, MA\, 01040\, United States
ATTACH;FMTTYPE=image/jpeg:https://holyokemedia.org/wp-content/uploads/2025/09/dn-classes.jpg
END:VEVENT
BEGIN:VEVENT
DTSTART;TZID=America/Halifax:20251020T173000
DTEND;TZID=America/Halifax:20251020T193000
DTSTAMP:20260423T174414
CREATED:20251015T194050Z
LAST-MODIFIED:20251015T194050Z
UID:10089-1760981400-1760988600@holyokemedia.org
SUMMARY:Bilingual Candidate Forum - City Council Wards
DESCRIPTION:Join us for 4 Bilingual Candidate Forums over 3 nights. \nMonday October 20\, 2025 – City Council Ward candidates \n5:30-6:30 Wards 1\, 2\, 4 and 7 \n6:30 – 7:30 Wards 3\, 5\, and 6 \nOrganized by One Holyoke CDC
URL:https://holyokemedia.org/event/bilingual-candidate-forum-city-council-wards/
LOCATION:Holyoke Media\, 1 Court Plaza\, Holyoke\, MA\, 01040\, United States
ATTACH;FMTTYPE=image/jpeg:https://holyokemedia.org/wp-content/uploads/2025/10/wards-251020.jpg
END:VEVENT
BEGIN:VEVENT
DTSTART;TZID=America/Halifax:20251023T170000
DTEND;TZID=America/Halifax:20251023T183000
DTSTAMP:20260423T174414
CREATED:20251009T220132Z
LAST-MODIFIED:20251015T191745Z
UID:10041-1761238800-1761244200@holyokemedia.org
SUMMARY:Herramientas de Google para la Vida Diaria
DESCRIPTION:Este curso básico está diseñado para adultos de 18 años en adelante que quieran ganar confianza y aprender las habilidades esenciales para usar computadoras y el internet. Ya sea que estés regresando a estudiar\, preparándote para el mundo laboral o simplemente quieras mejorar tu alfabetización digital\, esta clase te ofrece un ambiente de apoyo donde puedes aprender a tu propio ritmo. \nLo que vas a aprender:\nEncender y Apagar una Computadora o DispositivoAprende los pasos correctos para prender y apagar computadoras\, laptops y otros dispositivos comunes. \nUsar el Ratón (Mouse) o el Panel Táctil (Trackpad)Practica funciones básicas como hacer clic\, doble clic\, mover el cursor y arrastrar objetos usando el ratón o el panel táctil. \nAtajos del TecladoConoce combinaciones de teclas que te ayudan a hacer tareas más rápido y fácil. \nUsar Navegadores de InternetFamiliarízate con cómo abrir y moverte dentro de navegadores como Google Chrome o Microsoft Edge. \nBuscar Información y Navegar Páginas WebAprende a buscar cosas en internet\, moverte entre páginas web y entender direcciones web (URLs). \nCrear\, Enviar y Contestar Correos ElectrónicosAbre una cuenta de email\, redacta mensajes\, adjunta archivos y organiza tu bandeja de entrada. \nSubir y Descargar ArchivosAprende a mover archivos desde y hacia tu dispositivo de manera segura\, incluyendo fotos\, documentos y otros adjuntos. \nUsar Funciones Básicas de Google DocsCrea\, edita y comparte documentos con Google Docs — un procesador de texto gratis y muy popular en línea. \nCrear y Manejar Contraseñas SegurasAprende cómo crear contraseñas fuertes y cómo proteger tus cuentas. \nUsar Plataformas como Google MeetFamiliarízate con cómo unirte a reuniones virtuales\, usar la cámara y el micrófono\, y moverte dentro de las funciones de videollamadas.
URL:https://holyokemedia.org/event/navigating-the-web/
LOCATION:Holyoke Media\, 1 Court Plaza\, Holyoke\, MA\, 01040\, United States
ATTACH;FMTTYPE=image/jpeg:https://holyokemedia.org/wp-content/uploads/2025/09/dn-classes-esp.jpg
END:VEVENT
BEGIN:VEVENT
DTSTART;TZID=America/Halifax:20251023T183000
DTEND;TZID=America/Halifax:20251023T193000
DTSTAMP:20260423T174414
CREATED:20251015T194249Z
LAST-MODIFIED:20251015T194249Z
UID:10093-1761244200-1761247800@holyokemedia.org
SUMMARY:Bilingual Candidate Forum - School Committee
DESCRIPTION:Join us for 4 Bilingual Candidate Forums over 3 nights. \nThursday\, October 23\, 2025 – School Committee Candidates \nOrganized by One Holyoke CDC
URL:https://holyokemedia.org/event/bilingual-candidate-forum-school-committee/
LOCATION:Holyoke Media\, 1 Court Plaza\, Holyoke\, MA\, 01040\, United States
ATTACH;FMTTYPE=image/jpeg:https://holyokemedia.org/wp-content/uploads/2025/10/251021-sc.jpg
END:VEVENT
BEGIN:VEVENT
DTSTART;TZID=America/Halifax:20251024T173000
DTEND;TZID=America/Halifax:20251024T190000
DTSTAMP:20260423T174414
CREATED:20251015T194800Z
LAST-MODIFIED:20251016T233304Z
UID:10097-1761327000-1761332400@holyokemedia.org
SUMMARY:Bilingual Candidate Forum - City Council at Large
DESCRIPTION:Join us for 4 Bilingual Candidate Forums over 3 nights. \nFriday\, October 24\, 2025 – City Council Candidates at Large \nOrganized by One Holyoke CDC
URL:https://holyokemedia.org/event/bilingual-candidate-forum-city-council-at-large/
LOCATION:Holyoke Media\, 1 Court Plaza\, Holyoke\, MA\, 01040\, United States
ATTACH;FMTTYPE=image/jpeg:https://holyokemedia.org/wp-content/uploads/2025/10/251024-cal.jpg
END:VEVENT
BEGIN:VEVENT
DTSTART;TZID=America/Halifax:20251025T190000
DTEND;TZID=America/Halifax:20251025T230000
DTSTAMP:20260423T174414
CREATED:20250926T222244Z
LAST-MODIFIED:20251015T153531Z
UID:9954-1761418800-1761433200@holyokemedia.org
SUMMARY:Couchboy - the Frost Heaves and Hales - Mass Resistor
DESCRIPTION:Couchboy\, The Frost Heaves and Hales and Mass Resistor Live at Holyoke Media.  Doors at 6:30\, music at 7.  $5 cover at the door NOTAFLOF.
URL:https://holyokemedia.org/event/couchboy-the-frost-heaves-and-hales-mass-resistor/
LOCATION:Holyoke Media\, 1 Court Plaza\, Holyoke\, MA\, 01040\, United States
ATTACH;FMTTYPE=image/jpeg:https://holyokemedia.org/wp-content/uploads/2025/09/mass-resistor-251025.jpg
END:VEVENT
BEGIN:VEVENT
DTSTART;TZID=America/Halifax:20251030T193000
DTEND;TZID=America/Halifax:20251030T220000
DTSTAMP:20260423T174414
CREATED:20250926T222356Z
LAST-MODIFIED:20250926T222356Z
UID:9957-1761852600-1761861600@holyokemedia.org
SUMMARY:Masters of Sonic Liberation
DESCRIPTION:Masters of Sonic Liberation is a groundbreaking monthly music series aiming to captivate your senses and push the boundaries of sonic creation. Presented by Bonnie Kane and John Loggia of the KaneLoggiaHYPOTHESIS\, the series is a gateway to a universe of limitless musical exploration\, fueled by the expansive imagination of master musicians who have left the norms and abandoned the pop\, easy listening and pre-fab culture\, to continually investigate and create music of the greatest depth and personal expression that reaches directly into the algebra of the mind\, heart\, and soul. You are invited to witness wildly expressive improvisations\, scintillating in their immediacy\, an expression of the intersection of time and place known as the NOW. \nFrom improvisation and free jazz to noise\, avant-garde\, electronic manipulations\, and modern composition\, our lineup encompasses a wide spectrum of sonic expressions that defy conventional categorization. The unifying principle of these artists is their dedication to exploratory\, hypothetical\, investigational\, probing\, observational\, theoretical\, innovative\, inventive\, radical\, avant-garde\, anti-normative\, alternative\, fringe\, unfamiliar\, unorthodox\, unconventional\, unusual\, eccentric\, avant-garde\, avant-core\, free thinking\, way-out music. \nWhether it’s a solo performance that pushes the boundaries of traditional instruments\, or a dynamic ensemble blending a symphony of unconventional sounds\, we present encounters with the avant-garde that will leave you mesmerized. From hauntingly exquisite melodies to ear-bending dissonance\, Masters of Sonic Liberation offers an unique live experience with virtuoso artists\, where every note is a testament to audacious creativity. \nThe live shows are streamed at:\nhttps://bit.ly/SonicLiberation_facebook\nhttps://bit.ly/SonicLiberation_youtube \nPast performances can be found on Youtube. http://youtube.com/@mastersofsonicliberation \nMasters of Sonic Liberation: Where the intangible becomes tangible; where sound becomes magic.
URL:https://holyokemedia.org/event/masters-of-sonic-liberation-14/
LOCATION:Holyoke Media\, 1 Court Plaza\, Holyoke\, MA\, 01040\, United States
ATTACH;FMTTYPE=image/jpeg:https://holyokemedia.org/wp-content/uploads/2024/09/mosl-generic-v2.jpg
END:VEVENT
END:VCALENDAR